BEGIN:VCALENDAR
VERSION:2.0
PRODID:-//Grandwood Park Park District - ECPv6.15.19//NONSGML v1.0//EN
CALSCALE:GREGORIAN
METHOD:PUBLISH
X-WR-CALNAME:Grandwood Park Park District
X-ORIGINAL-URL:https://www.grandwoodpark.net
X-WR-CALDESC:Events for Grandwood Park Park District
REFRESH-INTERVAL;VALUE=DURATION:PT1H
X-Robots-Tag:noindex
X-PUBLISHED-TTL:PT1H
BEGIN:VTIMEZONE
TZID:America/Chicago
BEGIN:DAYLIGHT
TZOFFSETFROM:-0600
TZOFFSETTO:-0500
TZNAME:CDT
DTSTART:20250309T080000
END:DAYLIGHT
BEGIN:STANDARD
TZOFFSETFROM:-0500
TZOFFSETTO:-0600
TZNAME:CST
DTSTART:20251102T070000
END:STANDARD
BEGIN:DAYLIGHT
TZOFFSETFROM:-0600
TZOFFSETTO:-0500
TZNAME:CDT
DTSTART:20260308T080000
END:DAYLIGHT
BEGIN:STANDARD
TZOFFSETFROM:-0500
TZOFFSETTO:-0600
TZNAME:CST
DTSTART:20261101T070000
END:STANDARD
BEGIN:DAYLIGHT
TZOFFSETFROM:-0600
TZOFFSETTO:-0500
TZNAME:CDT
DTSTART:20270314T080000
END:DAYLIGHT
BEGIN:STANDARD
TZOFFSETFROM:-0500
TZOFFSETTO:-0600
TZNAME:CST
DTSTART:20271107T070000
END:STANDARD
END:VTIMEZONE
BEGIN:VEVENT
DTSTART;TZID=America/Chicago:20260317T190000
DTEND;TZID=America/Chicago:20260317T210000
DTSTAMP:20260419T181254
CREATED:20260127T203635Z
LAST-MODIFIED:20260127T203635Z
UID:10002631-1773774000-1773781200@www.grandwoodpark.net
SUMMARY:Lake County Coyotes Rugby - Hutchins Athletic Field
DESCRIPTION:Lake County Coyotes Rugby practice
URL:https://www.grandwoodpark.net/calendar/lake-county-coyotes-rugby-hutchins-athletic-field/2026-03-17/
LOCATION:Hutchins Athletic Field\, 36753 N. Hutchins Rd.\, Gurnee\, IL\, United States
CATEGORIES:Rentals/Outside Facility
GEO:42.397312;-87.9857789
X-APPLE-STRUCTURED-LOCATION;VALUE=URI;X-ADDRESS=Hutchins Athletic Field 36753 N. Hutchins Rd. Gurnee IL United States;X-APPLE-RADIUS=500;X-TITLE=36753 N. Hutchins Rd.:geo:-87.9857789,42.397312
END:VEVENT
BEGIN:VEVENT
DTSTART;TZID=America/Chicago:20260319T190000
DTEND;TZID=America/Chicago:20260319T210000
DTSTAMP:20260419T181254
CREATED:20260127T203635Z
LAST-MODIFIED:20260127T203635Z
UID:10002632-1773946800-1773954000@www.grandwoodpark.net
SUMMARY:Lake County Coyotes Rugby - Hutchins Athletic Field
DESCRIPTION:Lake County Coyotes Rugby practice
URL:https://www.grandwoodpark.net/calendar/lake-county-coyotes-rugby-hutchins-athletic-field/2026-03-19/
LOCATION:Hutchins Athletic Field\, 36753 N. Hutchins Rd.\, Gurnee\, IL\, United States
CATEGORIES:Rentals/Outside Facility
GEO:42.397312;-87.9857789
X-APPLE-STRUCTURED-LOCATION;VALUE=URI;X-ADDRESS=Hutchins Athletic Field 36753 N. Hutchins Rd. Gurnee IL United States;X-APPLE-RADIUS=500;X-TITLE=36753 N. Hutchins Rd.:geo:-87.9857789,42.397312
END:VEVENT
BEGIN:VEVENT
DTSTART;TZID=America/Chicago:20260324T180000
DTEND;TZID=America/Chicago:20260324T190000
DTSTAMP:20260419T181254
CREATED:20260127T203453Z
LAST-MODIFIED:20260127T203453Z
UID:10002615-1774375200-1774378800@www.grandwoodpark.net
SUMMARY:Lake County Lady Coyotes Rugby - Hutchins Athletic Field
DESCRIPTION:Lake County Lady Coyotes Rugby practice
URL:https://www.grandwoodpark.net/calendar/lake-county-lady-coyotes-rugby-hutchins-athletic-field/2026-03-24/
LOCATION:Hutchins Athletic Field\, 36753 N. Hutchins Rd.\, Gurnee\, IL\, United States
CATEGORIES:Rentals/Outside Facility
GEO:42.397312;-87.9857789
X-APPLE-STRUCTURED-LOCATION;VALUE=URI;X-ADDRESS=Hutchins Athletic Field 36753 N. Hutchins Rd. Gurnee IL United States;X-APPLE-RADIUS=500;X-TITLE=36753 N. Hutchins Rd.:geo:-87.9857789,42.397312
END:VEVENT
BEGIN:VEVENT
DTSTART;TZID=America/Chicago:20260324T190000
DTEND;TZID=America/Chicago:20260324T210000
DTSTAMP:20260419T181254
CREATED:20260127T203635Z
LAST-MODIFIED:20260127T203635Z
UID:10002633-1774378800-1774386000@www.grandwoodpark.net
SUMMARY:Lake County Coyotes Rugby - Hutchins Athletic Field
DESCRIPTION:Lake County Coyotes Rugby practice
URL:https://www.grandwoodpark.net/calendar/lake-county-coyotes-rugby-hutchins-athletic-field/2026-03-24/
LOCATION:Hutchins Athletic Field\, 36753 N. Hutchins Rd.\, Gurnee\, IL\, United States
CATEGORIES:Rentals/Outside Facility
GEO:42.397312;-87.9857789
X-APPLE-STRUCTURED-LOCATION;VALUE=URI;X-ADDRESS=Hutchins Athletic Field 36753 N. Hutchins Rd. Gurnee IL United States;X-APPLE-RADIUS=500;X-TITLE=36753 N. Hutchins Rd.:geo:-87.9857789,42.397312
END:VEVENT
BEGIN:VEVENT
DTSTART;TZID=America/Chicago:20260326T180000
DTEND;TZID=America/Chicago:20260326T190000
DTSTAMP:20260419T181254
CREATED:20260127T203453Z
LAST-MODIFIED:20260127T203453Z
UID:10002616-1774548000-1774551600@www.grandwoodpark.net
SUMMARY:Lake County Lady Coyotes Rugby - Hutchins Athletic Field
DESCRIPTION:Lake County Lady Coyotes Rugby practice
URL:https://www.grandwoodpark.net/calendar/lake-county-lady-coyotes-rugby-hutchins-athletic-field/2026-03-26/
LOCATION:Hutchins Athletic Field\, 36753 N. Hutchins Rd.\, Gurnee\, IL\, United States
CATEGORIES:Rentals/Outside Facility
GEO:42.397312;-87.9857789
X-APPLE-STRUCTURED-LOCATION;VALUE=URI;X-ADDRESS=Hutchins Athletic Field 36753 N. Hutchins Rd. Gurnee IL United States;X-APPLE-RADIUS=500;X-TITLE=36753 N. Hutchins Rd.:geo:-87.9857789,42.397312
END:VEVENT
BEGIN:VEVENT
DTSTART;TZID=America/Chicago:20260326T190000
DTEND;TZID=America/Chicago:20260326T210000
DTSTAMP:20260419T181254
CREATED:20260127T203635Z
LAST-MODIFIED:20260127T203635Z
UID:10002634-1774551600-1774558800@www.grandwoodpark.net
SUMMARY:Lake County Coyotes Rugby - Hutchins Athletic Field
DESCRIPTION:Lake County Coyotes Rugby practice
URL:https://www.grandwoodpark.net/calendar/lake-county-coyotes-rugby-hutchins-athletic-field/2026-03-26/
LOCATION:Hutchins Athletic Field\, 36753 N. Hutchins Rd.\, Gurnee\, IL\, United States
CATEGORIES:Rentals/Outside Facility
GEO:42.397312;-87.9857789
X-APPLE-STRUCTURED-LOCATION;VALUE=URI;X-ADDRESS=Hutchins Athletic Field 36753 N. Hutchins Rd. Gurnee IL United States;X-APPLE-RADIUS=500;X-TITLE=36753 N. Hutchins Rd.:geo:-87.9857789,42.397312
END:VEVENT
BEGIN:VEVENT
DTSTART;TZID=America/Chicago:20260328T130000
DTEND;TZID=America/Chicago:20260328T150000
DTSTAMP:20260419T181254
CREATED:20260127T204006Z
LAST-MODIFIED:20260127T204006Z
UID:10002651-1774702800-1774710000@www.grandwoodpark.net
SUMMARY:Lake County Coyotes Rugby - Hutchins Athletic Field
DESCRIPTION:Lake County Coyotes Rugby match
URL:https://www.grandwoodpark.net/calendar/lake-county-coyotes-rugby-hutchins-athletic-field-2/2026-03-28/
LOCATION:Hutchins Athletic Field\, 36753 N. Hutchins Rd.\, Gurnee\, IL\, United States
CATEGORIES:Rentals/Outside Facility
GEO:42.397312;-87.9857789
X-APPLE-STRUCTURED-LOCATION;VALUE=URI;X-ADDRESS=Hutchins Athletic Field 36753 N. Hutchins Rd. Gurnee IL United States;X-APPLE-RADIUS=500;X-TITLE=36753 N. Hutchins Rd.:geo:-87.9857789,42.397312
END:VEVENT
BEGIN:VEVENT
DTSTART;TZID=America/Chicago:20260330T170000
DTEND;TZID=America/Chicago:20260330T203000
DTSTAMP:20260419T181254
CREATED:20260304T203457Z
LAST-MODIFIED:20260304T203457Z
UID:10002666-1774890000-1774902600@www.grandwoodpark.net
SUMMARY:LASC - Hutchins Athletic Field
DESCRIPTION:Lindenhurst Area Soccer Club
URL:https://www.grandwoodpark.net/calendar/lasc-hutchins-athletic-field-2/2026-03-30/
LOCATION:Hutchins Athletic Field\, 36753 N. Hutchins Rd.\, Gurnee\, IL\, United States
CATEGORIES:Rentals/Outside Facility
GEO:42.397312;-87.9857789
X-APPLE-STRUCTURED-LOCATION;VALUE=URI;X-ADDRESS=Hutchins Athletic Field 36753 N. Hutchins Rd. Gurnee IL United States;X-APPLE-RADIUS=500;X-TITLE=36753 N. Hutchins Rd.:geo:-87.9857789,42.397312
END:VEVENT
BEGIN:VEVENT
DTSTART;TZID=America/Chicago:20260331T180000
DTEND;TZID=America/Chicago:20260331T190000
DTSTAMP:20260419T181254
CREATED:20260127T203453Z
LAST-MODIFIED:20260127T203453Z
UID:10002617-1774980000-1774983600@www.grandwoodpark.net
SUMMARY:Lake County Lady Coyotes Rugby - Hutchins Athletic Field
DESCRIPTION:Lake County Lady Coyotes Rugby practice
URL:https://www.grandwoodpark.net/calendar/lake-county-lady-coyotes-rugby-hutchins-athletic-field/2026-03-31/
LOCATION:Hutchins Athletic Field\, 36753 N. Hutchins Rd.\, Gurnee\, IL\, United States
CATEGORIES:Rentals/Outside Facility
GEO:42.397312;-87.9857789
X-APPLE-STRUCTURED-LOCATION;VALUE=URI;X-ADDRESS=Hutchins Athletic Field 36753 N. Hutchins Rd. Gurnee IL United States;X-APPLE-RADIUS=500;X-TITLE=36753 N. Hutchins Rd.:geo:-87.9857789,42.397312
END:VEVENT
BEGIN:VEVENT
DTSTART;TZID=America/Chicago:20260331T190000
DTEND;TZID=America/Chicago:20260331T210000
DTSTAMP:20260419T181254
CREATED:20260127T203635Z
LAST-MODIFIED:20260127T203635Z
UID:10002635-1774983600-1774990800@www.grandwoodpark.net
SUMMARY:Lake County Coyotes Rugby - Hutchins Athletic Field
DESCRIPTION:Lake County Coyotes Rugby practice
URL:https://www.grandwoodpark.net/calendar/lake-county-coyotes-rugby-hutchins-athletic-field/2026-03-31/
LOCATION:Hutchins Athletic Field\, 36753 N. Hutchins Rd.\, Gurnee\, IL\, United States
CATEGORIES:Rentals/Outside Facility
GEO:42.397312;-87.9857789
X-APPLE-STRUCTURED-LOCATION;VALUE=URI;X-ADDRESS=Hutchins Athletic Field 36753 N. Hutchins Rd. Gurnee IL United States;X-APPLE-RADIUS=500;X-TITLE=36753 N. Hutchins Rd.:geo:-87.9857789,42.397312
END:VEVENT
END:VCALENDAR