BEGIN:VCALENDAR
VERSION:2.0
PRODID:-//Grandwood Park Park District - ECPv6.15.19//NONSGML v1.0//EN
CALSCALE:GREGORIAN
METHOD:PUBLISH
X-ORIGINAL-URL:https://www.grandwoodpark.net
X-WR-CALDESC:Events for Grandwood Park Park District
REFRESH-INTERVAL;VALUE=DURATION:PT1H
X-Robots-Tag:noindex
X-PUBLISHED-TTL:PT1H
BEGIN:VTIMEZONE
TZID:America/Chicago
BEGIN:DAYLIGHT
TZOFFSETFROM:-0600
TZOFFSETTO:-0500
TZNAME:CDT
DTSTART:20250309T080000
END:DAYLIGHT
BEGIN:STANDARD
TZOFFSETFROM:-0500
TZOFFSETTO:-0600
TZNAME:CST
DTSTART:20251102T070000
END:STANDARD
BEGIN:DAYLIGHT
TZOFFSETFROM:-0600
TZOFFSETTO:-0500
TZNAME:CDT
DTSTART:20260308T080000
END:DAYLIGHT
BEGIN:STANDARD
TZOFFSETFROM:-0500
TZOFFSETTO:-0600
TZNAME:CST
DTSTART:20261101T070000
END:STANDARD
BEGIN:DAYLIGHT
TZOFFSETFROM:-0600
TZOFFSETTO:-0500
TZNAME:CDT
DTSTART:20270314T080000
END:DAYLIGHT
BEGIN:STANDARD
TZOFFSETFROM:-0500
TZOFFSETTO:-0600
TZNAME:CST
DTSTART:20271107T070000
END:STANDARD
END:VTIMEZONE
BEGIN:VEVENT
DTSTART;TZID=America/Chicago:20260701T170000
DTEND;TZID=America/Chicago:20260701T203000
DTSTAMP:20260419T212946
CREATED:20260304T203457Z
LAST-MODIFIED:20260304T203457Z
UID:10002693-1782925200-1782937800@www.grandwoodpark.net
SUMMARY:LASC - Hutchins Athletic Field
DESCRIPTION:Lindenhurst Area Soccer Club
URL:https://www.grandwoodpark.net/calendar/lasc-hutchins-athletic-field-2/2026-07-01/
LOCATION:Hutchins Athletic Field\, 36753 N. Hutchins Rd.\, Gurnee\, IL\, United States
CATEGORIES:Rentals/Outside Facility
GEO:42.397312;-87.9857789
X-APPLE-STRUCTURED-LOCATION;VALUE=URI;X-ADDRESS=Hutchins Athletic Field 36753 N. Hutchins Rd. Gurnee IL United States;X-APPLE-RADIUS=500;X-TITLE=36753 N. Hutchins Rd.:geo:-87.9857789,42.397312
END:VEVENT
BEGIN:VEVENT
DTSTART;TZID=America/Chicago:20260706T170000
DTEND;TZID=America/Chicago:20260706T203000
DTSTAMP:20260419T212946
CREATED:20260304T203457Z
LAST-MODIFIED:20260304T203457Z
UID:10002694-1783357200-1783369800@www.grandwoodpark.net
SUMMARY:LASC - Hutchins Athletic Field
DESCRIPTION:Lindenhurst Area Soccer Club
URL:https://www.grandwoodpark.net/calendar/lasc-hutchins-athletic-field-2/2026-07-06/
LOCATION:Hutchins Athletic Field\, 36753 N. Hutchins Rd.\, Gurnee\, IL\, United States
CATEGORIES:Rentals/Outside Facility
GEO:42.397312;-87.9857789
X-APPLE-STRUCTURED-LOCATION;VALUE=URI;X-ADDRESS=Hutchins Athletic Field 36753 N. Hutchins Rd. Gurnee IL United States;X-APPLE-RADIUS=500;X-TITLE=36753 N. Hutchins Rd.:geo:-87.9857789,42.397312
END:VEVENT
BEGIN:VEVENT
DTSTART;TZID=America/Chicago:20260708T170000
DTEND;TZID=America/Chicago:20260708T203000
DTSTAMP:20260419T212946
CREATED:20260304T203457Z
LAST-MODIFIED:20260304T203457Z
UID:10002695-1783530000-1783542600@www.grandwoodpark.net
SUMMARY:LASC - Hutchins Athletic Field
DESCRIPTION:Lindenhurst Area Soccer Club
URL:https://www.grandwoodpark.net/calendar/lasc-hutchins-athletic-field-2/2026-07-08/
LOCATION:Hutchins Athletic Field\, 36753 N. Hutchins Rd.\, Gurnee\, IL\, United States
CATEGORIES:Rentals/Outside Facility
GEO:42.397312;-87.9857789
X-APPLE-STRUCTURED-LOCATION;VALUE=URI;X-ADDRESS=Hutchins Athletic Field 36753 N. Hutchins Rd. Gurnee IL United States;X-APPLE-RADIUS=500;X-TITLE=36753 N. Hutchins Rd.:geo:-87.9857789,42.397312
END:VEVENT
BEGIN:VEVENT
DTSTART;TZID=America/Chicago:20260713T170000
DTEND;TZID=America/Chicago:20260713T203000
DTSTAMP:20260419T212946
CREATED:20260304T203457Z
LAST-MODIFIED:20260304T203457Z
UID:10002696-1783962000-1783974600@www.grandwoodpark.net
SUMMARY:LASC - Hutchins Athletic Field
DESCRIPTION:Lindenhurst Area Soccer Club
URL:https://www.grandwoodpark.net/calendar/lasc-hutchins-athletic-field-2/2026-07-13/
LOCATION:Hutchins Athletic Field\, 36753 N. Hutchins Rd.\, Gurnee\, IL\, United States
CATEGORIES:Rentals/Outside Facility
GEO:42.397312;-87.9857789
X-APPLE-STRUCTURED-LOCATION;VALUE=URI;X-ADDRESS=Hutchins Athletic Field 36753 N. Hutchins Rd. Gurnee IL United States;X-APPLE-RADIUS=500;X-TITLE=36753 N. Hutchins Rd.:geo:-87.9857789,42.397312
END:VEVENT
BEGIN:VEVENT
DTSTART;TZID=America/Chicago:20260715T170000
DTEND;TZID=America/Chicago:20260715T203000
DTSTAMP:20260419T212946
CREATED:20260304T203457Z
LAST-MODIFIED:20260304T203457Z
UID:10002697-1784134800-1784147400@www.grandwoodpark.net
SUMMARY:LASC - Hutchins Athletic Field
DESCRIPTION:Lindenhurst Area Soccer Club
URL:https://www.grandwoodpark.net/calendar/lasc-hutchins-athletic-field-2/2026-07-15/
LOCATION:Hutchins Athletic Field\, 36753 N. Hutchins Rd.\, Gurnee\, IL\, United States
CATEGORIES:Rentals/Outside Facility
GEO:42.397312;-87.9857789
X-APPLE-STRUCTURED-LOCATION;VALUE=URI;X-ADDRESS=Hutchins Athletic Field 36753 N. Hutchins Rd. Gurnee IL United States;X-APPLE-RADIUS=500;X-TITLE=36753 N. Hutchins Rd.:geo:-87.9857789,42.397312
END:VEVENT
BEGIN:VEVENT
DTSTART;TZID=America/Chicago:20260720T170000
DTEND;TZID=America/Chicago:20260720T203000
DTSTAMP:20260419T212946
CREATED:20260304T203457Z
LAST-MODIFIED:20260304T203457Z
UID:10002698-1784566800-1784579400@www.grandwoodpark.net
SUMMARY:LASC - Hutchins Athletic Field
DESCRIPTION:Lindenhurst Area Soccer Club
URL:https://www.grandwoodpark.net/calendar/lasc-hutchins-athletic-field-2/2026-07-20/
LOCATION:Hutchins Athletic Field\, 36753 N. Hutchins Rd.\, Gurnee\, IL\, United States
CATEGORIES:Rentals/Outside Facility
GEO:42.397312;-87.9857789
X-APPLE-STRUCTURED-LOCATION;VALUE=URI;X-ADDRESS=Hutchins Athletic Field 36753 N. Hutchins Rd. Gurnee IL United States;X-APPLE-RADIUS=500;X-TITLE=36753 N. Hutchins Rd.:geo:-87.9857789,42.397312
END:VEVENT
BEGIN:VEVENT
DTSTART;TZID=America/Chicago:20260722T170000
DTEND;TZID=America/Chicago:20260722T203000
DTSTAMP:20260419T212946
CREATED:20260304T203457Z
LAST-MODIFIED:20260304T203457Z
UID:10002699-1784739600-1784752200@www.grandwoodpark.net
SUMMARY:LASC - Hutchins Athletic Field
DESCRIPTION:Lindenhurst Area Soccer Club
URL:https://www.grandwoodpark.net/calendar/lasc-hutchins-athletic-field-2/2026-07-22/
LOCATION:Hutchins Athletic Field\, 36753 N. Hutchins Rd.\, Gurnee\, IL\, United States
CATEGORIES:Rentals/Outside Facility
GEO:42.397312;-87.9857789
X-APPLE-STRUCTURED-LOCATION;VALUE=URI;X-ADDRESS=Hutchins Athletic Field 36753 N. Hutchins Rd. Gurnee IL United States;X-APPLE-RADIUS=500;X-TITLE=36753 N. Hutchins Rd.:geo:-87.9857789,42.397312
END:VEVENT
BEGIN:VEVENT
DTSTART;TZID=America/Chicago:20260727T170000
DTEND;TZID=America/Chicago:20260727T203000
DTSTAMP:20260419T212946
CREATED:20260304T203457Z
LAST-MODIFIED:20260304T203457Z
UID:10002700-1785171600-1785184200@www.grandwoodpark.net
SUMMARY:LASC - Hutchins Athletic Field
DESCRIPTION:Lindenhurst Area Soccer Club
URL:https://www.grandwoodpark.net/calendar/lasc-hutchins-athletic-field-2/2026-07-27/
LOCATION:Hutchins Athletic Field\, 36753 N. Hutchins Rd.\, Gurnee\, IL\, United States
CATEGORIES:Rentals/Outside Facility
GEO:42.397312;-87.9857789
X-APPLE-STRUCTURED-LOCATION;VALUE=URI;X-ADDRESS=Hutchins Athletic Field 36753 N. Hutchins Rd. Gurnee IL United States;X-APPLE-RADIUS=500;X-TITLE=36753 N. Hutchins Rd.:geo:-87.9857789,42.397312
END:VEVENT
BEGIN:VEVENT
DTSTART;TZID=America/Chicago:20260729T170000
DTEND;TZID=America/Chicago:20260729T203000
DTSTAMP:20260419T212946
CREATED:20260304T203457Z
LAST-MODIFIED:20260304T203457Z
UID:10002701-1785344400-1785357000@www.grandwoodpark.net
SUMMARY:LASC - Hutchins Athletic Field
DESCRIPTION:Lindenhurst Area Soccer Club
URL:https://www.grandwoodpark.net/calendar/lasc-hutchins-athletic-field-2/2026-07-29/
LOCATION:Hutchins Athletic Field\, 36753 N. Hutchins Rd.\, Gurnee\, IL\, United States
CATEGORIES:Rentals/Outside Facility
GEO:42.397312;-87.9857789
X-APPLE-STRUCTURED-LOCATION;VALUE=URI;X-ADDRESS=Hutchins Athletic Field 36753 N. Hutchins Rd. Gurnee IL United States;X-APPLE-RADIUS=500;X-TITLE=36753 N. Hutchins Rd.:geo:-87.9857789,42.397312
END:VEVENT
END:VCALENDAR