BEGIN:VCALENDAR
VERSION:2.0
PRODID:-//Grandwood Park Park District - ECPv6.15.19//NONSGML v1.0//EN
CALSCALE:GREGORIAN
METHOD:PUBLISH
X-ORIGINAL-URL:https://www.grandwoodpark.net
X-WR-CALDESC:Events for Grandwood Park Park District
REFRESH-INTERVAL;VALUE=DURATION:PT1H
X-Robots-Tag:noindex
X-PUBLISHED-TTL:PT1H
BEGIN:VTIMEZONE
TZID:America/Chicago
BEGIN:DAYLIGHT
TZOFFSETFROM:-0600
TZOFFSETTO:-0500
TZNAME:CDT
DTSTART:20250309T080000
END:DAYLIGHT
BEGIN:STANDARD
TZOFFSETFROM:-0500
TZOFFSETTO:-0600
TZNAME:CST
DTSTART:20251102T070000
END:STANDARD
BEGIN:DAYLIGHT
TZOFFSETFROM:-0600
TZOFFSETTO:-0500
TZNAME:CDT
DTSTART:20260308T080000
END:DAYLIGHT
BEGIN:STANDARD
TZOFFSETFROM:-0500
TZOFFSETTO:-0600
TZNAME:CST
DTSTART:20261101T070000
END:STANDARD
BEGIN:DAYLIGHT
TZOFFSETFROM:-0600
TZOFFSETTO:-0500
TZNAME:CDT
DTSTART:20270314T080000
END:DAYLIGHT
BEGIN:STANDARD
TZOFFSETFROM:-0500
TZOFFSETTO:-0600
TZNAME:CST
DTSTART:20271107T070000
END:STANDARD
END:VTIMEZONE
BEGIN:VEVENT
DTSTART;TZID=America/Chicago:20260810T170000
DTEND;TZID=America/Chicago:20260810T203000
DTSTAMP:20260419T231920
CREATED:20260304T203457Z
LAST-MODIFIED:20260304T203457Z
UID:10002704-1786381200-1786393800@www.grandwoodpark.net
SUMMARY:LASC - Hutchins Athletic Field
DESCRIPTION:Lindenhurst Area Soccer Club
URL:https://www.grandwoodpark.net/calendar/lasc-hutchins-athletic-field-2/2026-08-10/
LOCATION:Hutchins Athletic Field\, 36753 N. Hutchins Rd.\, Gurnee\, IL\, United States
CATEGORIES:Rentals/Outside Facility
GEO:42.397312;-87.9857789
X-APPLE-STRUCTURED-LOCATION;VALUE=URI;X-ADDRESS=Hutchins Athletic Field 36753 N. Hutchins Rd. Gurnee IL United States;X-APPLE-RADIUS=500;X-TITLE=36753 N. Hutchins Rd.:geo:-87.9857789,42.397312
END:VEVENT
BEGIN:VEVENT
DTSTART;TZID=America/Chicago:20260812T170000
DTEND;TZID=America/Chicago:20260812T203000
DTSTAMP:20260419T231920
CREATED:20260304T203457Z
LAST-MODIFIED:20260304T203457Z
UID:10002705-1786554000-1786566600@www.grandwoodpark.net
SUMMARY:LASC - Hutchins Athletic Field
DESCRIPTION:Lindenhurst Area Soccer Club
URL:https://www.grandwoodpark.net/calendar/lasc-hutchins-athletic-field-2/2026-08-12/
LOCATION:Hutchins Athletic Field\, 36753 N. Hutchins Rd.\, Gurnee\, IL\, United States
CATEGORIES:Rentals/Outside Facility
GEO:42.397312;-87.9857789
X-APPLE-STRUCTURED-LOCATION;VALUE=URI;X-ADDRESS=Hutchins Athletic Field 36753 N. Hutchins Rd. Gurnee IL United States;X-APPLE-RADIUS=500;X-TITLE=36753 N. Hutchins Rd.:geo:-87.9857789,42.397312
END:VEVENT
BEGIN:VEVENT
DTSTART;TZID=America/Chicago:20260817T170000
DTEND;TZID=America/Chicago:20260817T203000
DTSTAMP:20260419T231920
CREATED:20260304T203457Z
LAST-MODIFIED:20260304T203457Z
UID:10002706-1786986000-1786998600@www.grandwoodpark.net
SUMMARY:LASC - Hutchins Athletic Field
DESCRIPTION:Lindenhurst Area Soccer Club
URL:https://www.grandwoodpark.net/calendar/lasc-hutchins-athletic-field-2/2026-08-17/
LOCATION:Hutchins Athletic Field\, 36753 N. Hutchins Rd.\, Gurnee\, IL\, United States
CATEGORIES:Rentals/Outside Facility
GEO:42.397312;-87.9857789
X-APPLE-STRUCTURED-LOCATION;VALUE=URI;X-ADDRESS=Hutchins Athletic Field 36753 N. Hutchins Rd. Gurnee IL United States;X-APPLE-RADIUS=500;X-TITLE=36753 N. Hutchins Rd.:geo:-87.9857789,42.397312
END:VEVENT
BEGIN:VEVENT
DTSTART;TZID=America/Chicago:20260819T170000
DTEND;TZID=America/Chicago:20260819T203000
DTSTAMP:20260419T231920
CREATED:20260304T203457Z
LAST-MODIFIED:20260304T203457Z
UID:10002707-1787158800-1787171400@www.grandwoodpark.net
SUMMARY:LASC - Hutchins Athletic Field
DESCRIPTION:Lindenhurst Area Soccer Club
URL:https://www.grandwoodpark.net/calendar/lasc-hutchins-athletic-field-2/2026-08-19/
LOCATION:Hutchins Athletic Field\, 36753 N. Hutchins Rd.\, Gurnee\, IL\, United States
CATEGORIES:Rentals/Outside Facility
GEO:42.397312;-87.9857789
X-APPLE-STRUCTURED-LOCATION;VALUE=URI;X-ADDRESS=Hutchins Athletic Field 36753 N. Hutchins Rd. Gurnee IL United States;X-APPLE-RADIUS=500;X-TITLE=36753 N. Hutchins Rd.:geo:-87.9857789,42.397312
END:VEVENT
BEGIN:VEVENT
DTSTART;TZID=America/Chicago:20260824T170000
DTEND;TZID=America/Chicago:20260824T203000
DTSTAMP:20260419T231920
CREATED:20260304T203457Z
LAST-MODIFIED:20260304T203457Z
UID:10002708-1787590800-1787603400@www.grandwoodpark.net
SUMMARY:LASC - Hutchins Athletic Field
DESCRIPTION:Lindenhurst Area Soccer Club
URL:https://www.grandwoodpark.net/calendar/lasc-hutchins-athletic-field-2/2026-08-24/
LOCATION:Hutchins Athletic Field\, 36753 N. Hutchins Rd.\, Gurnee\, IL\, United States
CATEGORIES:Rentals/Outside Facility
GEO:42.397312;-87.9857789
X-APPLE-STRUCTURED-LOCATION;VALUE=URI;X-ADDRESS=Hutchins Athletic Field 36753 N. Hutchins Rd. Gurnee IL United States;X-APPLE-RADIUS=500;X-TITLE=36753 N. Hutchins Rd.:geo:-87.9857789,42.397312
END:VEVENT
BEGIN:VEVENT
DTSTART;TZID=America/Chicago:20260826T170000
DTEND;TZID=America/Chicago:20260826T203000
DTSTAMP:20260419T231920
CREATED:20260304T203457Z
LAST-MODIFIED:20260304T203457Z
UID:10002709-1787763600-1787776200@www.grandwoodpark.net
SUMMARY:LASC - Hutchins Athletic Field
DESCRIPTION:Lindenhurst Area Soccer Club
URL:https://www.grandwoodpark.net/calendar/lasc-hutchins-athletic-field-2/2026-08-26/
LOCATION:Hutchins Athletic Field\, 36753 N. Hutchins Rd.\, Gurnee\, IL\, United States
CATEGORIES:Rentals/Outside Facility
GEO:42.397312;-87.9857789
X-APPLE-STRUCTURED-LOCATION;VALUE=URI;X-ADDRESS=Hutchins Athletic Field 36753 N. Hutchins Rd. Gurnee IL United States;X-APPLE-RADIUS=500;X-TITLE=36753 N. Hutchins Rd.:geo:-87.9857789,42.397312
END:VEVENT
BEGIN:VEVENT
DTSTART;TZID=America/Chicago:20260831T170000
DTEND;TZID=America/Chicago:20260831T203000
DTSTAMP:20260419T231920
CREATED:20260304T203457Z
LAST-MODIFIED:20260304T203457Z
UID:10002710-1788195600-1788208200@www.grandwoodpark.net
SUMMARY:LASC - Hutchins Athletic Field
DESCRIPTION:Lindenhurst Area Soccer Club
URL:https://www.grandwoodpark.net/calendar/lasc-hutchins-athletic-field-2/2026-08-31/
LOCATION:Hutchins Athletic Field\, 36753 N. Hutchins Rd.\, Gurnee\, IL\, United States
CATEGORIES:Rentals/Outside Facility
GEO:42.397312;-87.9857789
X-APPLE-STRUCTURED-LOCATION;VALUE=URI;X-ADDRESS=Hutchins Athletic Field 36753 N. Hutchins Rd. Gurnee IL United States;X-APPLE-RADIUS=500;X-TITLE=36753 N. Hutchins Rd.:geo:-87.9857789,42.397312
END:VEVENT
BEGIN:VEVENT
DTSTART;TZID=America/Chicago:20260902T170000
DTEND;TZID=America/Chicago:20260902T203000
DTSTAMP:20260419T231920
CREATED:20260304T203457Z
LAST-MODIFIED:20260304T203457Z
UID:10002711-1788368400-1788381000@www.grandwoodpark.net
SUMMARY:LASC - Hutchins Athletic Field
DESCRIPTION:Lindenhurst Area Soccer Club
URL:https://www.grandwoodpark.net/calendar/lasc-hutchins-athletic-field-2/2026-09-02/
LOCATION:Hutchins Athletic Field\, 36753 N. Hutchins Rd.\, Gurnee\, IL\, United States
CATEGORIES:Rentals/Outside Facility
GEO:42.397312;-87.9857789
X-APPLE-STRUCTURED-LOCATION;VALUE=URI;X-ADDRESS=Hutchins Athletic Field 36753 N. Hutchins Rd. Gurnee IL United States;X-APPLE-RADIUS=500;X-TITLE=36753 N. Hutchins Rd.:geo:-87.9857789,42.397312
END:VEVENT
BEGIN:VEVENT
DTSTART;TZID=America/Chicago:20260907T170000
DTEND;TZID=America/Chicago:20260907T203000
DTSTAMP:20260419T231920
CREATED:20260304T203457Z
LAST-MODIFIED:20260304T203457Z
UID:10002712-1788800400-1788813000@www.grandwoodpark.net
SUMMARY:LASC - Hutchins Athletic Field
DESCRIPTION:Lindenhurst Area Soccer Club
URL:https://www.grandwoodpark.net/calendar/lasc-hutchins-athletic-field-2/2026-09-07/
LOCATION:Hutchins Athletic Field\, 36753 N. Hutchins Rd.\, Gurnee\, IL\, United States
CATEGORIES:Rentals/Outside Facility
GEO:42.397312;-87.9857789
X-APPLE-STRUCTURED-LOCATION;VALUE=URI;X-ADDRESS=Hutchins Athletic Field 36753 N. Hutchins Rd. Gurnee IL United States;X-APPLE-RADIUS=500;X-TITLE=36753 N. Hutchins Rd.:geo:-87.9857789,42.397312
END:VEVENT
BEGIN:VEVENT
DTSTART;TZID=America/Chicago:20260909T170000
DTEND;TZID=America/Chicago:20260909T203000
DTSTAMP:20260419T231920
CREATED:20260304T203457Z
LAST-MODIFIED:20260304T203457Z
UID:10002713-1788973200-1788985800@www.grandwoodpark.net
SUMMARY:LASC - Hutchins Athletic Field
DESCRIPTION:Lindenhurst Area Soccer Club
URL:https://www.grandwoodpark.net/calendar/lasc-hutchins-athletic-field-2/2026-09-09/
LOCATION:Hutchins Athletic Field\, 36753 N. Hutchins Rd.\, Gurnee\, IL\, United States
CATEGORIES:Rentals/Outside Facility
GEO:42.397312;-87.9857789
X-APPLE-STRUCTURED-LOCATION;VALUE=URI;X-ADDRESS=Hutchins Athletic Field 36753 N. Hutchins Rd. Gurnee IL United States;X-APPLE-RADIUS=500;X-TITLE=36753 N. Hutchins Rd.:geo:-87.9857789,42.397312
END:VEVENT
BEGIN:VEVENT
DTSTART;TZID=America/Chicago:20260914T170000
DTEND;TZID=America/Chicago:20260914T203000
DTSTAMP:20260419T231920
CREATED:20260304T203457Z
LAST-MODIFIED:20260304T203457Z
UID:10002714-1789405200-1789417800@www.grandwoodpark.net
SUMMARY:LASC - Hutchins Athletic Field
DESCRIPTION:Lindenhurst Area Soccer Club
URL:https://www.grandwoodpark.net/calendar/lasc-hutchins-athletic-field-2/2026-09-14/
LOCATION:Hutchins Athletic Field\, 36753 N. Hutchins Rd.\, Gurnee\, IL\, United States
CATEGORIES:Rentals/Outside Facility
GEO:42.397312;-87.9857789
X-APPLE-STRUCTURED-LOCATION;VALUE=URI;X-ADDRESS=Hutchins Athletic Field 36753 N. Hutchins Rd. Gurnee IL United States;X-APPLE-RADIUS=500;X-TITLE=36753 N. Hutchins Rd.:geo:-87.9857789,42.397312
END:VEVENT
BEGIN:VEVENT
DTSTART;TZID=America/Chicago:20260916T170000
DTEND;TZID=America/Chicago:20260916T203000
DTSTAMP:20260419T231920
CREATED:20260304T203457Z
LAST-MODIFIED:20260304T203457Z
UID:10002715-1789578000-1789590600@www.grandwoodpark.net
SUMMARY:LASC - Hutchins Athletic Field
DESCRIPTION:Lindenhurst Area Soccer Club
URL:https://www.grandwoodpark.net/calendar/lasc-hutchins-athletic-field-2/2026-09-16/
LOCATION:Hutchins Athletic Field\, 36753 N. Hutchins Rd.\, Gurnee\, IL\, United States
CATEGORIES:Rentals/Outside Facility
GEO:42.397312;-87.9857789
X-APPLE-STRUCTURED-LOCATION;VALUE=URI;X-ADDRESS=Hutchins Athletic Field 36753 N. Hutchins Rd. Gurnee IL United States;X-APPLE-RADIUS=500;X-TITLE=36753 N. Hutchins Rd.:geo:-87.9857789,42.397312
END:VEVENT
BEGIN:VEVENT
DTSTART;TZID=America/Chicago:20260921T170000
DTEND;TZID=America/Chicago:20260921T203000
DTSTAMP:20260419T231920
CREATED:20260304T203457Z
LAST-MODIFIED:20260304T203457Z
UID:10002716-1790010000-1790022600@www.grandwoodpark.net
SUMMARY:LASC - Hutchins Athletic Field
DESCRIPTION:Lindenhurst Area Soccer Club
URL:https://www.grandwoodpark.net/calendar/lasc-hutchins-athletic-field-2/2026-09-21/
LOCATION:Hutchins Athletic Field\, 36753 N. Hutchins Rd.\, Gurnee\, IL\, United States
CATEGORIES:Rentals/Outside Facility
GEO:42.397312;-87.9857789
X-APPLE-STRUCTURED-LOCATION;VALUE=URI;X-ADDRESS=Hutchins Athletic Field 36753 N. Hutchins Rd. Gurnee IL United States;X-APPLE-RADIUS=500;X-TITLE=36753 N. Hutchins Rd.:geo:-87.9857789,42.397312
END:VEVENT
BEGIN:VEVENT
DTSTART;TZID=America/Chicago:20260923T170000
DTEND;TZID=America/Chicago:20260923T203000
DTSTAMP:20260419T231920
CREATED:20260304T203457Z
LAST-MODIFIED:20260304T203457Z
UID:10002717-1790182800-1790195400@www.grandwoodpark.net
SUMMARY:LASC - Hutchins Athletic Field
DESCRIPTION:Lindenhurst Area Soccer Club
URL:https://www.grandwoodpark.net/calendar/lasc-hutchins-athletic-field-2/2026-09-23/
LOCATION:Hutchins Athletic Field\, 36753 N. Hutchins Rd.\, Gurnee\, IL\, United States
CATEGORIES:Rentals/Outside Facility
GEO:42.397312;-87.9857789
X-APPLE-STRUCTURED-LOCATION;VALUE=URI;X-ADDRESS=Hutchins Athletic Field 36753 N. Hutchins Rd. Gurnee IL United States;X-APPLE-RADIUS=500;X-TITLE=36753 N. Hutchins Rd.:geo:-87.9857789,42.397312
END:VEVENT
BEGIN:VEVENT
DTSTART;TZID=America/Chicago:20260928T170000
DTEND;TZID=America/Chicago:20260928T203000
DTSTAMP:20260419T231920
CREATED:20260304T203457Z
LAST-MODIFIED:20260304T203457Z
UID:10002718-1790614800-1790627400@www.grandwoodpark.net
SUMMARY:LASC - Hutchins Athletic Field
DESCRIPTION:Lindenhurst Area Soccer Club
URL:https://www.grandwoodpark.net/calendar/lasc-hutchins-athletic-field-2/2026-09-28/
LOCATION:Hutchins Athletic Field\, 36753 N. Hutchins Rd.\, Gurnee\, IL\, United States
CATEGORIES:Rentals/Outside Facility
GEO:42.397312;-87.9857789
X-APPLE-STRUCTURED-LOCATION;VALUE=URI;X-ADDRESS=Hutchins Athletic Field 36753 N. Hutchins Rd. Gurnee IL United States;X-APPLE-RADIUS=500;X-TITLE=36753 N. Hutchins Rd.:geo:-87.9857789,42.397312
END:VEVENT
BEGIN:VEVENT
DTSTART;TZID=America/Chicago:20260930T170000
DTEND;TZID=America/Chicago:20260930T203000
DTSTAMP:20260419T231920
CREATED:20260304T203457Z
LAST-MODIFIED:20260304T203457Z
UID:10002719-1790787600-1790800200@www.grandwoodpark.net
SUMMARY:LASC - Hutchins Athletic Field
DESCRIPTION:Lindenhurst Area Soccer Club
URL:https://www.grandwoodpark.net/calendar/lasc-hutchins-athletic-field-2/2026-09-30/
LOCATION:Hutchins Athletic Field\, 36753 N. Hutchins Rd.\, Gurnee\, IL\, United States
CATEGORIES:Rentals/Outside Facility
GEO:42.397312;-87.9857789
X-APPLE-STRUCTURED-LOCATION;VALUE=URI;X-ADDRESS=Hutchins Athletic Field 36753 N. Hutchins Rd. Gurnee IL United States;X-APPLE-RADIUS=500;X-TITLE=36753 N. Hutchins Rd.:geo:-87.9857789,42.397312
END:VEVENT
BEGIN:VEVENT
DTSTART;TZID=America/Chicago:20261005T170000
DTEND;TZID=America/Chicago:20261005T203000
DTSTAMP:20260419T231920
CREATED:20260304T203457Z
LAST-MODIFIED:20260304T203457Z
UID:10002720-1791219600-1791232200@www.grandwoodpark.net
SUMMARY:LASC - Hutchins Athletic Field
DESCRIPTION:Lindenhurst Area Soccer Club
URL:https://www.grandwoodpark.net/calendar/lasc-hutchins-athletic-field-2/2026-10-05/
LOCATION:Hutchins Athletic Field\, 36753 N. Hutchins Rd.\, Gurnee\, IL\, United States
CATEGORIES:Rentals/Outside Facility
GEO:42.397312;-87.9857789
X-APPLE-STRUCTURED-LOCATION;VALUE=URI;X-ADDRESS=Hutchins Athletic Field 36753 N. Hutchins Rd. Gurnee IL United States;X-APPLE-RADIUS=500;X-TITLE=36753 N. Hutchins Rd.:geo:-87.9857789,42.397312
END:VEVENT
BEGIN:VEVENT
DTSTART;TZID=America/Chicago:20261007T170000
DTEND;TZID=America/Chicago:20261007T203000
DTSTAMP:20260419T231920
CREATED:20260304T203457Z
LAST-MODIFIED:20260304T203457Z
UID:10002721-1791392400-1791405000@www.grandwoodpark.net
SUMMARY:LASC - Hutchins Athletic Field
DESCRIPTION:Lindenhurst Area Soccer Club
URL:https://www.grandwoodpark.net/calendar/lasc-hutchins-athletic-field-2/2026-10-07/
LOCATION:Hutchins Athletic Field\, 36753 N. Hutchins Rd.\, Gurnee\, IL\, United States
CATEGORIES:Rentals/Outside Facility
GEO:42.397312;-87.9857789
X-APPLE-STRUCTURED-LOCATION;VALUE=URI;X-ADDRESS=Hutchins Athletic Field 36753 N. Hutchins Rd. Gurnee IL United States;X-APPLE-RADIUS=500;X-TITLE=36753 N. Hutchins Rd.:geo:-87.9857789,42.397312
END:VEVENT
BEGIN:VEVENT
DTSTART;TZID=America/Chicago:20261012T170000
DTEND;TZID=America/Chicago:20261012T203000
DTSTAMP:20260419T231920
CREATED:20260304T203457Z
LAST-MODIFIED:20260304T203457Z
UID:10002722-1791824400-1791837000@www.grandwoodpark.net
SUMMARY:LASC - Hutchins Athletic Field
DESCRIPTION:Lindenhurst Area Soccer Club
URL:https://www.grandwoodpark.net/calendar/lasc-hutchins-athletic-field-2/2026-10-12/
LOCATION:Hutchins Athletic Field\, 36753 N. Hutchins Rd.\, Gurnee\, IL\, United States
CATEGORIES:Rentals/Outside Facility
GEO:42.397312;-87.9857789
X-APPLE-STRUCTURED-LOCATION;VALUE=URI;X-ADDRESS=Hutchins Athletic Field 36753 N. Hutchins Rd. Gurnee IL United States;X-APPLE-RADIUS=500;X-TITLE=36753 N. Hutchins Rd.:geo:-87.9857789,42.397312
END:VEVENT
BEGIN:VEVENT
DTSTART;TZID=America/Chicago:20261014T170000
DTEND;TZID=America/Chicago:20261014T203000
DTSTAMP:20260419T231920
CREATED:20260304T203457Z
LAST-MODIFIED:20260304T203457Z
UID:10002723-1791997200-1792009800@www.grandwoodpark.net
SUMMARY:LASC - Hutchins Athletic Field
DESCRIPTION:Lindenhurst Area Soccer Club
URL:https://www.grandwoodpark.net/calendar/lasc-hutchins-athletic-field-2/2026-10-14/
LOCATION:Hutchins Athletic Field\, 36753 N. Hutchins Rd.\, Gurnee\, IL\, United States
CATEGORIES:Rentals/Outside Facility
GEO:42.397312;-87.9857789
X-APPLE-STRUCTURED-LOCATION;VALUE=URI;X-ADDRESS=Hutchins Athletic Field 36753 N. Hutchins Rd. Gurnee IL United States;X-APPLE-RADIUS=500;X-TITLE=36753 N. Hutchins Rd.:geo:-87.9857789,42.397312
END:VEVENT
BEGIN:VEVENT
DTSTART;TZID=America/Chicago:20261019T170000
DTEND;TZID=America/Chicago:20261019T203000
DTSTAMP:20260419T231920
CREATED:20260304T203457Z
LAST-MODIFIED:20260304T203457Z
UID:10002724-1792429200-1792441800@www.grandwoodpark.net
SUMMARY:LASC - Hutchins Athletic Field
DESCRIPTION:Lindenhurst Area Soccer Club
URL:https://www.grandwoodpark.net/calendar/lasc-hutchins-athletic-field-2/2026-10-19/
LOCATION:Hutchins Athletic Field\, 36753 N. Hutchins Rd.\, Gurnee\, IL\, United States
CATEGORIES:Rentals/Outside Facility
GEO:42.397312;-87.9857789
X-APPLE-STRUCTURED-LOCATION;VALUE=URI;X-ADDRESS=Hutchins Athletic Field 36753 N. Hutchins Rd. Gurnee IL United States;X-APPLE-RADIUS=500;X-TITLE=36753 N. Hutchins Rd.:geo:-87.9857789,42.397312
END:VEVENT
BEGIN:VEVENT
DTSTART;TZID=America/Chicago:20261021T170000
DTEND;TZID=America/Chicago:20261021T203000
DTSTAMP:20260419T231920
CREATED:20260304T203457Z
LAST-MODIFIED:20260304T203457Z
UID:10002725-1792602000-1792614600@www.grandwoodpark.net
SUMMARY:LASC - Hutchins Athletic Field
DESCRIPTION:Lindenhurst Area Soccer Club
URL:https://www.grandwoodpark.net/calendar/lasc-hutchins-athletic-field-2/2026-10-21/
LOCATION:Hutchins Athletic Field\, 36753 N. Hutchins Rd.\, Gurnee\, IL\, United States
CATEGORIES:Rentals/Outside Facility
GEO:42.397312;-87.9857789
X-APPLE-STRUCTURED-LOCATION;VALUE=URI;X-ADDRESS=Hutchins Athletic Field 36753 N. Hutchins Rd. Gurnee IL United States;X-APPLE-RADIUS=500;X-TITLE=36753 N. Hutchins Rd.:geo:-87.9857789,42.397312
END:VEVENT
BEGIN:VEVENT
DTSTART;TZID=America/Chicago:20261026T170000
DTEND;TZID=America/Chicago:20261026T203000
DTSTAMP:20260419T231920
CREATED:20260304T203457Z
LAST-MODIFIED:20260304T203457Z
UID:10002726-1793034000-1793046600@www.grandwoodpark.net
SUMMARY:LASC - Hutchins Athletic Field
DESCRIPTION:Lindenhurst Area Soccer Club
URL:https://www.grandwoodpark.net/calendar/lasc-hutchins-athletic-field-2/2026-10-26/
LOCATION:Hutchins Athletic Field\, 36753 N. Hutchins Rd.\, Gurnee\, IL\, United States
CATEGORIES:Rentals/Outside Facility
GEO:42.397312;-87.9857789
X-APPLE-STRUCTURED-LOCATION;VALUE=URI;X-ADDRESS=Hutchins Athletic Field 36753 N. Hutchins Rd. Gurnee IL United States;X-APPLE-RADIUS=500;X-TITLE=36753 N. Hutchins Rd.:geo:-87.9857789,42.397312
END:VEVENT
BEGIN:VEVENT
DTSTART;TZID=America/Chicago:20261028T170000
DTEND;TZID=America/Chicago:20261028T203000
DTSTAMP:20260419T231920
CREATED:20260304T203457Z
LAST-MODIFIED:20260304T203457Z
UID:10002727-1793206800-1793219400@www.grandwoodpark.net
SUMMARY:LASC - Hutchins Athletic Field
DESCRIPTION:Lindenhurst Area Soccer Club
URL:https://www.grandwoodpark.net/calendar/lasc-hutchins-athletic-field-2/2026-10-28/
LOCATION:Hutchins Athletic Field\, 36753 N. Hutchins Rd.\, Gurnee\, IL\, United States
CATEGORIES:Rentals/Outside Facility
GEO:42.397312;-87.9857789
X-APPLE-STRUCTURED-LOCATION;VALUE=URI;X-ADDRESS=Hutchins Athletic Field 36753 N. Hutchins Rd. Gurnee IL United States;X-APPLE-RADIUS=500;X-TITLE=36753 N. Hutchins Rd.:geo:-87.9857789,42.397312
END:VEVENT
BEGIN:VEVENT
DTSTART;TZID=America/Chicago:20261102T170000
DTEND;TZID=America/Chicago:20261102T203000
DTSTAMP:20260419T231920
CREATED:20260304T203457Z
LAST-MODIFIED:20260304T203457Z
UID:10002728-1793638800-1793651400@www.grandwoodpark.net
SUMMARY:LASC - Hutchins Athletic Field
DESCRIPTION:Lindenhurst Area Soccer Club
URL:https://www.grandwoodpark.net/calendar/lasc-hutchins-athletic-field-2/2026-11-02/
LOCATION:Hutchins Athletic Field\, 36753 N. Hutchins Rd.\, Gurnee\, IL\, United States
CATEGORIES:Rentals/Outside Facility
GEO:42.397312;-87.9857789
X-APPLE-STRUCTURED-LOCATION;VALUE=URI;X-ADDRESS=Hutchins Athletic Field 36753 N. Hutchins Rd. Gurnee IL United States;X-APPLE-RADIUS=500;X-TITLE=36753 N. Hutchins Rd.:geo:-87.9857789,42.397312
END:VEVENT
BEGIN:VEVENT
DTSTART;TZID=America/Chicago:20261104T170000
DTEND;TZID=America/Chicago:20261104T203000
DTSTAMP:20260419T231920
CREATED:20260304T203457Z
LAST-MODIFIED:20260304T203457Z
UID:10002729-1793811600-1793824200@www.grandwoodpark.net
SUMMARY:LASC - Hutchins Athletic Field
DESCRIPTION:Lindenhurst Area Soccer Club
URL:https://www.grandwoodpark.net/calendar/lasc-hutchins-athletic-field-2/2026-11-04/
LOCATION:Hutchins Athletic Field\, 36753 N. Hutchins Rd.\, Gurnee\, IL\, United States
CATEGORIES:Rentals/Outside Facility
GEO:42.397312;-87.9857789
X-APPLE-STRUCTURED-LOCATION;VALUE=URI;X-ADDRESS=Hutchins Athletic Field 36753 N. Hutchins Rd. Gurnee IL United States;X-APPLE-RADIUS=500;X-TITLE=36753 N. Hutchins Rd.:geo:-87.9857789,42.397312
END:VEVENT
BEGIN:VEVENT
DTSTART;TZID=America/Chicago:20261109T170000
DTEND;TZID=America/Chicago:20261109T203000
DTSTAMP:20260419T231920
CREATED:20260304T203457Z
LAST-MODIFIED:20260304T203457Z
UID:10002730-1794243600-1794256200@www.grandwoodpark.net
SUMMARY:LASC - Hutchins Athletic Field
DESCRIPTION:Lindenhurst Area Soccer Club
URL:https://www.grandwoodpark.net/calendar/lasc-hutchins-athletic-field-2/2026-11-09/
LOCATION:Hutchins Athletic Field\, 36753 N. Hutchins Rd.\, Gurnee\, IL\, United States
CATEGORIES:Rentals/Outside Facility
GEO:42.397312;-87.9857789
X-APPLE-STRUCTURED-LOCATION;VALUE=URI;X-ADDRESS=Hutchins Athletic Field 36753 N. Hutchins Rd. Gurnee IL United States;X-APPLE-RADIUS=500;X-TITLE=36753 N. Hutchins Rd.:geo:-87.9857789,42.397312
END:VEVENT
BEGIN:VEVENT
DTSTART;TZID=America/Chicago:20261111T170000
DTEND;TZID=America/Chicago:20261111T203000
DTSTAMP:20260419T231920
CREATED:20260304T203457Z
LAST-MODIFIED:20260304T203457Z
UID:10002731-1794416400-1794429000@www.grandwoodpark.net
SUMMARY:LASC - Hutchins Athletic Field
DESCRIPTION:Lindenhurst Area Soccer Club
URL:https://www.grandwoodpark.net/calendar/lasc-hutchins-athletic-field-2/2026-11-11/
LOCATION:Hutchins Athletic Field\, 36753 N. Hutchins Rd.\, Gurnee\, IL\, United States
CATEGORIES:Rentals/Outside Facility
GEO:42.397312;-87.9857789
X-APPLE-STRUCTURED-LOCATION;VALUE=URI;X-ADDRESS=Hutchins Athletic Field 36753 N. Hutchins Rd. Gurnee IL United States;X-APPLE-RADIUS=500;X-TITLE=36753 N. Hutchins Rd.:geo:-87.9857789,42.397312
END:VEVENT
BEGIN:VEVENT
DTSTART;TZID=America/Chicago:20261116T170000
DTEND;TZID=America/Chicago:20261116T203000
DTSTAMP:20260419T231920
CREATED:20260304T203457Z
LAST-MODIFIED:20260304T203457Z
UID:10002732-1794848400-1794861000@www.grandwoodpark.net
SUMMARY:LASC - Hutchins Athletic Field
DESCRIPTION:Lindenhurst Area Soccer Club
URL:https://www.grandwoodpark.net/calendar/lasc-hutchins-athletic-field-2/2026-11-16/
LOCATION:Hutchins Athletic Field\, 36753 N. Hutchins Rd.\, Gurnee\, IL\, United States
CATEGORIES:Rentals/Outside Facility
GEO:42.397312;-87.9857789
X-APPLE-STRUCTURED-LOCATION;VALUE=URI;X-ADDRESS=Hutchins Athletic Field 36753 N. Hutchins Rd. Gurnee IL United States;X-APPLE-RADIUS=500;X-TITLE=36753 N. Hutchins Rd.:geo:-87.9857789,42.397312
END:VEVENT
BEGIN:VEVENT
DTSTART;TZID=America/Chicago:20261118T170000
DTEND;TZID=America/Chicago:20261118T203000
DTSTAMP:20260419T231920
CREATED:20260304T203457Z
LAST-MODIFIED:20260304T203457Z
UID:10002733-1795021200-1795033800@www.grandwoodpark.net
SUMMARY:LASC - Hutchins Athletic Field
DESCRIPTION:Lindenhurst Area Soccer Club
URL:https://www.grandwoodpark.net/calendar/lasc-hutchins-athletic-field-2/2026-11-18/
LOCATION:Hutchins Athletic Field\, 36753 N. Hutchins Rd.\, Gurnee\, IL\, United States
CATEGORIES:Rentals/Outside Facility
GEO:42.397312;-87.9857789
X-APPLE-STRUCTURED-LOCATION;VALUE=URI;X-ADDRESS=Hutchins Athletic Field 36753 N. Hutchins Rd. Gurnee IL United States;X-APPLE-RADIUS=500;X-TITLE=36753 N. Hutchins Rd.:geo:-87.9857789,42.397312
END:VEVENT
END:VCALENDAR