BEGIN:VCALENDAR
VERSION:2.0
PRODID:-//Grandwood Park Park District - ECPv6.15.19//NONSGML v1.0//EN
CALSCALE:GREGORIAN
METHOD:PUBLISH
X-ORIGINAL-URL:https://www.grandwoodpark.net
X-WR-CALDESC:Events for Grandwood Park Park District
REFRESH-INTERVAL;VALUE=DURATION:PT1H
X-Robots-Tag:noindex
X-PUBLISHED-TTL:PT1H
BEGIN:VTIMEZONE
TZID:America/Chicago
BEGIN:DAYLIGHT
TZOFFSETFROM:-0600
TZOFFSETTO:-0500
TZNAME:CDT
DTSTART:20260308T080000
END:DAYLIGHT
BEGIN:STANDARD
TZOFFSETFROM:-0500
TZOFFSETTO:-0600
TZNAME:CST
DTSTART:20261101T070000
END:STANDARD
BEGIN:DAYLIGHT
TZOFFSETFROM:-0600
TZOFFSETTO:-0500
TZNAME:CDT
DTSTART:20270314T080000
END:DAYLIGHT
BEGIN:STANDARD
TZOFFSETFROM:-0500
TZOFFSETTO:-0600
TZNAME:CST
DTSTART:20271107T070000
END:STANDARD
BEGIN:DAYLIGHT
TZOFFSETFROM:-0600
TZOFFSETTO:-0500
TZNAME:CDT
DTSTART:20280312T080000
END:DAYLIGHT
BEGIN:STANDARD
TZOFFSETFROM:-0500
TZOFFSETTO:-0600
TZNAME:CST
DTSTART:20281105T070000
END:STANDARD
END:VTIMEZONE
BEGIN:VEVENT
DTSTART;TZID=America/Chicago:20270104T170000
DTEND;TZID=America/Chicago:20270104T203000
DTSTAMP:20260423T054759
CREATED:20260304T203457Z
LAST-MODIFIED:20260304T203457Z
UID:10002746-1799082000-1799094600@www.grandwoodpark.net
SUMMARY:LASC - Hutchins Athletic Field
DESCRIPTION:Lindenhurst Area Soccer Club
URL:https://www.grandwoodpark.net/calendar/lasc-hutchins-athletic-field-2/2027-01-04/
LOCATION:Hutchins Athletic Field\, 36753 N. Hutchins Rd.\, Gurnee\, IL\, United States
CATEGORIES:Rentals/Outside Facility
GEO:42.397312;-87.9857789
X-APPLE-STRUCTURED-LOCATION;VALUE=URI;X-ADDRESS=Hutchins Athletic Field 36753 N. Hutchins Rd. Gurnee IL United States;X-APPLE-RADIUS=500;X-TITLE=36753 N. Hutchins Rd.:geo:-87.9857789,42.397312
END:VEVENT
BEGIN:VEVENT
DTSTART;TZID=America/Chicago:20270106T170000
DTEND;TZID=America/Chicago:20270106T203000
DTSTAMP:20260423T054759
CREATED:20260304T203457Z
LAST-MODIFIED:20260304T203457Z
UID:10002747-1799254800-1799267400@www.grandwoodpark.net
SUMMARY:LASC - Hutchins Athletic Field
DESCRIPTION:Lindenhurst Area Soccer Club
URL:https://www.grandwoodpark.net/calendar/lasc-hutchins-athletic-field-2/2027-01-06/
LOCATION:Hutchins Athletic Field\, 36753 N. Hutchins Rd.\, Gurnee\, IL\, United States
CATEGORIES:Rentals/Outside Facility
GEO:42.397312;-87.9857789
X-APPLE-STRUCTURED-LOCATION;VALUE=URI;X-ADDRESS=Hutchins Athletic Field 36753 N. Hutchins Rd. Gurnee IL United States;X-APPLE-RADIUS=500;X-TITLE=36753 N. Hutchins Rd.:geo:-87.9857789,42.397312
END:VEVENT
BEGIN:VEVENT
DTSTART;TZID=America/Chicago:20270111T170000
DTEND;TZID=America/Chicago:20270111T203000
DTSTAMP:20260423T054759
CREATED:20260304T203457Z
LAST-MODIFIED:20260304T203457Z
UID:10002748-1799686800-1799699400@www.grandwoodpark.net
SUMMARY:LASC - Hutchins Athletic Field
DESCRIPTION:Lindenhurst Area Soccer Club
URL:https://www.grandwoodpark.net/calendar/lasc-hutchins-athletic-field-2/2027-01-11/
LOCATION:Hutchins Athletic Field\, 36753 N. Hutchins Rd.\, Gurnee\, IL\, United States
CATEGORIES:Rentals/Outside Facility
GEO:42.397312;-87.9857789
X-APPLE-STRUCTURED-LOCATION;VALUE=URI;X-ADDRESS=Hutchins Athletic Field 36753 N. Hutchins Rd. Gurnee IL United States;X-APPLE-RADIUS=500;X-TITLE=36753 N. Hutchins Rd.:geo:-87.9857789,42.397312
END:VEVENT
BEGIN:VEVENT
DTSTART;TZID=America/Chicago:20270113T170000
DTEND;TZID=America/Chicago:20270113T203000
DTSTAMP:20260423T054759
CREATED:20260304T203457Z
LAST-MODIFIED:20260304T203457Z
UID:10002749-1799859600-1799872200@www.grandwoodpark.net
SUMMARY:LASC - Hutchins Athletic Field
DESCRIPTION:Lindenhurst Area Soccer Club
URL:https://www.grandwoodpark.net/calendar/lasc-hutchins-athletic-field-2/2027-01-13/
LOCATION:Hutchins Athletic Field\, 36753 N. Hutchins Rd.\, Gurnee\, IL\, United States
CATEGORIES:Rentals/Outside Facility
GEO:42.397312;-87.9857789
X-APPLE-STRUCTURED-LOCATION;VALUE=URI;X-ADDRESS=Hutchins Athletic Field 36753 N. Hutchins Rd. Gurnee IL United States;X-APPLE-RADIUS=500;X-TITLE=36753 N. Hutchins Rd.:geo:-87.9857789,42.397312
END:VEVENT
BEGIN:VEVENT
DTSTART;TZID=America/Chicago:20270118T170000
DTEND;TZID=America/Chicago:20270118T203000
DTSTAMP:20260423T054759
CREATED:20260304T203457Z
LAST-MODIFIED:20260304T203457Z
UID:10002750-1800291600-1800304200@www.grandwoodpark.net
SUMMARY:LASC - Hutchins Athletic Field
DESCRIPTION:Lindenhurst Area Soccer Club
URL:https://www.grandwoodpark.net/calendar/lasc-hutchins-athletic-field-2/2027-01-18/
LOCATION:Hutchins Athletic Field\, 36753 N. Hutchins Rd.\, Gurnee\, IL\, United States
CATEGORIES:Rentals/Outside Facility
GEO:42.397312;-87.9857789
X-APPLE-STRUCTURED-LOCATION;VALUE=URI;X-ADDRESS=Hutchins Athletic Field 36753 N. Hutchins Rd. Gurnee IL United States;X-APPLE-RADIUS=500;X-TITLE=36753 N. Hutchins Rd.:geo:-87.9857789,42.397312
END:VEVENT
BEGIN:VEVENT
DTSTART;TZID=America/Chicago:20270120T170000
DTEND;TZID=America/Chicago:20270120T203000
DTSTAMP:20260423T054759
CREATED:20260304T203457Z
LAST-MODIFIED:20260304T203457Z
UID:10002751-1800464400-1800477000@www.grandwoodpark.net
SUMMARY:LASC - Hutchins Athletic Field
DESCRIPTION:Lindenhurst Area Soccer Club
URL:https://www.grandwoodpark.net/calendar/lasc-hutchins-athletic-field-2/2027-01-20/
LOCATION:Hutchins Athletic Field\, 36753 N. Hutchins Rd.\, Gurnee\, IL\, United States
CATEGORIES:Rentals/Outside Facility
GEO:42.397312;-87.9857789
X-APPLE-STRUCTURED-LOCATION;VALUE=URI;X-ADDRESS=Hutchins Athletic Field 36753 N. Hutchins Rd. Gurnee IL United States;X-APPLE-RADIUS=500;X-TITLE=36753 N. Hutchins Rd.:geo:-87.9857789,42.397312
END:VEVENT
BEGIN:VEVENT
DTSTART;TZID=America/Chicago:20270125T170000
DTEND;TZID=America/Chicago:20270125T203000
DTSTAMP:20260423T054759
CREATED:20260304T203457Z
LAST-MODIFIED:20260304T203457Z
UID:10002752-1800896400-1800909000@www.grandwoodpark.net
SUMMARY:LASC - Hutchins Athletic Field
DESCRIPTION:Lindenhurst Area Soccer Club
URL:https://www.grandwoodpark.net/calendar/lasc-hutchins-athletic-field-2/2027-01-25/
LOCATION:Hutchins Athletic Field\, 36753 N. Hutchins Rd.\, Gurnee\, IL\, United States
CATEGORIES:Rentals/Outside Facility
GEO:42.397312;-87.9857789
X-APPLE-STRUCTURED-LOCATION;VALUE=URI;X-ADDRESS=Hutchins Athletic Field 36753 N. Hutchins Rd. Gurnee IL United States;X-APPLE-RADIUS=500;X-TITLE=36753 N. Hutchins Rd.:geo:-87.9857789,42.397312
END:VEVENT
BEGIN:VEVENT
DTSTART;TZID=America/Chicago:20270127T170000
DTEND;TZID=America/Chicago:20270127T203000
DTSTAMP:20260423T054759
CREATED:20260304T203457Z
LAST-MODIFIED:20260304T203457Z
UID:10002753-1801069200-1801081800@www.grandwoodpark.net
SUMMARY:LASC - Hutchins Athletic Field
DESCRIPTION:Lindenhurst Area Soccer Club
URL:https://www.grandwoodpark.net/calendar/lasc-hutchins-athletic-field-2/2027-01-27/
LOCATION:Hutchins Athletic Field\, 36753 N. Hutchins Rd.\, Gurnee\, IL\, United States
CATEGORIES:Rentals/Outside Facility
GEO:42.397312;-87.9857789
X-APPLE-STRUCTURED-LOCATION;VALUE=URI;X-ADDRESS=Hutchins Athletic Field 36753 N. Hutchins Rd. Gurnee IL United States;X-APPLE-RADIUS=500;X-TITLE=36753 N. Hutchins Rd.:geo:-87.9857789,42.397312
END:VEVENT
BEGIN:VEVENT
DTSTART;TZID=America/Chicago:20270201T170000
DTEND;TZID=America/Chicago:20270201T203000
DTSTAMP:20260423T054759
CREATED:20260304T203457Z
LAST-MODIFIED:20260304T203457Z
UID:10002754-1801501200-1801513800@www.grandwoodpark.net
SUMMARY:LASC - Hutchins Athletic Field
DESCRIPTION:Lindenhurst Area Soccer Club
URL:https://www.grandwoodpark.net/calendar/lasc-hutchins-athletic-field-2/2027-02-01/
LOCATION:Hutchins Athletic Field\, 36753 N. Hutchins Rd.\, Gurnee\, IL\, United States
CATEGORIES:Rentals/Outside Facility
GEO:42.397312;-87.9857789
X-APPLE-STRUCTURED-LOCATION;VALUE=URI;X-ADDRESS=Hutchins Athletic Field 36753 N. Hutchins Rd. Gurnee IL United States;X-APPLE-RADIUS=500;X-TITLE=36753 N. Hutchins Rd.:geo:-87.9857789,42.397312
END:VEVENT
BEGIN:VEVENT
DTSTART;TZID=America/Chicago:20270203T170000
DTEND;TZID=America/Chicago:20270203T203000
DTSTAMP:20260423T054759
CREATED:20260304T203457Z
LAST-MODIFIED:20260304T203457Z
UID:10002755-1801674000-1801686600@www.grandwoodpark.net
SUMMARY:LASC - Hutchins Athletic Field
DESCRIPTION:Lindenhurst Area Soccer Club
URL:https://www.grandwoodpark.net/calendar/lasc-hutchins-athletic-field-2/2027-02-03/
LOCATION:Hutchins Athletic Field\, 36753 N. Hutchins Rd.\, Gurnee\, IL\, United States
CATEGORIES:Rentals/Outside Facility
GEO:42.397312;-87.9857789
X-APPLE-STRUCTURED-LOCATION;VALUE=URI;X-ADDRESS=Hutchins Athletic Field 36753 N. Hutchins Rd. Gurnee IL United States;X-APPLE-RADIUS=500;X-TITLE=36753 N. Hutchins Rd.:geo:-87.9857789,42.397312
END:VEVENT
BEGIN:VEVENT
DTSTART;TZID=America/Chicago:20270208T170000
DTEND;TZID=America/Chicago:20270208T203000
DTSTAMP:20260423T054759
CREATED:20260304T203457Z
LAST-MODIFIED:20260304T203457Z
UID:10002756-1802106000-1802118600@www.grandwoodpark.net
SUMMARY:LASC - Hutchins Athletic Field
DESCRIPTION:Lindenhurst Area Soccer Club
URL:https://www.grandwoodpark.net/calendar/lasc-hutchins-athletic-field-2/2027-02-08/
LOCATION:Hutchins Athletic Field\, 36753 N. Hutchins Rd.\, Gurnee\, IL\, United States
CATEGORIES:Rentals/Outside Facility
GEO:42.397312;-87.9857789
X-APPLE-STRUCTURED-LOCATION;VALUE=URI;X-ADDRESS=Hutchins Athletic Field 36753 N. Hutchins Rd. Gurnee IL United States;X-APPLE-RADIUS=500;X-TITLE=36753 N. Hutchins Rd.:geo:-87.9857789,42.397312
END:VEVENT
BEGIN:VEVENT
DTSTART;TZID=America/Chicago:20270210T170000
DTEND;TZID=America/Chicago:20270210T203000
DTSTAMP:20260423T054759
CREATED:20260304T203457Z
LAST-MODIFIED:20260304T203457Z
UID:10002757-1802278800-1802291400@www.grandwoodpark.net
SUMMARY:LASC - Hutchins Athletic Field
DESCRIPTION:Lindenhurst Area Soccer Club
URL:https://www.grandwoodpark.net/calendar/lasc-hutchins-athletic-field-2/2027-02-10/
LOCATION:Hutchins Athletic Field\, 36753 N. Hutchins Rd.\, Gurnee\, IL\, United States
CATEGORIES:Rentals/Outside Facility
GEO:42.397312;-87.9857789
X-APPLE-STRUCTURED-LOCATION;VALUE=URI;X-ADDRESS=Hutchins Athletic Field 36753 N. Hutchins Rd. Gurnee IL United States;X-APPLE-RADIUS=500;X-TITLE=36753 N. Hutchins Rd.:geo:-87.9857789,42.397312
END:VEVENT
BEGIN:VEVENT
DTSTART;TZID=America/Chicago:20270215T170000
DTEND;TZID=America/Chicago:20270215T203000
DTSTAMP:20260423T054759
CREATED:20260304T203457Z
LAST-MODIFIED:20260304T203457Z
UID:10002758-1802710800-1802723400@www.grandwoodpark.net
SUMMARY:LASC - Hutchins Athletic Field
DESCRIPTION:Lindenhurst Area Soccer Club
URL:https://www.grandwoodpark.net/calendar/lasc-hutchins-athletic-field-2/2027-02-15/
LOCATION:Hutchins Athletic Field\, 36753 N. Hutchins Rd.\, Gurnee\, IL\, United States
CATEGORIES:Rentals/Outside Facility
GEO:42.397312;-87.9857789
X-APPLE-STRUCTURED-LOCATION;VALUE=URI;X-ADDRESS=Hutchins Athletic Field 36753 N. Hutchins Rd. Gurnee IL United States;X-APPLE-RADIUS=500;X-TITLE=36753 N. Hutchins Rd.:geo:-87.9857789,42.397312
END:VEVENT
BEGIN:VEVENT
DTSTART;TZID=America/Chicago:20270217T170000
DTEND;TZID=America/Chicago:20270217T203000
DTSTAMP:20260423T054759
CREATED:20260304T203457Z
LAST-MODIFIED:20260304T203457Z
UID:10002759-1802883600-1802896200@www.grandwoodpark.net
SUMMARY:LASC - Hutchins Athletic Field
DESCRIPTION:Lindenhurst Area Soccer Club
URL:https://www.grandwoodpark.net/calendar/lasc-hutchins-athletic-field-2/2027-02-17/
LOCATION:Hutchins Athletic Field\, 36753 N. Hutchins Rd.\, Gurnee\, IL\, United States
CATEGORIES:Rentals/Outside Facility
GEO:42.397312;-87.9857789
X-APPLE-STRUCTURED-LOCATION;VALUE=URI;X-ADDRESS=Hutchins Athletic Field 36753 N. Hutchins Rd. Gurnee IL United States;X-APPLE-RADIUS=500;X-TITLE=36753 N. Hutchins Rd.:geo:-87.9857789,42.397312
END:VEVENT
BEGIN:VEVENT
DTSTART;TZID=America/Chicago:20270222T170000
DTEND;TZID=America/Chicago:20270222T203000
DTSTAMP:20260423T054759
CREATED:20260304T203457Z
LAST-MODIFIED:20260304T203457Z
UID:10002760-1803315600-1803328200@www.grandwoodpark.net
SUMMARY:LASC - Hutchins Athletic Field
DESCRIPTION:Lindenhurst Area Soccer Club
URL:https://www.grandwoodpark.net/calendar/lasc-hutchins-athletic-field-2/2027-02-22/
LOCATION:Hutchins Athletic Field\, 36753 N. Hutchins Rd.\, Gurnee\, IL\, United States
CATEGORIES:Rentals/Outside Facility
GEO:42.397312;-87.9857789
X-APPLE-STRUCTURED-LOCATION;VALUE=URI;X-ADDRESS=Hutchins Athletic Field 36753 N. Hutchins Rd. Gurnee IL United States;X-APPLE-RADIUS=500;X-TITLE=36753 N. Hutchins Rd.:geo:-87.9857789,42.397312
END:VEVENT
BEGIN:VEVENT
DTSTART;TZID=America/Chicago:20270224T170000
DTEND;TZID=America/Chicago:20270224T203000
DTSTAMP:20260423T054759
CREATED:20260304T203457Z
LAST-MODIFIED:20260304T203457Z
UID:10002761-1803488400-1803501000@www.grandwoodpark.net
SUMMARY:LASC - Hutchins Athletic Field
DESCRIPTION:Lindenhurst Area Soccer Club
URL:https://www.grandwoodpark.net/calendar/lasc-hutchins-athletic-field-2/2027-02-24/
LOCATION:Hutchins Athletic Field\, 36753 N. Hutchins Rd.\, Gurnee\, IL\, United States
CATEGORIES:Rentals/Outside Facility
GEO:42.397312;-87.9857789
X-APPLE-STRUCTURED-LOCATION;VALUE=URI;X-ADDRESS=Hutchins Athletic Field 36753 N. Hutchins Rd. Gurnee IL United States;X-APPLE-RADIUS=500;X-TITLE=36753 N. Hutchins Rd.:geo:-87.9857789,42.397312
END:VEVENT
BEGIN:VEVENT
DTSTART;TZID=America/Chicago:20270301T170000
DTEND;TZID=America/Chicago:20270301T203000
DTSTAMP:20260423T054759
CREATED:20260304T203457Z
LAST-MODIFIED:20260304T203457Z
UID:10002762-1803920400-1803933000@www.grandwoodpark.net
SUMMARY:LASC - Hutchins Athletic Field
DESCRIPTION:Lindenhurst Area Soccer Club
URL:https://www.grandwoodpark.net/calendar/lasc-hutchins-athletic-field-2/2027-03-01/
LOCATION:Hutchins Athletic Field\, 36753 N. Hutchins Rd.\, Gurnee\, IL\, United States
CATEGORIES:Rentals/Outside Facility
GEO:42.397312;-87.9857789
X-APPLE-STRUCTURED-LOCATION;VALUE=URI;X-ADDRESS=Hutchins Athletic Field 36753 N. Hutchins Rd. Gurnee IL United States;X-APPLE-RADIUS=500;X-TITLE=36753 N. Hutchins Rd.:geo:-87.9857789,42.397312
END:VEVENT
BEGIN:VEVENT
DTSTART;TZID=America/Chicago:20270303T170000
DTEND;TZID=America/Chicago:20270303T203000
DTSTAMP:20260423T054759
CREATED:20260304T203457Z
LAST-MODIFIED:20260304T203457Z
UID:10002763-1804093200-1804105800@www.grandwoodpark.net
SUMMARY:LASC - Hutchins Athletic Field
DESCRIPTION:Lindenhurst Area Soccer Club
URL:https://www.grandwoodpark.net/calendar/lasc-hutchins-athletic-field-2/2027-03-03/
LOCATION:Hutchins Athletic Field\, 36753 N. Hutchins Rd.\, Gurnee\, IL\, United States
CATEGORIES:Rentals/Outside Facility
GEO:42.397312;-87.9857789
X-APPLE-STRUCTURED-LOCATION;VALUE=URI;X-ADDRESS=Hutchins Athletic Field 36753 N. Hutchins Rd. Gurnee IL United States;X-APPLE-RADIUS=500;X-TITLE=36753 N. Hutchins Rd.:geo:-87.9857789,42.397312
END:VEVENT
BEGIN:VEVENT
DTSTART;TZID=America/Chicago:20270308T170000
DTEND;TZID=America/Chicago:20270308T203000
DTSTAMP:20260423T054759
CREATED:20260304T203457Z
LAST-MODIFIED:20260304T203457Z
UID:10002764-1804525200-1804537800@www.grandwoodpark.net
SUMMARY:LASC - Hutchins Athletic Field
DESCRIPTION:Lindenhurst Area Soccer Club
URL:https://www.grandwoodpark.net/calendar/lasc-hutchins-athletic-field-2/2027-03-08/
LOCATION:Hutchins Athletic Field\, 36753 N. Hutchins Rd.\, Gurnee\, IL\, United States
CATEGORIES:Rentals/Outside Facility
GEO:42.397312;-87.9857789
X-APPLE-STRUCTURED-LOCATION;VALUE=URI;X-ADDRESS=Hutchins Athletic Field 36753 N. Hutchins Rd. Gurnee IL United States;X-APPLE-RADIUS=500;X-TITLE=36753 N. Hutchins Rd.:geo:-87.9857789,42.397312
END:VEVENT
BEGIN:VEVENT
DTSTART;TZID=America/Chicago:20270310T170000
DTEND;TZID=America/Chicago:20270310T203000
DTSTAMP:20260423T054759
CREATED:20260304T203457Z
LAST-MODIFIED:20260304T203457Z
UID:10002765-1804698000-1804710600@www.grandwoodpark.net
SUMMARY:LASC - Hutchins Athletic Field
DESCRIPTION:Lindenhurst Area Soccer Club
URL:https://www.grandwoodpark.net/calendar/lasc-hutchins-athletic-field-2/2027-03-10/
LOCATION:Hutchins Athletic Field\, 36753 N. Hutchins Rd.\, Gurnee\, IL\, United States
CATEGORIES:Rentals/Outside Facility
GEO:42.397312;-87.9857789
X-APPLE-STRUCTURED-LOCATION;VALUE=URI;X-ADDRESS=Hutchins Athletic Field 36753 N. Hutchins Rd. Gurnee IL United States;X-APPLE-RADIUS=500;X-TITLE=36753 N. Hutchins Rd.:geo:-87.9857789,42.397312
END:VEVENT
BEGIN:VEVENT
DTSTART;TZID=America/Chicago:20270315T170000
DTEND;TZID=America/Chicago:20270315T203000
DTSTAMP:20260423T054759
CREATED:20260304T203457Z
LAST-MODIFIED:20260304T203457Z
UID:10002766-1805130000-1805142600@www.grandwoodpark.net
SUMMARY:LASC - Hutchins Athletic Field
DESCRIPTION:Lindenhurst Area Soccer Club
URL:https://www.grandwoodpark.net/calendar/lasc-hutchins-athletic-field-2/2027-03-15/
LOCATION:Hutchins Athletic Field\, 36753 N. Hutchins Rd.\, Gurnee\, IL\, United States
CATEGORIES:Rentals/Outside Facility
GEO:42.397312;-87.9857789
X-APPLE-STRUCTURED-LOCATION;VALUE=URI;X-ADDRESS=Hutchins Athletic Field 36753 N. Hutchins Rd. Gurnee IL United States;X-APPLE-RADIUS=500;X-TITLE=36753 N. Hutchins Rd.:geo:-87.9857789,42.397312
END:VEVENT
BEGIN:VEVENT
DTSTART;TZID=America/Chicago:20270317T170000
DTEND;TZID=America/Chicago:20270317T203000
DTSTAMP:20260423T054759
CREATED:20260304T203457Z
LAST-MODIFIED:20260304T203457Z
UID:10002767-1805302800-1805315400@www.grandwoodpark.net
SUMMARY:LASC - Hutchins Athletic Field
DESCRIPTION:Lindenhurst Area Soccer Club
URL:https://www.grandwoodpark.net/calendar/lasc-hutchins-athletic-field-2/2027-03-17/
LOCATION:Hutchins Athletic Field\, 36753 N. Hutchins Rd.\, Gurnee\, IL\, United States
CATEGORIES:Rentals/Outside Facility
GEO:42.397312;-87.9857789
X-APPLE-STRUCTURED-LOCATION;VALUE=URI;X-ADDRESS=Hutchins Athletic Field 36753 N. Hutchins Rd. Gurnee IL United States;X-APPLE-RADIUS=500;X-TITLE=36753 N. Hutchins Rd.:geo:-87.9857789,42.397312
END:VEVENT
BEGIN:VEVENT
DTSTART;TZID=America/Chicago:20270322T170000
DTEND;TZID=America/Chicago:20270322T203000
DTSTAMP:20260423T054759
CREATED:20260304T203457Z
LAST-MODIFIED:20260304T203457Z
UID:10002768-1805734800-1805747400@www.grandwoodpark.net
SUMMARY:LASC - Hutchins Athletic Field
DESCRIPTION:Lindenhurst Area Soccer Club
URL:https://www.grandwoodpark.net/calendar/lasc-hutchins-athletic-field-2/2027-03-22/
LOCATION:Hutchins Athletic Field\, 36753 N. Hutchins Rd.\, Gurnee\, IL\, United States
CATEGORIES:Rentals/Outside Facility
GEO:42.397312;-87.9857789
X-APPLE-STRUCTURED-LOCATION;VALUE=URI;X-ADDRESS=Hutchins Athletic Field 36753 N. Hutchins Rd. Gurnee IL United States;X-APPLE-RADIUS=500;X-TITLE=36753 N. Hutchins Rd.:geo:-87.9857789,42.397312
END:VEVENT
BEGIN:VEVENT
DTSTART;TZID=America/Chicago:20270324T170000
DTEND;TZID=America/Chicago:20270324T203000
DTSTAMP:20260423T054759
CREATED:20260304T203457Z
LAST-MODIFIED:20260304T203457Z
UID:10002769-1805907600-1805920200@www.grandwoodpark.net
SUMMARY:LASC - Hutchins Athletic Field
DESCRIPTION:Lindenhurst Area Soccer Club
URL:https://www.grandwoodpark.net/calendar/lasc-hutchins-athletic-field-2/2027-03-24/
LOCATION:Hutchins Athletic Field\, 36753 N. Hutchins Rd.\, Gurnee\, IL\, United States
CATEGORIES:Rentals/Outside Facility
GEO:42.397312;-87.9857789
X-APPLE-STRUCTURED-LOCATION;VALUE=URI;X-ADDRESS=Hutchins Athletic Field 36753 N. Hutchins Rd. Gurnee IL United States;X-APPLE-RADIUS=500;X-TITLE=36753 N. Hutchins Rd.:geo:-87.9857789,42.397312
END:VEVENT
BEGIN:VEVENT
DTSTART;TZID=America/Chicago:20270329T170000
DTEND;TZID=America/Chicago:20270329T203000
DTSTAMP:20260423T054759
CREATED:20260304T203457Z
LAST-MODIFIED:20260304T203457Z
UID:10002770-1806339600-1806352200@www.grandwoodpark.net
SUMMARY:LASC - Hutchins Athletic Field
DESCRIPTION:Lindenhurst Area Soccer Club
URL:https://www.grandwoodpark.net/calendar/lasc-hutchins-athletic-field-2/2027-03-29/
LOCATION:Hutchins Athletic Field\, 36753 N. Hutchins Rd.\, Gurnee\, IL\, United States
CATEGORIES:Rentals/Outside Facility
GEO:42.397312;-87.9857789
X-APPLE-STRUCTURED-LOCATION;VALUE=URI;X-ADDRESS=Hutchins Athletic Field 36753 N. Hutchins Rd. Gurnee IL United States;X-APPLE-RADIUS=500;X-TITLE=36753 N. Hutchins Rd.:geo:-87.9857789,42.397312
END:VEVENT
BEGIN:VEVENT
DTSTART;TZID=America/Chicago:20270331T170000
DTEND;TZID=America/Chicago:20270331T203000
DTSTAMP:20260423T054759
CREATED:20260304T203457Z
LAST-MODIFIED:20260304T203457Z
UID:10002771-1806512400-1806525000@www.grandwoodpark.net
SUMMARY:LASC - Hutchins Athletic Field
DESCRIPTION:Lindenhurst Area Soccer Club
URL:https://www.grandwoodpark.net/calendar/lasc-hutchins-athletic-field-2/2027-03-31/
LOCATION:Hutchins Athletic Field\, 36753 N. Hutchins Rd.\, Gurnee\, IL\, United States
CATEGORIES:Rentals/Outside Facility
GEO:42.397312;-87.9857789
X-APPLE-STRUCTURED-LOCATION;VALUE=URI;X-ADDRESS=Hutchins Athletic Field 36753 N. Hutchins Rd. Gurnee IL United States;X-APPLE-RADIUS=500;X-TITLE=36753 N. Hutchins Rd.:geo:-87.9857789,42.397312
END:VEVENT
BEGIN:VEVENT
DTSTART;TZID=America/Chicago:20270405T170000
DTEND;TZID=America/Chicago:20270405T203000
DTSTAMP:20260423T054759
CREATED:20260304T203457Z
LAST-MODIFIED:20260304T203457Z
UID:10002772-1806944400-1806957000@www.grandwoodpark.net
SUMMARY:LASC - Hutchins Athletic Field
DESCRIPTION:Lindenhurst Area Soccer Club
URL:https://www.grandwoodpark.net/calendar/lasc-hutchins-athletic-field-2/2027-04-05/
LOCATION:Hutchins Athletic Field\, 36753 N. Hutchins Rd.\, Gurnee\, IL\, United States
CATEGORIES:Rentals/Outside Facility
GEO:42.397312;-87.9857789
X-APPLE-STRUCTURED-LOCATION;VALUE=URI;X-ADDRESS=Hutchins Athletic Field 36753 N. Hutchins Rd. Gurnee IL United States;X-APPLE-RADIUS=500;X-TITLE=36753 N. Hutchins Rd.:geo:-87.9857789,42.397312
END:VEVENT
BEGIN:VEVENT
DTSTART;TZID=America/Chicago:20270407T170000
DTEND;TZID=America/Chicago:20270407T203000
DTSTAMP:20260423T054759
CREATED:20260304T203457Z
LAST-MODIFIED:20260304T203457Z
UID:10002773-1807117200-1807129800@www.grandwoodpark.net
SUMMARY:LASC - Hutchins Athletic Field
DESCRIPTION:Lindenhurst Area Soccer Club
URL:https://www.grandwoodpark.net/calendar/lasc-hutchins-athletic-field-2/2027-04-07/
LOCATION:Hutchins Athletic Field\, 36753 N. Hutchins Rd.\, Gurnee\, IL\, United States
CATEGORIES:Rentals/Outside Facility
GEO:42.397312;-87.9857789
X-APPLE-STRUCTURED-LOCATION;VALUE=URI;X-ADDRESS=Hutchins Athletic Field 36753 N. Hutchins Rd. Gurnee IL United States;X-APPLE-RADIUS=500;X-TITLE=36753 N. Hutchins Rd.:geo:-87.9857789,42.397312
END:VEVENT
BEGIN:VEVENT
DTSTART;TZID=America/Chicago:20270412T170000
DTEND;TZID=America/Chicago:20270412T203000
DTSTAMP:20260423T054759
CREATED:20260304T203457Z
LAST-MODIFIED:20260304T203457Z
UID:10002774-1807549200-1807561800@www.grandwoodpark.net
SUMMARY:LASC - Hutchins Athletic Field
DESCRIPTION:Lindenhurst Area Soccer Club
URL:https://www.grandwoodpark.net/calendar/lasc-hutchins-athletic-field-2/2027-04-12/
LOCATION:Hutchins Athletic Field\, 36753 N. Hutchins Rd.\, Gurnee\, IL\, United States
CATEGORIES:Rentals/Outside Facility
GEO:42.397312;-87.9857789
X-APPLE-STRUCTURED-LOCATION;VALUE=URI;X-ADDRESS=Hutchins Athletic Field 36753 N. Hutchins Rd. Gurnee IL United States;X-APPLE-RADIUS=500;X-TITLE=36753 N. Hutchins Rd.:geo:-87.9857789,42.397312
END:VEVENT
BEGIN:VEVENT
DTSTART;TZID=America/Chicago:20270414T170000
DTEND;TZID=America/Chicago:20270414T203000
DTSTAMP:20260423T054759
CREATED:20260304T203457Z
LAST-MODIFIED:20260304T203457Z
UID:10002775-1807722000-1807734600@www.grandwoodpark.net
SUMMARY:LASC - Hutchins Athletic Field
DESCRIPTION:Lindenhurst Area Soccer Club
URL:https://www.grandwoodpark.net/calendar/lasc-hutchins-athletic-field-2/2027-04-14/
LOCATION:Hutchins Athletic Field\, 36753 N. Hutchins Rd.\, Gurnee\, IL\, United States
CATEGORIES:Rentals/Outside Facility
GEO:42.397312;-87.9857789
X-APPLE-STRUCTURED-LOCATION;VALUE=URI;X-ADDRESS=Hutchins Athletic Field 36753 N. Hutchins Rd. Gurnee IL United States;X-APPLE-RADIUS=500;X-TITLE=36753 N. Hutchins Rd.:geo:-87.9857789,42.397312
END:VEVENT
END:VCALENDAR