BEGIN:VCALENDAR
VERSION:2.0
PRODID:-//Grandwood Park Park District - ECPv6.15.19//NONSGML v1.0//EN
CALSCALE:GREGORIAN
METHOD:PUBLISH
X-ORIGINAL-URL:https://www.grandwoodpark.net
X-WR-CALDESC:Events for Grandwood Park Park District
REFRESH-INTERVAL;VALUE=DURATION:PT1H
X-Robots-Tag:noindex
X-PUBLISHED-TTL:PT1H
BEGIN:VTIMEZONE
TZID:America/Chicago
BEGIN:DAYLIGHT
TZOFFSETFROM:-0600
TZOFFSETTO:-0500
TZNAME:CDT
DTSTART:20260308T080000
END:DAYLIGHT
BEGIN:STANDARD
TZOFFSETFROM:-0500
TZOFFSETTO:-0600
TZNAME:CST
DTSTART:20261101T070000
END:STANDARD
BEGIN:DAYLIGHT
TZOFFSETFROM:-0600
TZOFFSETTO:-0500
TZNAME:CDT
DTSTART:20270314T080000
END:DAYLIGHT
BEGIN:STANDARD
TZOFFSETFROM:-0500
TZOFFSETTO:-0600
TZNAME:CST
DTSTART:20271107T070000
END:STANDARD
BEGIN:DAYLIGHT
TZOFFSETFROM:-0600
TZOFFSETTO:-0500
TZNAME:CDT
DTSTART:20280312T080000
END:DAYLIGHT
BEGIN:STANDARD
TZOFFSETFROM:-0500
TZOFFSETTO:-0600
TZNAME:CST
DTSTART:20281105T070000
END:STANDARD
END:VTIMEZONE
BEGIN:VEVENT
DTSTART;TZID=America/Chicago:20270315T170000
DTEND;TZID=America/Chicago:20270315T203000
DTSTAMP:20260421T120117
CREATED:20260304T203457Z
LAST-MODIFIED:20260304T203457Z
UID:10002766-1805130000-1805142600@www.grandwoodpark.net
SUMMARY:LASC - Hutchins Athletic Field
DESCRIPTION:Lindenhurst Area Soccer Club
URL:https://www.grandwoodpark.net/calendar/lasc-hutchins-athletic-field-2/2027-03-15/
LOCATION:Hutchins Athletic Field\, 36753 N. Hutchins Rd.\, Gurnee\, IL\, United States
CATEGORIES:Rentals/Outside Facility
GEO:42.397312;-87.9857789
X-APPLE-STRUCTURED-LOCATION;VALUE=URI;X-ADDRESS=Hutchins Athletic Field 36753 N. Hutchins Rd. Gurnee IL United States;X-APPLE-RADIUS=500;X-TITLE=36753 N. Hutchins Rd.:geo:-87.9857789,42.397312
END:VEVENT
BEGIN:VEVENT
DTSTART;TZID=America/Chicago:20270317T170000
DTEND;TZID=America/Chicago:20270317T203000
DTSTAMP:20260421T120117
CREATED:20260304T203457Z
LAST-MODIFIED:20260304T203457Z
UID:10002767-1805302800-1805315400@www.grandwoodpark.net
SUMMARY:LASC - Hutchins Athletic Field
DESCRIPTION:Lindenhurst Area Soccer Club
URL:https://www.grandwoodpark.net/calendar/lasc-hutchins-athletic-field-2/2027-03-17/
LOCATION:Hutchins Athletic Field\, 36753 N. Hutchins Rd.\, Gurnee\, IL\, United States
CATEGORIES:Rentals/Outside Facility
GEO:42.397312;-87.9857789
X-APPLE-STRUCTURED-LOCATION;VALUE=URI;X-ADDRESS=Hutchins Athletic Field 36753 N. Hutchins Rd. Gurnee IL United States;X-APPLE-RADIUS=500;X-TITLE=36753 N. Hutchins Rd.:geo:-87.9857789,42.397312
END:VEVENT
BEGIN:VEVENT
DTSTART;TZID=America/Chicago:20270322T170000
DTEND;TZID=America/Chicago:20270322T203000
DTSTAMP:20260421T120117
CREATED:20260304T203457Z
LAST-MODIFIED:20260304T203457Z
UID:10002768-1805734800-1805747400@www.grandwoodpark.net
SUMMARY:LASC - Hutchins Athletic Field
DESCRIPTION:Lindenhurst Area Soccer Club
URL:https://www.grandwoodpark.net/calendar/lasc-hutchins-athletic-field-2/2027-03-22/
LOCATION:Hutchins Athletic Field\, 36753 N. Hutchins Rd.\, Gurnee\, IL\, United States
CATEGORIES:Rentals/Outside Facility
GEO:42.397312;-87.9857789
X-APPLE-STRUCTURED-LOCATION;VALUE=URI;X-ADDRESS=Hutchins Athletic Field 36753 N. Hutchins Rd. Gurnee IL United States;X-APPLE-RADIUS=500;X-TITLE=36753 N. Hutchins Rd.:geo:-87.9857789,42.397312
END:VEVENT
BEGIN:VEVENT
DTSTART;TZID=America/Chicago:20270324T170000
DTEND;TZID=America/Chicago:20270324T203000
DTSTAMP:20260421T120117
CREATED:20260304T203457Z
LAST-MODIFIED:20260304T203457Z
UID:10002769-1805907600-1805920200@www.grandwoodpark.net
SUMMARY:LASC - Hutchins Athletic Field
DESCRIPTION:Lindenhurst Area Soccer Club
URL:https://www.grandwoodpark.net/calendar/lasc-hutchins-athletic-field-2/2027-03-24/
LOCATION:Hutchins Athletic Field\, 36753 N. Hutchins Rd.\, Gurnee\, IL\, United States
CATEGORIES:Rentals/Outside Facility
GEO:42.397312;-87.9857789
X-APPLE-STRUCTURED-LOCATION;VALUE=URI;X-ADDRESS=Hutchins Athletic Field 36753 N. Hutchins Rd. Gurnee IL United States;X-APPLE-RADIUS=500;X-TITLE=36753 N. Hutchins Rd.:geo:-87.9857789,42.397312
END:VEVENT
BEGIN:VEVENT
DTSTART;TZID=America/Chicago:20270329T170000
DTEND;TZID=America/Chicago:20270329T203000
DTSTAMP:20260421T120117
CREATED:20260304T203457Z
LAST-MODIFIED:20260304T203457Z
UID:10002770-1806339600-1806352200@www.grandwoodpark.net
SUMMARY:LASC - Hutchins Athletic Field
DESCRIPTION:Lindenhurst Area Soccer Club
URL:https://www.grandwoodpark.net/calendar/lasc-hutchins-athletic-field-2/2027-03-29/
LOCATION:Hutchins Athletic Field\, 36753 N. Hutchins Rd.\, Gurnee\, IL\, United States
CATEGORIES:Rentals/Outside Facility
GEO:42.397312;-87.9857789
X-APPLE-STRUCTURED-LOCATION;VALUE=URI;X-ADDRESS=Hutchins Athletic Field 36753 N. Hutchins Rd. Gurnee IL United States;X-APPLE-RADIUS=500;X-TITLE=36753 N. Hutchins Rd.:geo:-87.9857789,42.397312
END:VEVENT
BEGIN:VEVENT
DTSTART;TZID=America/Chicago:20270331T170000
DTEND;TZID=America/Chicago:20270331T203000
DTSTAMP:20260421T120117
CREATED:20260304T203457Z
LAST-MODIFIED:20260304T203457Z
UID:10002771-1806512400-1806525000@www.grandwoodpark.net
SUMMARY:LASC - Hutchins Athletic Field
DESCRIPTION:Lindenhurst Area Soccer Club
URL:https://www.grandwoodpark.net/calendar/lasc-hutchins-athletic-field-2/2027-03-31/
LOCATION:Hutchins Athletic Field\, 36753 N. Hutchins Rd.\, Gurnee\, IL\, United States
CATEGORIES:Rentals/Outside Facility
GEO:42.397312;-87.9857789
X-APPLE-STRUCTURED-LOCATION;VALUE=URI;X-ADDRESS=Hutchins Athletic Field 36753 N. Hutchins Rd. Gurnee IL United States;X-APPLE-RADIUS=500;X-TITLE=36753 N. Hutchins Rd.:geo:-87.9857789,42.397312
END:VEVENT
BEGIN:VEVENT
DTSTART;TZID=America/Chicago:20270405T170000
DTEND;TZID=America/Chicago:20270405T203000
DTSTAMP:20260421T120117
CREATED:20260304T203457Z
LAST-MODIFIED:20260304T203457Z
UID:10002772-1806944400-1806957000@www.grandwoodpark.net
SUMMARY:LASC - Hutchins Athletic Field
DESCRIPTION:Lindenhurst Area Soccer Club
URL:https://www.grandwoodpark.net/calendar/lasc-hutchins-athletic-field-2/2027-04-05/
LOCATION:Hutchins Athletic Field\, 36753 N. Hutchins Rd.\, Gurnee\, IL\, United States
CATEGORIES:Rentals/Outside Facility
GEO:42.397312;-87.9857789
X-APPLE-STRUCTURED-LOCATION;VALUE=URI;X-ADDRESS=Hutchins Athletic Field 36753 N. Hutchins Rd. Gurnee IL United States;X-APPLE-RADIUS=500;X-TITLE=36753 N. Hutchins Rd.:geo:-87.9857789,42.397312
END:VEVENT
BEGIN:VEVENT
DTSTART;TZID=America/Chicago:20270407T170000
DTEND;TZID=America/Chicago:20270407T203000
DTSTAMP:20260421T120117
CREATED:20260304T203457Z
LAST-MODIFIED:20260304T203457Z
UID:10002773-1807117200-1807129800@www.grandwoodpark.net
SUMMARY:LASC - Hutchins Athletic Field
DESCRIPTION:Lindenhurst Area Soccer Club
URL:https://www.grandwoodpark.net/calendar/lasc-hutchins-athletic-field-2/2027-04-07/
LOCATION:Hutchins Athletic Field\, 36753 N. Hutchins Rd.\, Gurnee\, IL\, United States
CATEGORIES:Rentals/Outside Facility
GEO:42.397312;-87.9857789
X-APPLE-STRUCTURED-LOCATION;VALUE=URI;X-ADDRESS=Hutchins Athletic Field 36753 N. Hutchins Rd. Gurnee IL United States;X-APPLE-RADIUS=500;X-TITLE=36753 N. Hutchins Rd.:geo:-87.9857789,42.397312
END:VEVENT
BEGIN:VEVENT
DTSTART;TZID=America/Chicago:20270412T170000
DTEND;TZID=America/Chicago:20270412T203000
DTSTAMP:20260421T120117
CREATED:20260304T203457Z
LAST-MODIFIED:20260304T203457Z
UID:10002774-1807549200-1807561800@www.grandwoodpark.net
SUMMARY:LASC - Hutchins Athletic Field
DESCRIPTION:Lindenhurst Area Soccer Club
URL:https://www.grandwoodpark.net/calendar/lasc-hutchins-athletic-field-2/2027-04-12/
LOCATION:Hutchins Athletic Field\, 36753 N. Hutchins Rd.\, Gurnee\, IL\, United States
CATEGORIES:Rentals/Outside Facility
GEO:42.397312;-87.9857789
X-APPLE-STRUCTURED-LOCATION;VALUE=URI;X-ADDRESS=Hutchins Athletic Field 36753 N. Hutchins Rd. Gurnee IL United States;X-APPLE-RADIUS=500;X-TITLE=36753 N. Hutchins Rd.:geo:-87.9857789,42.397312
END:VEVENT
BEGIN:VEVENT
DTSTART;TZID=America/Chicago:20270414T170000
DTEND;TZID=America/Chicago:20270414T203000
DTSTAMP:20260421T120117
CREATED:20260304T203457Z
LAST-MODIFIED:20260304T203457Z
UID:10002775-1807722000-1807734600@www.grandwoodpark.net
SUMMARY:LASC - Hutchins Athletic Field
DESCRIPTION:Lindenhurst Area Soccer Club
URL:https://www.grandwoodpark.net/calendar/lasc-hutchins-athletic-field-2/2027-04-14/
LOCATION:Hutchins Athletic Field\, 36753 N. Hutchins Rd.\, Gurnee\, IL\, United States
CATEGORIES:Rentals/Outside Facility
GEO:42.397312;-87.9857789
X-APPLE-STRUCTURED-LOCATION;VALUE=URI;X-ADDRESS=Hutchins Athletic Field 36753 N. Hutchins Rd. Gurnee IL United States;X-APPLE-RADIUS=500;X-TITLE=36753 N. Hutchins Rd.:geo:-87.9857789,42.397312
END:VEVENT
BEGIN:VEVENT
DTSTART;TZID=America/Chicago:20270419T170000
DTEND;TZID=America/Chicago:20270419T203000
DTSTAMP:20260421T120117
CREATED:20260304T203457Z
LAST-MODIFIED:20260304T203457Z
UID:10002776-1808154000-1808166600@www.grandwoodpark.net
SUMMARY:LASC - Hutchins Athletic Field
DESCRIPTION:Lindenhurst Area Soccer Club
URL:https://www.grandwoodpark.net/calendar/lasc-hutchins-athletic-field-2/2027-04-19/
LOCATION:Hutchins Athletic Field\, 36753 N. Hutchins Rd.\, Gurnee\, IL\, United States
CATEGORIES:Rentals/Outside Facility
GEO:42.397312;-87.9857789
X-APPLE-STRUCTURED-LOCATION;VALUE=URI;X-ADDRESS=Hutchins Athletic Field 36753 N. Hutchins Rd. Gurnee IL United States;X-APPLE-RADIUS=500;X-TITLE=36753 N. Hutchins Rd.:geo:-87.9857789,42.397312
END:VEVENT
BEGIN:VEVENT
DTSTART;TZID=America/Chicago:20270421T170000
DTEND;TZID=America/Chicago:20270421T203000
DTSTAMP:20260421T120117
CREATED:20260304T203457Z
LAST-MODIFIED:20260304T203457Z
UID:10002777-1808326800-1808339400@www.grandwoodpark.net
SUMMARY:LASC - Hutchins Athletic Field
DESCRIPTION:Lindenhurst Area Soccer Club
URL:https://www.grandwoodpark.net/calendar/lasc-hutchins-athletic-field-2/2027-04-21/
LOCATION:Hutchins Athletic Field\, 36753 N. Hutchins Rd.\, Gurnee\, IL\, United States
CATEGORIES:Rentals/Outside Facility
GEO:42.397312;-87.9857789
X-APPLE-STRUCTURED-LOCATION;VALUE=URI;X-ADDRESS=Hutchins Athletic Field 36753 N. Hutchins Rd. Gurnee IL United States;X-APPLE-RADIUS=500;X-TITLE=36753 N. Hutchins Rd.:geo:-87.9857789,42.397312
END:VEVENT
BEGIN:VEVENT
DTSTART;TZID=America/Chicago:20270426T170000
DTEND;TZID=America/Chicago:20270426T203000
DTSTAMP:20260421T120117
CREATED:20260304T203457Z
LAST-MODIFIED:20260304T203457Z
UID:10002778-1808758800-1808771400@www.grandwoodpark.net
SUMMARY:LASC - Hutchins Athletic Field
DESCRIPTION:Lindenhurst Area Soccer Club
URL:https://www.grandwoodpark.net/calendar/lasc-hutchins-athletic-field-2/2027-04-26/
LOCATION:Hutchins Athletic Field\, 36753 N. Hutchins Rd.\, Gurnee\, IL\, United States
CATEGORIES:Rentals/Outside Facility
GEO:42.397312;-87.9857789
X-APPLE-STRUCTURED-LOCATION;VALUE=URI;X-ADDRESS=Hutchins Athletic Field 36753 N. Hutchins Rd. Gurnee IL United States;X-APPLE-RADIUS=500;X-TITLE=36753 N. Hutchins Rd.:geo:-87.9857789,42.397312
END:VEVENT
BEGIN:VEVENT
DTSTART;TZID=America/Chicago:20270428T170000
DTEND;TZID=America/Chicago:20270428T203000
DTSTAMP:20260421T120117
CREATED:20260304T203457Z
LAST-MODIFIED:20260304T203457Z
UID:10002779-1808931600-1808944200@www.grandwoodpark.net
SUMMARY:LASC - Hutchins Athletic Field
DESCRIPTION:Lindenhurst Area Soccer Club
URL:https://www.grandwoodpark.net/calendar/lasc-hutchins-athletic-field-2/2027-04-28/
LOCATION:Hutchins Athletic Field\, 36753 N. Hutchins Rd.\, Gurnee\, IL\, United States
CATEGORIES:Rentals/Outside Facility
GEO:42.397312;-87.9857789
X-APPLE-STRUCTURED-LOCATION;VALUE=URI;X-ADDRESS=Hutchins Athletic Field 36753 N. Hutchins Rd. Gurnee IL United States;X-APPLE-RADIUS=500;X-TITLE=36753 N. Hutchins Rd.:geo:-87.9857789,42.397312
END:VEVENT
BEGIN:VEVENT
DTSTART;TZID=America/Chicago:20270503T170000
DTEND;TZID=America/Chicago:20270503T203000
DTSTAMP:20260421T120117
CREATED:20260304T203457Z
LAST-MODIFIED:20260304T203457Z
UID:10002780-1809363600-1809376200@www.grandwoodpark.net
SUMMARY:LASC - Hutchins Athletic Field
DESCRIPTION:Lindenhurst Area Soccer Club
URL:https://www.grandwoodpark.net/calendar/lasc-hutchins-athletic-field-2/2027-05-03/
LOCATION:Hutchins Athletic Field\, 36753 N. Hutchins Rd.\, Gurnee\, IL\, United States
CATEGORIES:Rentals/Outside Facility
GEO:42.397312;-87.9857789
X-APPLE-STRUCTURED-LOCATION;VALUE=URI;X-ADDRESS=Hutchins Athletic Field 36753 N. Hutchins Rd. Gurnee IL United States;X-APPLE-RADIUS=500;X-TITLE=36753 N. Hutchins Rd.:geo:-87.9857789,42.397312
END:VEVENT
BEGIN:VEVENT
DTSTART;TZID=America/Chicago:20270505T170000
DTEND;TZID=America/Chicago:20270505T203000
DTSTAMP:20260421T120117
CREATED:20260304T203457Z
LAST-MODIFIED:20260304T203457Z
UID:10002781-1809536400-1809549000@www.grandwoodpark.net
SUMMARY:LASC - Hutchins Athletic Field
DESCRIPTION:Lindenhurst Area Soccer Club
URL:https://www.grandwoodpark.net/calendar/lasc-hutchins-athletic-field-2/2027-05-05/
LOCATION:Hutchins Athletic Field\, 36753 N. Hutchins Rd.\, Gurnee\, IL\, United States
CATEGORIES:Rentals/Outside Facility
GEO:42.397312;-87.9857789
X-APPLE-STRUCTURED-LOCATION;VALUE=URI;X-ADDRESS=Hutchins Athletic Field 36753 N. Hutchins Rd. Gurnee IL United States;X-APPLE-RADIUS=500;X-TITLE=36753 N. Hutchins Rd.:geo:-87.9857789,42.397312
END:VEVENT
BEGIN:VEVENT
DTSTART;TZID=America/Chicago:20270510T170000
DTEND;TZID=America/Chicago:20270510T203000
DTSTAMP:20260421T120117
CREATED:20260304T203457Z
LAST-MODIFIED:20260304T203457Z
UID:10002782-1809968400-1809981000@www.grandwoodpark.net
SUMMARY:LASC - Hutchins Athletic Field
DESCRIPTION:Lindenhurst Area Soccer Club
URL:https://www.grandwoodpark.net/calendar/lasc-hutchins-athletic-field-2/2027-05-10/
LOCATION:Hutchins Athletic Field\, 36753 N. Hutchins Rd.\, Gurnee\, IL\, United States
CATEGORIES:Rentals/Outside Facility
GEO:42.397312;-87.9857789
X-APPLE-STRUCTURED-LOCATION;VALUE=URI;X-ADDRESS=Hutchins Athletic Field 36753 N. Hutchins Rd. Gurnee IL United States;X-APPLE-RADIUS=500;X-TITLE=36753 N. Hutchins Rd.:geo:-87.9857789,42.397312
END:VEVENT
BEGIN:VEVENT
DTSTART;TZID=America/Chicago:20270512T170000
DTEND;TZID=America/Chicago:20270512T203000
DTSTAMP:20260421T120117
CREATED:20260304T203457Z
LAST-MODIFIED:20260304T203457Z
UID:10002783-1810141200-1810153800@www.grandwoodpark.net
SUMMARY:LASC - Hutchins Athletic Field
DESCRIPTION:Lindenhurst Area Soccer Club
URL:https://www.grandwoodpark.net/calendar/lasc-hutchins-athletic-field-2/2027-05-12/
LOCATION:Hutchins Athletic Field\, 36753 N. Hutchins Rd.\, Gurnee\, IL\, United States
CATEGORIES:Rentals/Outside Facility
GEO:42.397312;-87.9857789
X-APPLE-STRUCTURED-LOCATION;VALUE=URI;X-ADDRESS=Hutchins Athletic Field 36753 N. Hutchins Rd. Gurnee IL United States;X-APPLE-RADIUS=500;X-TITLE=36753 N. Hutchins Rd.:geo:-87.9857789,42.397312
END:VEVENT
BEGIN:VEVENT
DTSTART;TZID=America/Chicago:20270517T170000
DTEND;TZID=America/Chicago:20270517T203000
DTSTAMP:20260421T120117
CREATED:20260304T203457Z
LAST-MODIFIED:20260304T203457Z
UID:10002784-1810573200-1810585800@www.grandwoodpark.net
SUMMARY:LASC - Hutchins Athletic Field
DESCRIPTION:Lindenhurst Area Soccer Club
URL:https://www.grandwoodpark.net/calendar/lasc-hutchins-athletic-field-2/2027-05-17/
LOCATION:Hutchins Athletic Field\, 36753 N. Hutchins Rd.\, Gurnee\, IL\, United States
CATEGORIES:Rentals/Outside Facility
GEO:42.397312;-87.9857789
X-APPLE-STRUCTURED-LOCATION;VALUE=URI;X-ADDRESS=Hutchins Athletic Field 36753 N. Hutchins Rd. Gurnee IL United States;X-APPLE-RADIUS=500;X-TITLE=36753 N. Hutchins Rd.:geo:-87.9857789,42.397312
END:VEVENT
BEGIN:VEVENT
DTSTART;TZID=America/Chicago:20270519T170000
DTEND;TZID=America/Chicago:20270519T203000
DTSTAMP:20260421T120117
CREATED:20260304T203457Z
LAST-MODIFIED:20260304T203457Z
UID:10002785-1810746000-1810758600@www.grandwoodpark.net
SUMMARY:LASC - Hutchins Athletic Field
DESCRIPTION:Lindenhurst Area Soccer Club
URL:https://www.grandwoodpark.net/calendar/lasc-hutchins-athletic-field-2/2027-05-19/
LOCATION:Hutchins Athletic Field\, 36753 N. Hutchins Rd.\, Gurnee\, IL\, United States
CATEGORIES:Rentals/Outside Facility
GEO:42.397312;-87.9857789
X-APPLE-STRUCTURED-LOCATION;VALUE=URI;X-ADDRESS=Hutchins Athletic Field 36753 N. Hutchins Rd. Gurnee IL United States;X-APPLE-RADIUS=500;X-TITLE=36753 N. Hutchins Rd.:geo:-87.9857789,42.397312
END:VEVENT
BEGIN:VEVENT
DTSTART;TZID=America/Chicago:20270524T170000
DTEND;TZID=America/Chicago:20270524T203000
DTSTAMP:20260421T120117
CREATED:20260304T203457Z
LAST-MODIFIED:20260304T203457Z
UID:10002786-1811178000-1811190600@www.grandwoodpark.net
SUMMARY:LASC - Hutchins Athletic Field
DESCRIPTION:Lindenhurst Area Soccer Club
URL:https://www.grandwoodpark.net/calendar/lasc-hutchins-athletic-field-2/2027-05-24/
LOCATION:Hutchins Athletic Field\, 36753 N. Hutchins Rd.\, Gurnee\, IL\, United States
CATEGORIES:Rentals/Outside Facility
GEO:42.397312;-87.9857789
X-APPLE-STRUCTURED-LOCATION;VALUE=URI;X-ADDRESS=Hutchins Athletic Field 36753 N. Hutchins Rd. Gurnee IL United States;X-APPLE-RADIUS=500;X-TITLE=36753 N. Hutchins Rd.:geo:-87.9857789,42.397312
END:VEVENT
BEGIN:VEVENT
DTSTART;TZID=America/Chicago:20270526T170000
DTEND;TZID=America/Chicago:20270526T203000
DTSTAMP:20260421T120117
CREATED:20260304T203457Z
LAST-MODIFIED:20260304T203457Z
UID:10002787-1811350800-1811363400@www.grandwoodpark.net
SUMMARY:LASC - Hutchins Athletic Field
DESCRIPTION:Lindenhurst Area Soccer Club
URL:https://www.grandwoodpark.net/calendar/lasc-hutchins-athletic-field-2/2027-05-26/
LOCATION:Hutchins Athletic Field\, 36753 N. Hutchins Rd.\, Gurnee\, IL\, United States
CATEGORIES:Rentals/Outside Facility
GEO:42.397312;-87.9857789
X-APPLE-STRUCTURED-LOCATION;VALUE=URI;X-ADDRESS=Hutchins Athletic Field 36753 N. Hutchins Rd. Gurnee IL United States;X-APPLE-RADIUS=500;X-TITLE=36753 N. Hutchins Rd.:geo:-87.9857789,42.397312
END:VEVENT
BEGIN:VEVENT
DTSTART;TZID=America/Chicago:20270531T170000
DTEND;TZID=America/Chicago:20270531T203000
DTSTAMP:20260421T120117
CREATED:20260304T203457Z
LAST-MODIFIED:20260304T203457Z
UID:10002788-1811782800-1811795400@www.grandwoodpark.net
SUMMARY:LASC - Hutchins Athletic Field
DESCRIPTION:Lindenhurst Area Soccer Club
URL:https://www.grandwoodpark.net/calendar/lasc-hutchins-athletic-field-2/2027-05-31/
LOCATION:Hutchins Athletic Field\, 36753 N. Hutchins Rd.\, Gurnee\, IL\, United States
CATEGORIES:Rentals/Outside Facility
GEO:42.397312;-87.9857789
X-APPLE-STRUCTURED-LOCATION;VALUE=URI;X-ADDRESS=Hutchins Athletic Field 36753 N. Hutchins Rd. Gurnee IL United States;X-APPLE-RADIUS=500;X-TITLE=36753 N. Hutchins Rd.:geo:-87.9857789,42.397312
END:VEVENT
BEGIN:VEVENT
DTSTART;TZID=America/Chicago:20270602T170000
DTEND;TZID=America/Chicago:20270602T203000
DTSTAMP:20260421T120118
CREATED:20260304T203457Z
LAST-MODIFIED:20260304T203457Z
UID:10002789-1811955600-1811968200@www.grandwoodpark.net
SUMMARY:LASC - Hutchins Athletic Field
DESCRIPTION:Lindenhurst Area Soccer Club
URL:https://www.grandwoodpark.net/calendar/lasc-hutchins-athletic-field-2/2027-06-02/
LOCATION:Hutchins Athletic Field\, 36753 N. Hutchins Rd.\, Gurnee\, IL\, United States
CATEGORIES:Rentals/Outside Facility
GEO:42.397312;-87.9857789
X-APPLE-STRUCTURED-LOCATION;VALUE=URI;X-ADDRESS=Hutchins Athletic Field 36753 N. Hutchins Rd. Gurnee IL United States;X-APPLE-RADIUS=500;X-TITLE=36753 N. Hutchins Rd.:geo:-87.9857789,42.397312
END:VEVENT
BEGIN:VEVENT
DTSTART;TZID=America/Chicago:20270607T170000
DTEND;TZID=America/Chicago:20270607T203000
DTSTAMP:20260421T120118
CREATED:20260304T203457Z
LAST-MODIFIED:20260304T203457Z
UID:10002790-1812387600-1812400200@www.grandwoodpark.net
SUMMARY:LASC - Hutchins Athletic Field
DESCRIPTION:Lindenhurst Area Soccer Club
URL:https://www.grandwoodpark.net/calendar/lasc-hutchins-athletic-field-2/2027-06-07/
LOCATION:Hutchins Athletic Field\, 36753 N. Hutchins Rd.\, Gurnee\, IL\, United States
CATEGORIES:Rentals/Outside Facility
GEO:42.397312;-87.9857789
X-APPLE-STRUCTURED-LOCATION;VALUE=URI;X-ADDRESS=Hutchins Athletic Field 36753 N. Hutchins Rd. Gurnee IL United States;X-APPLE-RADIUS=500;X-TITLE=36753 N. Hutchins Rd.:geo:-87.9857789,42.397312
END:VEVENT
BEGIN:VEVENT
DTSTART;TZID=America/Chicago:20270609T170000
DTEND;TZID=America/Chicago:20270609T203000
DTSTAMP:20260421T120118
CREATED:20260304T203457Z
LAST-MODIFIED:20260304T203457Z
UID:10002791-1812560400-1812573000@www.grandwoodpark.net
SUMMARY:LASC - Hutchins Athletic Field
DESCRIPTION:Lindenhurst Area Soccer Club
URL:https://www.grandwoodpark.net/calendar/lasc-hutchins-athletic-field-2/2027-06-09/
LOCATION:Hutchins Athletic Field\, 36753 N. Hutchins Rd.\, Gurnee\, IL\, United States
CATEGORIES:Rentals/Outside Facility
GEO:42.397312;-87.9857789
X-APPLE-STRUCTURED-LOCATION;VALUE=URI;X-ADDRESS=Hutchins Athletic Field 36753 N. Hutchins Rd. Gurnee IL United States;X-APPLE-RADIUS=500;X-TITLE=36753 N. Hutchins Rd.:geo:-87.9857789,42.397312
END:VEVENT
END:VCALENDAR