BEGIN:VCALENDAR
VERSION:2.0
PRODID:-//Grandwood Park Park District - ECPv6.15.19//NONSGML v1.0//EN
CALSCALE:GREGORIAN
METHOD:PUBLISH
X-WR-CALNAME:Grandwood Park Park District
X-ORIGINAL-URL:https://www.grandwoodpark.net
X-WR-CALDESC:Events for Grandwood Park Park District
REFRESH-INTERVAL;VALUE=DURATION:PT1H
X-Robots-Tag:noindex
X-PUBLISHED-TTL:PT1H
BEGIN:VTIMEZONE
TZID:America/Chicago
BEGIN:DAYLIGHT
TZOFFSETFROM:-0600
TZOFFSETTO:-0500
TZNAME:CDT
DTSTART:20230312T080000
END:DAYLIGHT
BEGIN:STANDARD
TZOFFSETFROM:-0500
TZOFFSETTO:-0600
TZNAME:CST
DTSTART:20231105T070000
END:STANDARD
BEGIN:DAYLIGHT
TZOFFSETFROM:-0600
TZOFFSETTO:-0500
TZNAME:CDT
DTSTART:20240310T080000
END:DAYLIGHT
BEGIN:STANDARD
TZOFFSETFROM:-0500
TZOFFSETTO:-0600
TZNAME:CST
DTSTART:20241103T070000
END:STANDARD
BEGIN:DAYLIGHT
TZOFFSETFROM:-0600
TZOFFSETTO:-0500
TZNAME:CDT
DTSTART:20250309T080000
END:DAYLIGHT
BEGIN:STANDARD
TZOFFSETFROM:-0500
TZOFFSETTO:-0600
TZNAME:CST
DTSTART:20251102T070000
END:STANDARD
END:VTIMEZONE
BEGIN:VEVENT
DTSTART;VALUE=DATE:20241013
DTEND;VALUE=DATE:20241014
DTSTAMP:20260425T062738
CREATED:20240910T231307Z
LAST-MODIFIED:20240910T231307Z
UID:10001272-1728777600-1728863999@www.grandwoodpark.net
SUMMARY:RESERVED - Community Center
DESCRIPTION:The community center is reserved all day for a rental
URL:https://www.grandwoodpark.net/calendar/reserved-community-center-122/
LOCATION:Grandwood Park Park District Community Center\, 36630 N. Hutchins Road\, Gurnee\, IL\, 60031\, United States
CATEGORIES:Rentals/Community Center
GEO:42.3951477;-87.9861865
X-APPLE-STRUCTURED-LOCATION;VALUE=URI;X-ADDRESS=Grandwood Park Park District Community Center 36630 N. Hutchins Road Gurnee IL 60031 United States;X-APPLE-RADIUS=500;X-TITLE=36630 N. Hutchins Road:geo:-87.9861865,42.3951477
END:VEVENT
BEGIN:VEVENT
DTSTART;TZID=America/Chicago:20241010T190000
DTEND;TZID=America/Chicago:20241010T210000
DTSTAMP:20260425T062738
CREATED:20240819T221749Z
LAST-MODIFIED:20240819T221805Z
UID:10001212-1728586800-1728594000@www.grandwoodpark.net
SUMMARY:Lake County Coyotes RFC
DESCRIPTION:Lake County Coyotes RFC practice
URL:https://www.grandwoodpark.net/calendar/lake-county-coyotes-rfc/2024-10-10/
LOCATION:Hutchins Athletic Field\, 36753 N. Hutchins Rd.\, Gurnee\, IL\, United States
CATEGORIES:Rentals/Outside Facility
GEO:42.397312;-87.9857789
X-APPLE-STRUCTURED-LOCATION;VALUE=URI;X-ADDRESS=Hutchins Athletic Field 36753 N. Hutchins Rd. Gurnee IL United States;X-APPLE-RADIUS=500;X-TITLE=36753 N. Hutchins Rd.:geo:-87.9857789,42.397312
END:VEVENT
BEGIN:VEVENT
DTSTART;TZID=America/Chicago:20241009T183000
DTEND;TZID=America/Chicago:20241009T200000
DTSTAMP:20260425T062738
CREATED:20240529T230853Z
LAST-MODIFIED:20240529T230853Z
UID:10001163-1728498600-1728504000@www.grandwoodpark.net
SUMMARY:GPPD Park Board Mtg.
DESCRIPTION:Grandwood Park Park District\, Board of Commissioners regularly scheduled meeting. Meetings are held in the Community Center located at 36630 N. Hutchins Road and are open to the public.
URL:https://www.grandwoodpark.net/calendar/gppd-park-board-mtg-4/2024-10-09/
LOCATION:Grandwood Park Park District Community Center Conference Room\, 36630 N. Hutchins Rd.\, Gurnee\, 60031\, United States
CATEGORIES:Meeting Schedules
GEO:42.3951477;-87.9861865
X-APPLE-STRUCTURED-LOCATION;VALUE=URI;X-ADDRESS=Grandwood Park Park District Community Center Conference Room 36630 N. Hutchins Rd. Gurnee 60031 United States;X-APPLE-RADIUS=500;X-TITLE=36630 N. Hutchins Rd.:geo:-87.9861865,42.3951477
END:VEVENT
BEGIN:VEVENT
DTSTART;TZID=America/Chicago:20241009T170000
DTEND;TZID=America/Chicago:20241009T200000
DTSTAMP:20260425T062738
CREATED:20240822T234224Z
LAST-MODIFIED:20240822T234224Z
UID:10001231-1728493200-1728504000@www.grandwoodpark.net
SUMMARY:LASC
DESCRIPTION:Lindenhurst Area Soccer Club
URL:https://www.grandwoodpark.net/calendar/lasc/2024-10-09/
LOCATION:Hutchins Athletic Field\, 36753 N. Hutchins Rd.\, Gurnee\, IL\, United States
CATEGORIES:Rentals/Outside Facility
GEO:42.397312;-87.9857789
X-APPLE-STRUCTURED-LOCATION;VALUE=URI;X-ADDRESS=Hutchins Athletic Field 36753 N. Hutchins Rd. Gurnee IL United States;X-APPLE-RADIUS=500;X-TITLE=36753 N. Hutchins Rd.:geo:-87.9857789,42.397312
END:VEVENT
BEGIN:VEVENT
DTSTART;TZID=America/Chicago:20241008T190000
DTEND;TZID=America/Chicago:20241008T210000
DTSTAMP:20260425T062738
CREATED:20240819T221749Z
LAST-MODIFIED:20240819T221805Z
UID:10001211-1728414000-1728421200@www.grandwoodpark.net
SUMMARY:Lake County Coyotes RFC
DESCRIPTION:Lake County Coyotes RFC practice
URL:https://www.grandwoodpark.net/calendar/lake-county-coyotes-rfc/2024-10-08/
LOCATION:Hutchins Athletic Field\, 36753 N. Hutchins Rd.\, Gurnee\, IL\, United States
CATEGORIES:Rentals/Outside Facility
GEO:42.397312;-87.9857789
X-APPLE-STRUCTURED-LOCATION;VALUE=URI;X-ADDRESS=Hutchins Athletic Field 36753 N. Hutchins Rd. Gurnee IL United States;X-APPLE-RADIUS=500;X-TITLE=36753 N. Hutchins Rd.:geo:-87.9857789,42.397312
END:VEVENT
BEGIN:VEVENT
DTSTART;TZID=America/Chicago:20241007T181500
DTEND;TZID=America/Chicago:20241007T193000
DTSTAMP:20260425T062738
CREATED:20240903T233726Z
LAST-MODIFIED:20240903T233726Z
UID:10001243-1728324900-1728329400@www.grandwoodpark.net
SUMMARY:Peace.Calm.Chaos YOGA
DESCRIPTION:In her class\, instructor Canella Mullins teaches using props to allow for a safer experience for the practitioner. Her teaching style offers variations of poses and places an emphasis on accessibility and alignment. No previous yoga experience is needed. \nMondays – 6:15-7:30pm\nMinimum: 6 participants\nFee: $75 for 6-week session \nDrop into any yoga class for $15 cash \nAll registrations for this class will be taken by the instructor\, Canella Mullins. Canella will accept registrations by telephone/text at 847.687.5962\, or via email at canellamullins@gmail.com. \nCanella accepts payment in advance made via PayPal using her email address\, in Venmo using her full name or @Yoganella\, or by mail. Mailing address provided upon request. \nCheck & Cash Payments can also be accepted on the first day of the class.
URL:https://www.grandwoodpark.net/calendar/peace-calm-chaos-yoga-31/2024-10-07/
LOCATION:Grandwood Park Park District Community Center\, 36630 N. Hutchins Road\, Gurnee\, IL\, 60031\, United States
CATEGORIES:Programs
GEO:42.3951477;-87.9861865
X-APPLE-STRUCTURED-LOCATION;VALUE=URI;X-ADDRESS=Grandwood Park Park District Community Center 36630 N. Hutchins Road Gurnee IL 60031 United States;X-APPLE-RADIUS=500;X-TITLE=36630 N. Hutchins Road:geo:-87.9861865,42.3951477
END:VEVENT
BEGIN:VEVENT
DTSTART;TZID=America/Chicago:20241007T170000
DTEND;TZID=America/Chicago:20241007T200000
DTSTAMP:20260425T062738
CREATED:20240822T234224Z
LAST-MODIFIED:20240822T234224Z
UID:10001230-1728320400-1728331200@www.grandwoodpark.net
SUMMARY:LASC
DESCRIPTION:Lindenhurst Area Soccer Club
URL:https://www.grandwoodpark.net/calendar/lasc/2024-10-07/
LOCATION:Hutchins Athletic Field\, 36753 N. Hutchins Rd.\, Gurnee\, IL\, United States
CATEGORIES:Rentals/Outside Facility
GEO:42.397312;-87.9857789
X-APPLE-STRUCTURED-LOCATION;VALUE=URI;X-ADDRESS=Hutchins Athletic Field 36753 N. Hutchins Rd. Gurnee IL United States;X-APPLE-RADIUS=500;X-TITLE=36753 N. Hutchins Rd.:geo:-87.9857789,42.397312
END:VEVENT
BEGIN:VEVENT
DTSTART;VALUE=DATE:20241006
DTEND;VALUE=DATE:20241007
DTSTAMP:20260425T062738
CREATED:20240924T182301Z
LAST-MODIFIED:20240924T182301Z
UID:10001274-1728172800-1728259199@www.grandwoodpark.net
SUMMARY:RESERVED - Community Center
DESCRIPTION:Community center is reserved all day for a rental
URL:https://www.grandwoodpark.net/calendar/reserved-community-center-124/
LOCATION:Grandwood Park Park District Community Center\, 36630 N. Hutchins Road\, Gurnee\, IL\, 60031\, United States
CATEGORIES:Rentals/Community Center
GEO:42.3951477;-87.9861865
X-APPLE-STRUCTURED-LOCATION;VALUE=URI;X-ADDRESS=Grandwood Park Park District Community Center 36630 N. Hutchins Road Gurnee IL 60031 United States;X-APPLE-RADIUS=500;X-TITLE=36630 N. Hutchins Road:geo:-87.9861865,42.3951477
END:VEVENT
BEGIN:VEVENT
DTSTART;TZID=America/Chicago:20241005T100000
DTEND;TZID=America/Chicago:20241005T220000
DTSTAMP:20260425T062738
CREATED:20231019T223120Z
LAST-MODIFIED:20231019T223121Z
UID:10000905-1728122400-1728165600@www.grandwoodpark.net
SUMMARY:12-hr. Scrapbook Crop
DESCRIPTION:We have the perfect place to work on your projects. We offer a bright room\, a 6′ table to yourself\, and comfortable banquet chairs. We have a ‘free’ table and a ‘garage sale’ table every month. Feel free to bring your own lunch/dinner\, go out\, or order in – there are many places in the area to choose from. A stove\, oven\, microwave\, and refrigerator/freezer are available for your convenience. The park district supplies plates\, bowls\, napkins\, and silverware. \nYou may bring a snack\, appetizer\, or dish to share if you like (optional). \nCrop hours:  10:00 am – 10:00 pm. \nAdvance registration is required — space is limited.
URL:https://www.grandwoodpark.net/calendar/12-hr-scrapbook-crop-12/
LOCATION:Grandwood Park Park District Community Center\, 36630 N. Hutchins Road\, Gurnee\, IL\, 60031\, United States
CATEGORIES:Programs
GEO:42.3951477;-87.9861865
X-APPLE-STRUCTURED-LOCATION;VALUE=URI;X-ADDRESS=Grandwood Park Park District Community Center 36630 N. Hutchins Road Gurnee IL 60031 United States;X-APPLE-RADIUS=500;X-TITLE=36630 N. Hutchins Road:geo:-87.9861865,42.3951477
END:VEVENT
BEGIN:VEVENT
DTSTART;TZID=America/Chicago:20241003T190000
DTEND;TZID=America/Chicago:20241003T210000
DTSTAMP:20260425T062738
CREATED:20240819T221749Z
LAST-MODIFIED:20240819T221805Z
UID:10001210-1727982000-1727989200@www.grandwoodpark.net
SUMMARY:Lake County Coyotes RFC
DESCRIPTION:Lake County Coyotes RFC practice
URL:https://www.grandwoodpark.net/calendar/lake-county-coyotes-rfc/2024-10-03/
LOCATION:Hutchins Athletic Field\, 36753 N. Hutchins Rd.\, Gurnee\, IL\, United States
CATEGORIES:Rentals/Outside Facility
GEO:42.397312;-87.9857789
X-APPLE-STRUCTURED-LOCATION;VALUE=URI;X-ADDRESS=Hutchins Athletic Field 36753 N. Hutchins Rd. Gurnee IL United States;X-APPLE-RADIUS=500;X-TITLE=36753 N. Hutchins Rd.:geo:-87.9857789,42.397312
END:VEVENT
BEGIN:VEVENT
DTSTART;TZID=America/Chicago:20241002T170000
DTEND;TZID=America/Chicago:20241002T200000
DTSTAMP:20260425T062738
CREATED:20240822T234224Z
LAST-MODIFIED:20240822T234224Z
UID:10001229-1727888400-1727899200@www.grandwoodpark.net
SUMMARY:LASC
DESCRIPTION:Lindenhurst Area Soccer Club
URL:https://www.grandwoodpark.net/calendar/lasc/2024-10-02/
LOCATION:Hutchins Athletic Field\, 36753 N. Hutchins Rd.\, Gurnee\, IL\, United States
CATEGORIES:Rentals/Outside Facility
GEO:42.397312;-87.9857789
X-APPLE-STRUCTURED-LOCATION;VALUE=URI;X-ADDRESS=Hutchins Athletic Field 36753 N. Hutchins Rd. Gurnee IL United States;X-APPLE-RADIUS=500;X-TITLE=36753 N. Hutchins Rd.:geo:-87.9857789,42.397312
END:VEVENT
BEGIN:VEVENT
DTSTART;TZID=America/Chicago:20241001T190000
DTEND;TZID=America/Chicago:20241001T210000
DTSTAMP:20260425T062738
CREATED:20240819T221749Z
LAST-MODIFIED:20240819T221805Z
UID:10001209-1727809200-1727816400@www.grandwoodpark.net
SUMMARY:Lake County Coyotes RFC
DESCRIPTION:Lake County Coyotes RFC practice
URL:https://www.grandwoodpark.net/calendar/lake-county-coyotes-rfc/2024-10-01/
LOCATION:Hutchins Athletic Field\, 36753 N. Hutchins Rd.\, Gurnee\, IL\, United States
CATEGORIES:Rentals/Outside Facility
GEO:42.397312;-87.9857789
X-APPLE-STRUCTURED-LOCATION;VALUE=URI;X-ADDRESS=Hutchins Athletic Field 36753 N. Hutchins Rd. Gurnee IL United States;X-APPLE-RADIUS=500;X-TITLE=36753 N. Hutchins Rd.:geo:-87.9857789,42.397312
END:VEVENT
BEGIN:VEVENT
DTSTART;TZID=America/Chicago:20240930T181500
DTEND;TZID=America/Chicago:20240930T193000
DTSTAMP:20260425T062738
CREATED:20240903T233726Z
LAST-MODIFIED:20240903T233726Z
UID:10001242-1727720100-1727724600@www.grandwoodpark.net
SUMMARY:Peace.Calm.Chaos YOGA
DESCRIPTION:In her class\, instructor Canella Mullins teaches using props to allow for a safer experience for the practitioner. Her teaching style offers variations of poses and places an emphasis on accessibility and alignment. No previous yoga experience is needed. \nMondays – 6:15-7:30pm\nMinimum: 6 participants\nFee: $75 for 6-week session \nDrop into any yoga class for $15 cash \nAll registrations for this class will be taken by the instructor\, Canella Mullins. Canella will accept registrations by telephone/text at 847.687.5962\, or via email at canellamullins@gmail.com. \nCanella accepts payment in advance made via PayPal using her email address\, in Venmo using her full name or @Yoganella\, or by mail. Mailing address provided upon request. \nCheck & Cash Payments can also be accepted on the first day of the class.
URL:https://www.grandwoodpark.net/calendar/peace-calm-chaos-yoga-31/2024-09-30/
LOCATION:Grandwood Park Park District Community Center\, 36630 N. Hutchins Road\, Gurnee\, IL\, 60031\, United States
CATEGORIES:Programs
GEO:42.3951477;-87.9861865
X-APPLE-STRUCTURED-LOCATION;VALUE=URI;X-ADDRESS=Grandwood Park Park District Community Center 36630 N. Hutchins Road Gurnee IL 60031 United States;X-APPLE-RADIUS=500;X-TITLE=36630 N. Hutchins Road:geo:-87.9861865,42.3951477
END:VEVENT
BEGIN:VEVENT
DTSTART;TZID=America/Chicago:20240930T170000
DTEND;TZID=America/Chicago:20240930T200000
DTSTAMP:20260425T062738
CREATED:20240822T234224Z
LAST-MODIFIED:20240822T234224Z
UID:10001228-1727715600-1727726400@www.grandwoodpark.net
SUMMARY:LASC
DESCRIPTION:Lindenhurst Area Soccer Club
URL:https://www.grandwoodpark.net/calendar/lasc/2024-09-30/
LOCATION:Hutchins Athletic Field\, 36753 N. Hutchins Rd.\, Gurnee\, IL\, United States
CATEGORIES:Rentals/Outside Facility
GEO:42.397312;-87.9857789
X-APPLE-STRUCTURED-LOCATION;VALUE=URI;X-ADDRESS=Hutchins Athletic Field 36753 N. Hutchins Rd. Gurnee IL United States;X-APPLE-RADIUS=500;X-TITLE=36753 N. Hutchins Rd.:geo:-87.9857789,42.397312
END:VEVENT
BEGIN:VEVENT
DTSTART;TZID=America/Chicago:20240928T130000
DTEND;TZID=America/Chicago:20240928T150000
DTSTAMP:20260425T062738
CREATED:20240819T222306Z
LAST-MODIFIED:20240819T222306Z
UID:10001216-1727528400-1727535600@www.grandwoodpark.net
SUMMARY:Lake County Coyotes RFC
DESCRIPTION:Lake County Coyotes RFC match
URL:https://www.grandwoodpark.net/calendar/lake-county-coyotes-rfc-2/2024-09-28/
LOCATION:Hutchins Athletic Field\, 36753 N. Hutchins Rd.\, Gurnee\, IL\, United States
CATEGORIES:Rentals/Outside Facility
GEO:42.397312;-87.9857789
X-APPLE-STRUCTURED-LOCATION;VALUE=URI;X-ADDRESS=Hutchins Athletic Field 36753 N. Hutchins Rd. Gurnee IL United States;X-APPLE-RADIUS=500;X-TITLE=36753 N. Hutchins Rd.:geo:-87.9857789,42.397312
END:VEVENT
BEGIN:VEVENT
DTSTART;TZID=America/Chicago:20240928T090000
DTEND;TZID=America/Chicago:20240928T230000
DTSTAMP:20260425T062739
CREATED:20240709T214955Z
LAST-MODIFIED:20240709T214955Z
UID:10001173-1727514000-1727564400@www.grandwoodpark.net
SUMMARY:RESERVED – Community Center
DESCRIPTION:Community Center is reserved for a rental
URL:https://www.grandwoodpark.net/calendar/reserved-community-center-115/
LOCATION:IL
END:VEVENT
BEGIN:VEVENT
DTSTART;TZID=America/Chicago:20240926T190000
DTEND;TZID=America/Chicago:20240926T210000
DTSTAMP:20260425T062739
CREATED:20240819T221749Z
LAST-MODIFIED:20240819T221805Z
UID:10001208-1727377200-1727384400@www.grandwoodpark.net
SUMMARY:Lake County Coyotes RFC
DESCRIPTION:Lake County Coyotes RFC practice
URL:https://www.grandwoodpark.net/calendar/lake-county-coyotes-rfc/2024-09-26/
LOCATION:Hutchins Athletic Field\, 36753 N. Hutchins Rd.\, Gurnee\, IL\, United States
CATEGORIES:Rentals/Outside Facility
GEO:42.397312;-87.9857789
X-APPLE-STRUCTURED-LOCATION;VALUE=URI;X-ADDRESS=Hutchins Athletic Field 36753 N. Hutchins Rd. Gurnee IL United States;X-APPLE-RADIUS=500;X-TITLE=36753 N. Hutchins Rd.:geo:-87.9857789,42.397312
END:VEVENT
BEGIN:VEVENT
DTSTART;TZID=America/Chicago:20240925T170000
DTEND;TZID=America/Chicago:20240925T200000
DTSTAMP:20260425T062739
CREATED:20240822T234224Z
LAST-MODIFIED:20240822T234224Z
UID:10001227-1727283600-1727294400@www.grandwoodpark.net
SUMMARY:LASC
DESCRIPTION:Lindenhurst Area Soccer Club
URL:https://www.grandwoodpark.net/calendar/lasc/2024-09-25/
LOCATION:Hutchins Athletic Field\, 36753 N. Hutchins Rd.\, Gurnee\, IL\, United States
CATEGORIES:Rentals/Outside Facility
GEO:42.397312;-87.9857789
X-APPLE-STRUCTURED-LOCATION;VALUE=URI;X-ADDRESS=Hutchins Athletic Field 36753 N. Hutchins Rd. Gurnee IL United States;X-APPLE-RADIUS=500;X-TITLE=36753 N. Hutchins Rd.:geo:-87.9857789,42.397312
END:VEVENT
BEGIN:VEVENT
DTSTART;TZID=America/Chicago:20240924T190000
DTEND;TZID=America/Chicago:20240924T210000
DTSTAMP:20260425T062739
CREATED:20240819T221749Z
LAST-MODIFIED:20240819T221805Z
UID:10001207-1727204400-1727211600@www.grandwoodpark.net
SUMMARY:Lake County Coyotes RFC
DESCRIPTION:Lake County Coyotes RFC practice
URL:https://www.grandwoodpark.net/calendar/lake-county-coyotes-rfc/2024-09-24/
LOCATION:Hutchins Athletic Field\, 36753 N. Hutchins Rd.\, Gurnee\, IL\, United States
CATEGORIES:Rentals/Outside Facility
GEO:42.397312;-87.9857789
X-APPLE-STRUCTURED-LOCATION;VALUE=URI;X-ADDRESS=Hutchins Athletic Field 36753 N. Hutchins Rd. Gurnee IL United States;X-APPLE-RADIUS=500;X-TITLE=36753 N. Hutchins Rd.:geo:-87.9857789,42.397312
END:VEVENT
BEGIN:VEVENT
DTSTART;TZID=America/Chicago:20240923T181500
DTEND;TZID=America/Chicago:20240923T193000
DTSTAMP:20260425T062739
CREATED:20240903T233726Z
LAST-MODIFIED:20240903T233726Z
UID:10001241-1727115300-1727119800@www.grandwoodpark.net
SUMMARY:Peace.Calm.Chaos YOGA
DESCRIPTION:In her class\, instructor Canella Mullins teaches using props to allow for a safer experience for the practitioner. Her teaching style offers variations of poses and places an emphasis on accessibility and alignment. No previous yoga experience is needed. \nMondays – 6:15-7:30pm\nMinimum: 6 participants\nFee: $75 for 6-week session \nDrop into any yoga class for $15 cash \nAll registrations for this class will be taken by the instructor\, Canella Mullins. Canella will accept registrations by telephone/text at 847.687.5962\, or via email at canellamullins@gmail.com. \nCanella accepts payment in advance made via PayPal using her email address\, in Venmo using her full name or @Yoganella\, or by mail. Mailing address provided upon request. \nCheck & Cash Payments can also be accepted on the first day of the class.
URL:https://www.grandwoodpark.net/calendar/peace-calm-chaos-yoga-31/2024-09-23/
LOCATION:Grandwood Park Park District Community Center\, 36630 N. Hutchins Road\, Gurnee\, IL\, 60031\, United States
CATEGORIES:Programs
GEO:42.3951477;-87.9861865
X-APPLE-STRUCTURED-LOCATION;VALUE=URI;X-ADDRESS=Grandwood Park Park District Community Center 36630 N. Hutchins Road Gurnee IL 60031 United States;X-APPLE-RADIUS=500;X-TITLE=36630 N. Hutchins Road:geo:-87.9861865,42.3951477
END:VEVENT
BEGIN:VEVENT
DTSTART;TZID=America/Chicago:20240923T170000
DTEND;TZID=America/Chicago:20240923T200000
DTSTAMP:20260425T062739
CREATED:20240822T234224Z
LAST-MODIFIED:20240822T234224Z
UID:10001226-1727110800-1727121600@www.grandwoodpark.net
SUMMARY:LASC
DESCRIPTION:Lindenhurst Area Soccer Club
URL:https://www.grandwoodpark.net/calendar/lasc/2024-09-23/
LOCATION:Hutchins Athletic Field\, 36753 N. Hutchins Rd.\, Gurnee\, IL\, United States
CATEGORIES:Rentals/Outside Facility
GEO:42.397312;-87.9857789
X-APPLE-STRUCTURED-LOCATION;VALUE=URI;X-ADDRESS=Hutchins Athletic Field 36753 N. Hutchins Rd. Gurnee IL United States;X-APPLE-RADIUS=500;X-TITLE=36753 N. Hutchins Rd.:geo:-87.9857789,42.397312
END:VEVENT
BEGIN:VEVENT
DTSTART;TZID=America/Chicago:20240921T130000
DTEND;TZID=America/Chicago:20240921T150000
DTSTAMP:20260425T062739
CREATED:20240819T222306Z
LAST-MODIFIED:20240819T222306Z
UID:10001215-1726923600-1726930800@www.grandwoodpark.net
SUMMARY:Lake County Coyotes RFC
DESCRIPTION:Lake County Coyotes RFC match
URL:https://www.grandwoodpark.net/calendar/lake-county-coyotes-rfc-2/2024-09-21/
LOCATION:Hutchins Athletic Field\, 36753 N. Hutchins Rd.\, Gurnee\, IL\, United States
CATEGORIES:Rentals/Outside Facility
GEO:42.397312;-87.9857789
X-APPLE-STRUCTURED-LOCATION;VALUE=URI;X-ADDRESS=Hutchins Athletic Field 36753 N. Hutchins Rd. Gurnee IL United States;X-APPLE-RADIUS=500;X-TITLE=36753 N. Hutchins Rd.:geo:-87.9857789,42.397312
END:VEVENT
BEGIN:VEVENT
DTSTART;TZID=America/Chicago:20240919T190000
DTEND;TZID=America/Chicago:20240919T210000
DTSTAMP:20260425T062739
CREATED:20240819T221749Z
LAST-MODIFIED:20240819T221805Z
UID:10001206-1726772400-1726779600@www.grandwoodpark.net
SUMMARY:Lake County Coyotes RFC
DESCRIPTION:Lake County Coyotes RFC practice
URL:https://www.grandwoodpark.net/calendar/lake-county-coyotes-rfc/2024-09-19/
LOCATION:Hutchins Athletic Field\, 36753 N. Hutchins Rd.\, Gurnee\, IL\, United States
CATEGORIES:Rentals/Outside Facility
GEO:42.397312;-87.9857789
X-APPLE-STRUCTURED-LOCATION;VALUE=URI;X-ADDRESS=Hutchins Athletic Field 36753 N. Hutchins Rd. Gurnee IL United States;X-APPLE-RADIUS=500;X-TITLE=36753 N. Hutchins Rd.:geo:-87.9857789,42.397312
END:VEVENT
BEGIN:VEVENT
DTSTART;TZID=America/Chicago:20240918T170000
DTEND;TZID=America/Chicago:20240918T200000
DTSTAMP:20260425T062739
CREATED:20240822T234224Z
LAST-MODIFIED:20240822T234224Z
UID:10001225-1726678800-1726689600@www.grandwoodpark.net
SUMMARY:LASC
DESCRIPTION:Lindenhurst Area Soccer Club
URL:https://www.grandwoodpark.net/calendar/lasc/2024-09-18/
LOCATION:Hutchins Athletic Field\, 36753 N. Hutchins Rd.\, Gurnee\, IL\, United States
CATEGORIES:Rentals/Outside Facility
GEO:42.397312;-87.9857789
X-APPLE-STRUCTURED-LOCATION;VALUE=URI;X-ADDRESS=Hutchins Athletic Field 36753 N. Hutchins Rd. Gurnee IL United States;X-APPLE-RADIUS=500;X-TITLE=36753 N. Hutchins Rd.:geo:-87.9857789,42.397312
END:VEVENT
BEGIN:VEVENT
DTSTART;TZID=America/Chicago:20240918T080000
DTEND;TZID=America/Chicago:20240918T170000
DTSTAMP:20260425T062739
CREATED:20231214T220230Z
LAST-MODIFIED:20240402T210417Z
UID:10000975-1726646400-1726678800@www.grandwoodpark.net
SUMMARY:Food Truck Night
DESCRIPTION:Various food trucks will be located in the Hutchins Athletic Field parking lot\, located at 36753 N. Hutchins Road\,  from 5:30 – 7:30pm. \nThe Lumpia Lady (Filipino)\nLittle Rock Stock Cafe (BBQ)\nTievoli Pizza (Pizza)\n9th Hour Brewing (Craft Beer) \nTropical Chill Shaved Hawaiian Ice & Ice Cream \n  \n(subject to change)
URL:https://www.grandwoodpark.net/calendar/food-truck-night-11/
LOCATION:Hutchins Athletic Field parking lot\, 36753 N. Hutchins Rd.\, Gurnee\, IL\, 60031\, United States
CATEGORIES:Community Events
GEO:42.397312;-87.9857789
X-APPLE-STRUCTURED-LOCATION;VALUE=URI;X-ADDRESS=Hutchins Athletic Field parking lot 36753 N. Hutchins Rd. Gurnee IL 60031 United States;X-APPLE-RADIUS=500;X-TITLE=36753 N. Hutchins Rd.:geo:-87.9857789,42.397312
END:VEVENT
BEGIN:VEVENT
DTSTART;TZID=America/Chicago:20240917T190000
DTEND;TZID=America/Chicago:20240917T210000
DTSTAMP:20260425T062739
CREATED:20240819T221749Z
LAST-MODIFIED:20240819T221805Z
UID:10001205-1726599600-1726606800@www.grandwoodpark.net
SUMMARY:Lake County Coyotes RFC
DESCRIPTION:Lake County Coyotes RFC practice
URL:https://www.grandwoodpark.net/calendar/lake-county-coyotes-rfc/2024-09-17/
LOCATION:Hutchins Athletic Field\, 36753 N. Hutchins Rd.\, Gurnee\, IL\, United States
CATEGORIES:Rentals/Outside Facility
GEO:42.397312;-87.9857789
X-APPLE-STRUCTURED-LOCATION;VALUE=URI;X-ADDRESS=Hutchins Athletic Field 36753 N. Hutchins Rd. Gurnee IL United States;X-APPLE-RADIUS=500;X-TITLE=36753 N. Hutchins Rd.:geo:-87.9857789,42.397312
END:VEVENT
BEGIN:VEVENT
DTSTART;TZID=America/Chicago:20240916T181500
DTEND;TZID=America/Chicago:20240916T193000
DTSTAMP:20260425T062739
CREATED:20240903T233726Z
LAST-MODIFIED:20240903T233726Z
UID:10001240-1726510500-1726515000@www.grandwoodpark.net
SUMMARY:Peace.Calm.Chaos YOGA
DESCRIPTION:In her class\, instructor Canella Mullins teaches using props to allow for a safer experience for the practitioner. Her teaching style offers variations of poses and places an emphasis on accessibility and alignment. No previous yoga experience is needed. \nMondays – 6:15-7:30pm\nMinimum: 6 participants\nFee: $75 for 6-week session \nDrop into any yoga class for $15 cash \nAll registrations for this class will be taken by the instructor\, Canella Mullins. Canella will accept registrations by telephone/text at 847.687.5962\, or via email at canellamullins@gmail.com. \nCanella accepts payment in advance made via PayPal using her email address\, in Venmo using her full name or @Yoganella\, or by mail. Mailing address provided upon request. \nCheck & Cash Payments can also be accepted on the first day of the class.
URL:https://www.grandwoodpark.net/calendar/peace-calm-chaos-yoga-31/2024-09-16/
LOCATION:Grandwood Park Park District Community Center\, 36630 N. Hutchins Road\, Gurnee\, IL\, 60031\, United States
CATEGORIES:Programs
GEO:42.3951477;-87.9861865
X-APPLE-STRUCTURED-LOCATION;VALUE=URI;X-ADDRESS=Grandwood Park Park District Community Center 36630 N. Hutchins Road Gurnee IL 60031 United States;X-APPLE-RADIUS=500;X-TITLE=36630 N. Hutchins Road:geo:-87.9861865,42.3951477
END:VEVENT
BEGIN:VEVENT
DTSTART;TZID=America/Chicago:20240916T170000
DTEND;TZID=America/Chicago:20240916T200000
DTSTAMP:20260425T062739
CREATED:20240822T234224Z
LAST-MODIFIED:20240822T234224Z
UID:10001224-1726506000-1726516800@www.grandwoodpark.net
SUMMARY:LASC
DESCRIPTION:Lindenhurst Area Soccer Club
URL:https://www.grandwoodpark.net/calendar/lasc/2024-09-16/
LOCATION:Hutchins Athletic Field\, 36753 N. Hutchins Rd.\, Gurnee\, IL\, United States
CATEGORIES:Rentals/Outside Facility
GEO:42.397312;-87.9857789
X-APPLE-STRUCTURED-LOCATION;VALUE=URI;X-ADDRESS=Hutchins Athletic Field 36753 N. Hutchins Rd. Gurnee IL United States;X-APPLE-RADIUS=500;X-TITLE=36753 N. Hutchins Rd.:geo:-87.9857789,42.397312
END:VEVENT
BEGIN:VEVENT
DTSTART;TZID=America/Chicago:20240914T163000
DTEND;TZID=America/Chicago:20240914T190000
DTSTAMP:20260425T062739
CREATED:20240816T210215Z
LAST-MODIFIED:20240913T195356Z
UID:10001185-1726331400-1726340400@www.grandwoodpark.net
SUMMARY:Fall Rugy Fest Bags Tournament
DESCRIPTION:To enter the tournament\, PLEASE REGISTER DURING FALL RUGBY FEST. Online registration is closed. \nThank you.
URL:https://www.grandwoodpark.net/calendar/fall-rugy-fest-bags-tournament/
LOCATION:Hutchins Athletic Field\, 36753 N. Hutchins Rd.\, Gurnee\, IL\, United States
CATEGORIES:Programs
GEO:42.397312;-87.9857789
X-APPLE-STRUCTURED-LOCATION;VALUE=URI;X-ADDRESS=Hutchins Athletic Field 36753 N. Hutchins Rd. Gurnee IL United States;X-APPLE-RADIUS=500;X-TITLE=36753 N. Hutchins Rd.:geo:-87.9857789,42.397312
END:VEVENT
BEGIN:VEVENT
DTSTART;TZID=America/Chicago:20240914T130000
DTEND;TZID=America/Chicago:20240914T150000
DTSTAMP:20260425T062739
CREATED:20240819T222306Z
LAST-MODIFIED:20240819T222306Z
UID:10001214-1726318800-1726326000@www.grandwoodpark.net
SUMMARY:Lake County Coyotes RFC
DESCRIPTION:Lake County Coyotes RFC match
URL:https://www.grandwoodpark.net/calendar/lake-county-coyotes-rfc-2/2024-09-14/
LOCATION:Hutchins Athletic Field\, 36753 N. Hutchins Rd.\, Gurnee\, IL\, United States
CATEGORIES:Rentals/Outside Facility
GEO:42.397312;-87.9857789
X-APPLE-STRUCTURED-LOCATION;VALUE=URI;X-ADDRESS=Hutchins Athletic Field 36753 N. Hutchins Rd. Gurnee IL United States;X-APPLE-RADIUS=500;X-TITLE=36753 N. Hutchins Rd.:geo:-87.9857789,42.397312
END:VEVENT
END:VCALENDAR