BEGIN:VCALENDAR
VERSION:2.0
PRODID:-//Grandwood Park Park District - ECPv6.15.19//NONSGML v1.0//EN
CALSCALE:GREGORIAN
METHOD:PUBLISH
X-WR-CALNAME:Grandwood Park Park District
X-ORIGINAL-URL:https://www.grandwoodpark.net
X-WR-CALDESC:Events for Grandwood Park Park District
REFRESH-INTERVAL;VALUE=DURATION:PT1H
X-Robots-Tag:noindex
X-PUBLISHED-TTL:PT1H
BEGIN:VTIMEZONE
TZID:America/Chicago
BEGIN:DAYLIGHT
TZOFFSETFROM:-0600
TZOFFSETTO:-0500
TZNAME:CDT
DTSTART:20230312T080000
END:DAYLIGHT
BEGIN:STANDARD
TZOFFSETFROM:-0500
TZOFFSETTO:-0600
TZNAME:CST
DTSTART:20231105T070000
END:STANDARD
BEGIN:DAYLIGHT
TZOFFSETFROM:-0600
TZOFFSETTO:-0500
TZNAME:CDT
DTSTART:20240310T080000
END:DAYLIGHT
BEGIN:STANDARD
TZOFFSETFROM:-0500
TZOFFSETTO:-0600
TZNAME:CST
DTSTART:20241103T070000
END:STANDARD
BEGIN:DAYLIGHT
TZOFFSETFROM:-0600
TZOFFSETTO:-0500
TZNAME:CDT
DTSTART:20250309T080000
END:DAYLIGHT
BEGIN:STANDARD
TZOFFSETFROM:-0500
TZOFFSETTO:-0600
TZNAME:CST
DTSTART:20251102T070000
END:STANDARD
END:VTIMEZONE
BEGIN:VEVENT
DTSTART;TZID=America/Chicago:20240923T170000
DTEND;TZID=America/Chicago:20240923T200000
DTSTAMP:20260425T075325
CREATED:20240822T234224Z
LAST-MODIFIED:20240822T234224Z
UID:10001226-1727110800-1727121600@www.grandwoodpark.net
SUMMARY:LASC
DESCRIPTION:Lindenhurst Area Soccer Club
URL:https://www.grandwoodpark.net/calendar/lasc/2024-09-23/
LOCATION:Hutchins Athletic Field\, 36753 N. Hutchins Rd.\, Gurnee\, IL\, United States
CATEGORIES:Rentals/Outside Facility
GEO:42.397312;-87.9857789
X-APPLE-STRUCTURED-LOCATION;VALUE=URI;X-ADDRESS=Hutchins Athletic Field 36753 N. Hutchins Rd. Gurnee IL United States;X-APPLE-RADIUS=500;X-TITLE=36753 N. Hutchins Rd.:geo:-87.9857789,42.397312
END:VEVENT
BEGIN:VEVENT
DTSTART;TZID=America/Chicago:20240921T130000
DTEND;TZID=America/Chicago:20240921T150000
DTSTAMP:20260425T075325
CREATED:20240819T222306Z
LAST-MODIFIED:20240819T222306Z
UID:10001215-1726923600-1726930800@www.grandwoodpark.net
SUMMARY:Lake County Coyotes RFC
DESCRIPTION:Lake County Coyotes RFC match
URL:https://www.grandwoodpark.net/calendar/lake-county-coyotes-rfc-2/2024-09-21/
LOCATION:Hutchins Athletic Field\, 36753 N. Hutchins Rd.\, Gurnee\, IL\, United States
CATEGORIES:Rentals/Outside Facility
GEO:42.397312;-87.9857789
X-APPLE-STRUCTURED-LOCATION;VALUE=URI;X-ADDRESS=Hutchins Athletic Field 36753 N. Hutchins Rd. Gurnee IL United States;X-APPLE-RADIUS=500;X-TITLE=36753 N. Hutchins Rd.:geo:-87.9857789,42.397312
END:VEVENT
BEGIN:VEVENT
DTSTART;TZID=America/Chicago:20240919T190000
DTEND;TZID=America/Chicago:20240919T210000
DTSTAMP:20260425T075325
CREATED:20240819T221749Z
LAST-MODIFIED:20240819T221805Z
UID:10001206-1726772400-1726779600@www.grandwoodpark.net
SUMMARY:Lake County Coyotes RFC
DESCRIPTION:Lake County Coyotes RFC practice
URL:https://www.grandwoodpark.net/calendar/lake-county-coyotes-rfc/2024-09-19/
LOCATION:Hutchins Athletic Field\, 36753 N. Hutchins Rd.\, Gurnee\, IL\, United States
CATEGORIES:Rentals/Outside Facility
GEO:42.397312;-87.9857789
X-APPLE-STRUCTURED-LOCATION;VALUE=URI;X-ADDRESS=Hutchins Athletic Field 36753 N. Hutchins Rd. Gurnee IL United States;X-APPLE-RADIUS=500;X-TITLE=36753 N. Hutchins Rd.:geo:-87.9857789,42.397312
END:VEVENT
BEGIN:VEVENT
DTSTART;TZID=America/Chicago:20240918T170000
DTEND;TZID=America/Chicago:20240918T200000
DTSTAMP:20260425T075325
CREATED:20240822T234224Z
LAST-MODIFIED:20240822T234224Z
UID:10001225-1726678800-1726689600@www.grandwoodpark.net
SUMMARY:LASC
DESCRIPTION:Lindenhurst Area Soccer Club
URL:https://www.grandwoodpark.net/calendar/lasc/2024-09-18/
LOCATION:Hutchins Athletic Field\, 36753 N. Hutchins Rd.\, Gurnee\, IL\, United States
CATEGORIES:Rentals/Outside Facility
GEO:42.397312;-87.9857789
X-APPLE-STRUCTURED-LOCATION;VALUE=URI;X-ADDRESS=Hutchins Athletic Field 36753 N. Hutchins Rd. Gurnee IL United States;X-APPLE-RADIUS=500;X-TITLE=36753 N. Hutchins Rd.:geo:-87.9857789,42.397312
END:VEVENT
BEGIN:VEVENT
DTSTART;TZID=America/Chicago:20240918T080000
DTEND;TZID=America/Chicago:20240918T170000
DTSTAMP:20260425T075325
CREATED:20231214T220230Z
LAST-MODIFIED:20240402T210417Z
UID:10000975-1726646400-1726678800@www.grandwoodpark.net
SUMMARY:Food Truck Night
DESCRIPTION:Various food trucks will be located in the Hutchins Athletic Field parking lot\, located at 36753 N. Hutchins Road\,  from 5:30 – 7:30pm. \nThe Lumpia Lady (Filipino)\nLittle Rock Stock Cafe (BBQ)\nTievoli Pizza (Pizza)\n9th Hour Brewing (Craft Beer) \nTropical Chill Shaved Hawaiian Ice & Ice Cream \n  \n(subject to change)
URL:https://www.grandwoodpark.net/calendar/food-truck-night-11/
LOCATION:Hutchins Athletic Field parking lot\, 36753 N. Hutchins Rd.\, Gurnee\, IL\, 60031\, United States
CATEGORIES:Community Events
GEO:42.397312;-87.9857789
X-APPLE-STRUCTURED-LOCATION;VALUE=URI;X-ADDRESS=Hutchins Athletic Field parking lot 36753 N. Hutchins Rd. Gurnee IL 60031 United States;X-APPLE-RADIUS=500;X-TITLE=36753 N. Hutchins Rd.:geo:-87.9857789,42.397312
END:VEVENT
BEGIN:VEVENT
DTSTART;TZID=America/Chicago:20240917T190000
DTEND;TZID=America/Chicago:20240917T210000
DTSTAMP:20260425T075325
CREATED:20240819T221749Z
LAST-MODIFIED:20240819T221805Z
UID:10001205-1726599600-1726606800@www.grandwoodpark.net
SUMMARY:Lake County Coyotes RFC
DESCRIPTION:Lake County Coyotes RFC practice
URL:https://www.grandwoodpark.net/calendar/lake-county-coyotes-rfc/2024-09-17/
LOCATION:Hutchins Athletic Field\, 36753 N. Hutchins Rd.\, Gurnee\, IL\, United States
CATEGORIES:Rentals/Outside Facility
GEO:42.397312;-87.9857789
X-APPLE-STRUCTURED-LOCATION;VALUE=URI;X-ADDRESS=Hutchins Athletic Field 36753 N. Hutchins Rd. Gurnee IL United States;X-APPLE-RADIUS=500;X-TITLE=36753 N. Hutchins Rd.:geo:-87.9857789,42.397312
END:VEVENT
BEGIN:VEVENT
DTSTART;TZID=America/Chicago:20240916T181500
DTEND;TZID=America/Chicago:20240916T193000
DTSTAMP:20260425T075325
CREATED:20240903T233726Z
LAST-MODIFIED:20240903T233726Z
UID:10001240-1726510500-1726515000@www.grandwoodpark.net
SUMMARY:Peace.Calm.Chaos YOGA
DESCRIPTION:In her class\, instructor Canella Mullins teaches using props to allow for a safer experience for the practitioner. Her teaching style offers variations of poses and places an emphasis on accessibility and alignment. No previous yoga experience is needed. \nMondays – 6:15-7:30pm\nMinimum: 6 participants\nFee: $75 for 6-week session \nDrop into any yoga class for $15 cash \nAll registrations for this class will be taken by the instructor\, Canella Mullins. Canella will accept registrations by telephone/text at 847.687.5962\, or via email at canellamullins@gmail.com. \nCanella accepts payment in advance made via PayPal using her email address\, in Venmo using her full name or @Yoganella\, or by mail. Mailing address provided upon request. \nCheck & Cash Payments can also be accepted on the first day of the class.
URL:https://www.grandwoodpark.net/calendar/peace-calm-chaos-yoga-31/2024-09-16/
LOCATION:Grandwood Park Park District Community Center\, 36630 N. Hutchins Road\, Gurnee\, IL\, 60031\, United States
CATEGORIES:Programs
GEO:42.3951477;-87.9861865
X-APPLE-STRUCTURED-LOCATION;VALUE=URI;X-ADDRESS=Grandwood Park Park District Community Center 36630 N. Hutchins Road Gurnee IL 60031 United States;X-APPLE-RADIUS=500;X-TITLE=36630 N. Hutchins Road:geo:-87.9861865,42.3951477
END:VEVENT
BEGIN:VEVENT
DTSTART;TZID=America/Chicago:20240916T170000
DTEND;TZID=America/Chicago:20240916T200000
DTSTAMP:20260425T075325
CREATED:20240822T234224Z
LAST-MODIFIED:20240822T234224Z
UID:10001224-1726506000-1726516800@www.grandwoodpark.net
SUMMARY:LASC
DESCRIPTION:Lindenhurst Area Soccer Club
URL:https://www.grandwoodpark.net/calendar/lasc/2024-09-16/
LOCATION:Hutchins Athletic Field\, 36753 N. Hutchins Rd.\, Gurnee\, IL\, United States
CATEGORIES:Rentals/Outside Facility
GEO:42.397312;-87.9857789
X-APPLE-STRUCTURED-LOCATION;VALUE=URI;X-ADDRESS=Hutchins Athletic Field 36753 N. Hutchins Rd. Gurnee IL United States;X-APPLE-RADIUS=500;X-TITLE=36753 N. Hutchins Rd.:geo:-87.9857789,42.397312
END:VEVENT
BEGIN:VEVENT
DTSTART;TZID=America/Chicago:20240914T163000
DTEND;TZID=America/Chicago:20240914T190000
DTSTAMP:20260425T075325
CREATED:20240816T210215Z
LAST-MODIFIED:20240913T195356Z
UID:10001185-1726331400-1726340400@www.grandwoodpark.net
SUMMARY:Fall Rugy Fest Bags Tournament
DESCRIPTION:To enter the tournament\, PLEASE REGISTER DURING FALL RUGBY FEST. Online registration is closed. \nThank you.
URL:https://www.grandwoodpark.net/calendar/fall-rugy-fest-bags-tournament/
LOCATION:Hutchins Athletic Field\, 36753 N. Hutchins Rd.\, Gurnee\, IL\, United States
CATEGORIES:Programs
GEO:42.397312;-87.9857789
X-APPLE-STRUCTURED-LOCATION;VALUE=URI;X-ADDRESS=Hutchins Athletic Field 36753 N. Hutchins Rd. Gurnee IL United States;X-APPLE-RADIUS=500;X-TITLE=36753 N. Hutchins Rd.:geo:-87.9857789,42.397312
END:VEVENT
BEGIN:VEVENT
DTSTART;TZID=America/Chicago:20240914T130000
DTEND;TZID=America/Chicago:20240914T150000
DTSTAMP:20260425T075325
CREATED:20240819T222306Z
LAST-MODIFIED:20240819T222306Z
UID:10001214-1726318800-1726326000@www.grandwoodpark.net
SUMMARY:Lake County Coyotes RFC
DESCRIPTION:Lake County Coyotes RFC match
URL:https://www.grandwoodpark.net/calendar/lake-county-coyotes-rfc-2/2024-09-14/
LOCATION:Hutchins Athletic Field\, 36753 N. Hutchins Rd.\, Gurnee\, IL\, United States
CATEGORIES:Rentals/Outside Facility
GEO:42.397312;-87.9857789
X-APPLE-STRUCTURED-LOCATION;VALUE=URI;X-ADDRESS=Hutchins Athletic Field 36753 N. Hutchins Rd. Gurnee IL United States;X-APPLE-RADIUS=500;X-TITLE=36753 N. Hutchins Rd.:geo:-87.9857789,42.397312
END:VEVENT
BEGIN:VEVENT
DTSTART;TZID=America/Chicago:20240914T120000
DTEND;TZID=America/Chicago:20240914T230000
DTSTAMP:20260425T075325
CREATED:20240309T000736Z
LAST-MODIFIED:20240830T190536Z
UID:10001086-1726315200-1726354800@www.grandwoodpark.net
SUMMARY:Fall Rugby Fest
DESCRIPTION:Location: Hutchins Athletic Field\n36753 N. Hutchins Rd.\, Gurnee \n  \nSchedule \n\n12:00pm – event opens with Introduction to Rugby\, and food trucks and beer & wine sales begin\n1:00pm – Chicago Blaze vs Lake County Coyotes Rugby match\n2:30pm – Kids DJ\, games\, & face painting\n3:00pm – Youth Coyotes match\n4:00pm – live music: Joe Cantafio\n4:30pm – Bags Tournament begins  (sign up online here)\n5:45pm – Military Recognition\, 50/50 raffle winner announced\n6:00pm – live music: Identity Crisis\n9:00 – Bonfire\n\nThe Park District is still looking for volunteers to help with various items during the fest. You may volunteer for as little as one hour\, or as many as you like. Without volunteers\, some items on the schedule will have to be cancelled. We are looking for bartenders\, kids game coordinator\, parking help\, set up on Friday\, and take down on Sunday. Please call 847-356-0008 to volunteer\, or email parkdistrict@grandwoodpark.net. Thank you!
URL:https://www.grandwoodpark.net/calendar/fall-rugby-fest/
LOCATION:Hutchins Athletic Field\, 36753 N. Hutchins Rd.\, Gurnee\, IL\, United States
CATEGORIES:Community Events
GEO:42.397312;-87.9857789
X-APPLE-STRUCTURED-LOCATION;VALUE=URI;X-ADDRESS=Hutchins Athletic Field 36753 N. Hutchins Rd. Gurnee IL United States;X-APPLE-RADIUS=500;X-TITLE=36753 N. Hutchins Rd.:geo:-87.9857789,42.397312
END:VEVENT
BEGIN:VEVENT
DTSTART;TZID=America/Chicago:20240914T100000
DTEND;TZID=America/Chicago:20240914T110000
DTSTAMP:20260425T075325
CREATED:20240819T221105Z
LAST-MODIFIED:20240819T221105Z
UID:10001196-1726308000-1726311600@www.grandwoodpark.net
SUMMARY:Youth Coyotes Rugby
DESCRIPTION:Lake County Youth Coyotes Rugby match
URL:https://www.grandwoodpark.net/calendar/youth-coyotes-rugby-2/2024-09-14/
LOCATION:Hutchins Athletic Field\, 36753 N. Hutchins Rd.\, Gurnee\, IL\, United States
GEO:42.397312;-87.9857789
X-APPLE-STRUCTURED-LOCATION;VALUE=URI;X-ADDRESS=Hutchins Athletic Field 36753 N. Hutchins Rd. Gurnee IL United States;X-APPLE-RADIUS=500;X-TITLE=36753 N. Hutchins Rd.:geo:-87.9857789,42.397312
END:VEVENT
BEGIN:VEVENT
DTSTART;TZID=America/Chicago:20240912T190000
DTEND;TZID=America/Chicago:20240912T210000
DTSTAMP:20260425T075325
CREATED:20240819T221749Z
LAST-MODIFIED:20240819T221805Z
UID:10001204-1726167600-1726174800@www.grandwoodpark.net
SUMMARY:Lake County Coyotes RFC
DESCRIPTION:Lake County Coyotes RFC practice
URL:https://www.grandwoodpark.net/calendar/lake-county-coyotes-rfc/2024-09-12/
LOCATION:Hutchins Athletic Field\, 36753 N. Hutchins Rd.\, Gurnee\, IL\, United States
CATEGORIES:Rentals/Outside Facility
GEO:42.397312;-87.9857789
X-APPLE-STRUCTURED-LOCATION;VALUE=URI;X-ADDRESS=Hutchins Athletic Field 36753 N. Hutchins Rd. Gurnee IL United States;X-APPLE-RADIUS=500;X-TITLE=36753 N. Hutchins Rd.:geo:-87.9857789,42.397312
END:VEVENT
BEGIN:VEVENT
DTSTART;TZID=America/Chicago:20240912T170000
DTEND;TZID=America/Chicago:20240912T183000
DTSTAMP:20260425T075325
CREATED:20240819T213816Z
LAST-MODIFIED:20240819T213816Z
UID:10001193-1726160400-1726165800@www.grandwoodpark.net
SUMMARY:Youth Coyotes Rugby
DESCRIPTION:Lake County Youth Coyotes practice session
URL:https://www.grandwoodpark.net/calendar/youth-coyotes-rugby/2024-09-12/
LOCATION:Hutchins Athletic Field\, 36753 N. Hutchins Rd.\, Gurnee\, IL\, United States
GEO:42.397312;-87.9857789
X-APPLE-STRUCTURED-LOCATION;VALUE=URI;X-ADDRESS=Hutchins Athletic Field 36753 N. Hutchins Rd. Gurnee IL United States;X-APPLE-RADIUS=500;X-TITLE=36753 N. Hutchins Rd.:geo:-87.9857789,42.397312
END:VEVENT
BEGIN:VEVENT
DTSTART;TZID=America/Chicago:20240911T183000
DTEND;TZID=America/Chicago:20240911T200000
DTSTAMP:20260425T075325
CREATED:20240529T230853Z
LAST-MODIFIED:20240529T230853Z
UID:10001162-1726079400-1726084800@www.grandwoodpark.net
SUMMARY:GPPD Park Board Mtg.
DESCRIPTION:Grandwood Park Park District\, Board of Commissioners regularly scheduled meeting. Meetings are held in the Community Center located at 36630 N. Hutchins Road and are open to the public.
URL:https://www.grandwoodpark.net/calendar/gppd-park-board-mtg-4/2024-09-11/
LOCATION:Grandwood Park Park District Community Center Conference Room\, 36630 N. Hutchins Rd.\, Gurnee\, 60031\, United States
CATEGORIES:Meeting Schedules
GEO:42.3951477;-87.9861865
X-APPLE-STRUCTURED-LOCATION;VALUE=URI;X-ADDRESS=Grandwood Park Park District Community Center Conference Room 36630 N. Hutchins Rd. Gurnee 60031 United States;X-APPLE-RADIUS=500;X-TITLE=36630 N. Hutchins Rd.:geo:-87.9861865,42.3951477
END:VEVENT
BEGIN:VEVENT
DTSTART;TZID=America/Chicago:20240911T170000
DTEND;TZID=America/Chicago:20240911T200000
DTSTAMP:20260425T075325
CREATED:20240822T234224Z
LAST-MODIFIED:20240822T234224Z
UID:10001223-1726074000-1726084800@www.grandwoodpark.net
SUMMARY:LASC
DESCRIPTION:Lindenhurst Area Soccer Club
URL:https://www.grandwoodpark.net/calendar/lasc/2024-09-11/
LOCATION:Hutchins Athletic Field\, 36753 N. Hutchins Rd.\, Gurnee\, IL\, United States
CATEGORIES:Rentals/Outside Facility
GEO:42.397312;-87.9857789
X-APPLE-STRUCTURED-LOCATION;VALUE=URI;X-ADDRESS=Hutchins Athletic Field 36753 N. Hutchins Rd. Gurnee IL United States;X-APPLE-RADIUS=500;X-TITLE=36753 N. Hutchins Rd.:geo:-87.9857789,42.397312
END:VEVENT
BEGIN:VEVENT
DTSTART;TZID=America/Chicago:20240910T190000
DTEND;TZID=America/Chicago:20240910T210000
DTSTAMP:20260425T075325
CREATED:20240819T221749Z
LAST-MODIFIED:20240819T221805Z
UID:10001203-1725994800-1726002000@www.grandwoodpark.net
SUMMARY:Lake County Coyotes RFC
DESCRIPTION:Lake County Coyotes RFC practice
URL:https://www.grandwoodpark.net/calendar/lake-county-coyotes-rfc/2024-09-10/
LOCATION:Hutchins Athletic Field\, 36753 N. Hutchins Rd.\, Gurnee\, IL\, United States
CATEGORIES:Rentals/Outside Facility
GEO:42.397312;-87.9857789
X-APPLE-STRUCTURED-LOCATION;VALUE=URI;X-ADDRESS=Hutchins Athletic Field 36753 N. Hutchins Rd. Gurnee IL United States;X-APPLE-RADIUS=500;X-TITLE=36753 N. Hutchins Rd.:geo:-87.9857789,42.397312
END:VEVENT
BEGIN:VEVENT
DTSTART;TZID=America/Chicago:20240910T170000
DTEND;TZID=America/Chicago:20240910T183000
DTSTAMP:20260425T075325
CREATED:20240819T213816Z
LAST-MODIFIED:20240819T213816Z
UID:10001192-1725987600-1725993000@www.grandwoodpark.net
SUMMARY:Youth Coyotes Rugby
DESCRIPTION:Lake County Youth Coyotes practice session
URL:https://www.grandwoodpark.net/calendar/youth-coyotes-rugby/2024-09-10/
LOCATION:Hutchins Athletic Field\, 36753 N. Hutchins Rd.\, Gurnee\, IL\, United States
GEO:42.397312;-87.9857789
X-APPLE-STRUCTURED-LOCATION;VALUE=URI;X-ADDRESS=Hutchins Athletic Field 36753 N. Hutchins Rd. Gurnee IL United States;X-APPLE-RADIUS=500;X-TITLE=36753 N. Hutchins Rd.:geo:-87.9857789,42.397312
END:VEVENT
BEGIN:VEVENT
DTSTART;TZID=America/Chicago:20240909T181500
DTEND;TZID=America/Chicago:20240909T193000
DTSTAMP:20260425T075325
CREATED:20240903T233726Z
LAST-MODIFIED:20240903T233726Z
UID:10001239-1725905700-1725910200@www.grandwoodpark.net
SUMMARY:Peace.Calm.Chaos YOGA
DESCRIPTION:In her class\, instructor Canella Mullins teaches using props to allow for a safer experience for the practitioner. Her teaching style offers variations of poses and places an emphasis on accessibility and alignment. No previous yoga experience is needed. \nMondays – 6:15-7:30pm\nMinimum: 6 participants\nFee: $75 for 6-week session \nDrop into any yoga class for $15 cash \nAll registrations for this class will be taken by the instructor\, Canella Mullins. Canella will accept registrations by telephone/text at 847.687.5962\, or via email at canellamullins@gmail.com. \nCanella accepts payment in advance made via PayPal using her email address\, in Venmo using her full name or @Yoganella\, or by mail. Mailing address provided upon request. \nCheck & Cash Payments can also be accepted on the first day of the class.
URL:https://www.grandwoodpark.net/calendar/peace-calm-chaos-yoga-31/2024-09-09/
LOCATION:Grandwood Park Park District Community Center\, 36630 N. Hutchins Road\, Gurnee\, IL\, 60031\, United States
CATEGORIES:Programs
GEO:42.3951477;-87.9861865
X-APPLE-STRUCTURED-LOCATION;VALUE=URI;X-ADDRESS=Grandwood Park Park District Community Center 36630 N. Hutchins Road Gurnee IL 60031 United States;X-APPLE-RADIUS=500;X-TITLE=36630 N. Hutchins Road:geo:-87.9861865,42.3951477
END:VEVENT
BEGIN:VEVENT
DTSTART;TZID=America/Chicago:20240909T170000
DTEND;TZID=America/Chicago:20240909T200000
DTSTAMP:20260425T075325
CREATED:20240822T234224Z
LAST-MODIFIED:20240822T234224Z
UID:10001222-1725901200-1725912000@www.grandwoodpark.net
SUMMARY:LASC
DESCRIPTION:Lindenhurst Area Soccer Club
URL:https://www.grandwoodpark.net/calendar/lasc/2024-09-09/
LOCATION:Hutchins Athletic Field\, 36753 N. Hutchins Rd.\, Gurnee\, IL\, United States
CATEGORIES:Rentals/Outside Facility
GEO:42.397312;-87.9857789
X-APPLE-STRUCTURED-LOCATION;VALUE=URI;X-ADDRESS=Hutchins Athletic Field 36753 N. Hutchins Rd. Gurnee IL United States;X-APPLE-RADIUS=500;X-TITLE=36753 N. Hutchins Rd.:geo:-87.9857789,42.397312
END:VEVENT
BEGIN:VEVENT
DTSTART;TZID=America/Chicago:20240908T090000
DTEND;TZID=America/Chicago:20240908T150000
DTSTAMP:20260425T075325
CREATED:20240709T213814Z
LAST-MODIFIED:20240709T213814Z
UID:10001172-1725786000-1725807600@www.grandwoodpark.net
SUMMARY:RESERVED – Community Center
DESCRIPTION:Community Center is reserved for a rental.
URL:https://www.grandwoodpark.net/calendar/reserved-community-center-114/
LOCATION:Grandwood Park Park District Community Center\, 36630 N. Hutchins Road\, Gurnee\, IL\, 60031\, United States
GEO:42.3951477;-87.9861865
X-APPLE-STRUCTURED-LOCATION;VALUE=URI;X-ADDRESS=Grandwood Park Park District Community Center 36630 N. Hutchins Road Gurnee IL 60031 United States;X-APPLE-RADIUS=500;X-TITLE=36630 N. Hutchins Road:geo:-87.9861865,42.3951477
END:VEVENT
BEGIN:VEVENT
DTSTART;TZID=America/Chicago:20240907T100000
DTEND;TZID=America/Chicago:20240907T220000
DTSTAMP:20260425T075325
CREATED:20231019T223038Z
LAST-MODIFIED:20240828T182155Z
UID:10000904-1725703200-1725746400@www.grandwoodpark.net
SUMMARY:12-hr. Scrapbook Crop
DESCRIPTION:THIS EVENT IS FULL.
URL:https://www.grandwoodpark.net/calendar/12-hr-scrapbook-crop-11/
LOCATION:Grandwood Park Park District Community Center\, 36630 N. Hutchins Road\, Gurnee\, IL\, 60031\, United States
CATEGORIES:Programs
GEO:42.3951477;-87.9861865
X-APPLE-STRUCTURED-LOCATION;VALUE=URI;X-ADDRESS=Grandwood Park Park District Community Center 36630 N. Hutchins Road Gurnee IL 60031 United States;X-APPLE-RADIUS=500;X-TITLE=36630 N. Hutchins Road:geo:-87.9861865,42.3951477
END:VEVENT
BEGIN:VEVENT
DTSTART;TZID=America/Chicago:20240907T100000
DTEND;TZID=America/Chicago:20240907T110000
DTSTAMP:20260425T075325
CREATED:20240819T221105Z
LAST-MODIFIED:20240819T221105Z
UID:10001195-1725703200-1725706800@www.grandwoodpark.net
SUMMARY:Youth Coyotes Rugby
DESCRIPTION:Lake County Youth Coyotes Rugby match
URL:https://www.grandwoodpark.net/calendar/youth-coyotes-rugby-2/2024-09-07/
LOCATION:Hutchins Athletic Field\, 36753 N. Hutchins Rd.\, Gurnee\, IL\, United States
GEO:42.397312;-87.9857789
X-APPLE-STRUCTURED-LOCATION;VALUE=URI;X-ADDRESS=Hutchins Athletic Field 36753 N. Hutchins Rd. Gurnee IL United States;X-APPLE-RADIUS=500;X-TITLE=36753 N. Hutchins Rd.:geo:-87.9857789,42.397312
END:VEVENT
BEGIN:VEVENT
DTSTART;TZID=America/Chicago:20240905T190000
DTEND;TZID=America/Chicago:20240905T210000
DTSTAMP:20260425T075325
CREATED:20240819T221749Z
LAST-MODIFIED:20240819T221805Z
UID:10001202-1725562800-1725570000@www.grandwoodpark.net
SUMMARY:Lake County Coyotes RFC
DESCRIPTION:Lake County Coyotes RFC practice
URL:https://www.grandwoodpark.net/calendar/lake-county-coyotes-rfc/2024-09-05/
LOCATION:Hutchins Athletic Field\, 36753 N. Hutchins Rd.\, Gurnee\, IL\, United States
CATEGORIES:Rentals/Outside Facility
GEO:42.397312;-87.9857789
X-APPLE-STRUCTURED-LOCATION;VALUE=URI;X-ADDRESS=Hutchins Athletic Field 36753 N. Hutchins Rd. Gurnee IL United States;X-APPLE-RADIUS=500;X-TITLE=36753 N. Hutchins Rd.:geo:-87.9857789,42.397312
END:VEVENT
BEGIN:VEVENT
DTSTART;TZID=America/Chicago:20240905T170000
DTEND;TZID=America/Chicago:20240905T183000
DTSTAMP:20260425T075325
CREATED:20240819T213816Z
LAST-MODIFIED:20240819T213816Z
UID:10001191-1725555600-1725561000@www.grandwoodpark.net
SUMMARY:Youth Coyotes Rugby
DESCRIPTION:Lake County Youth Coyotes practice session
URL:https://www.grandwoodpark.net/calendar/youth-coyotes-rugby/2024-09-05/
LOCATION:Hutchins Athletic Field\, 36753 N. Hutchins Rd.\, Gurnee\, IL\, United States
GEO:42.397312;-87.9857789
X-APPLE-STRUCTURED-LOCATION;VALUE=URI;X-ADDRESS=Hutchins Athletic Field 36753 N. Hutchins Rd. Gurnee IL United States;X-APPLE-RADIUS=500;X-TITLE=36753 N. Hutchins Rd.:geo:-87.9857789,42.397312
END:VEVENT
BEGIN:VEVENT
DTSTART;TZID=America/Chicago:20240904T173000
DTEND;TZID=America/Chicago:20240904T193000
DTSTAMP:20260425T075325
CREATED:20231214T220151Z
LAST-MODIFIED:20240402T210502Z
UID:10000974-1725471000-1725478200@www.grandwoodpark.net
SUMMARY:Food Truck Night
DESCRIPTION:Various food trucks will be located in the Hutchins Athletic Field parking lot\, located at 36753 N. Hutchins Road\,  from 5:30 – 7:30pm. \nPina Mexican Eats (Mexican)\nSoullicious (Grill)\nLittle Rock Stock Cafe (BBQ)\n9th Hour Brewing (Craft Beer) \nLa Humita Desserts (Sweets) \n  \n(subject to change)
URL:https://www.grandwoodpark.net/calendar/food-truck-night-10/
LOCATION:Hutchins Athletic Field parking lot\, 36753 N. Hutchins Rd.\, Gurnee\, IL\, 60031\, United States
CATEGORIES:Community Events
GEO:42.397312;-87.9857789
X-APPLE-STRUCTURED-LOCATION;VALUE=URI;X-ADDRESS=Hutchins Athletic Field parking lot 36753 N. Hutchins Rd. Gurnee IL 60031 United States;X-APPLE-RADIUS=500;X-TITLE=36753 N. Hutchins Rd.:geo:-87.9857789,42.397312
END:VEVENT
BEGIN:VEVENT
DTSTART;TZID=America/Chicago:20240904T170000
DTEND;TZID=America/Chicago:20240904T200000
DTSTAMP:20260425T075325
CREATED:20240822T234224Z
LAST-MODIFIED:20240822T234224Z
UID:10001221-1725469200-1725480000@www.grandwoodpark.net
SUMMARY:LASC
DESCRIPTION:Lindenhurst Area Soccer Club
URL:https://www.grandwoodpark.net/calendar/lasc/2024-09-04/
LOCATION:Hutchins Athletic Field\, 36753 N. Hutchins Rd.\, Gurnee\, IL\, United States
CATEGORIES:Rentals/Outside Facility
GEO:42.397312;-87.9857789
X-APPLE-STRUCTURED-LOCATION;VALUE=URI;X-ADDRESS=Hutchins Athletic Field 36753 N. Hutchins Rd. Gurnee IL United States;X-APPLE-RADIUS=500;X-TITLE=36753 N. Hutchins Rd.:geo:-87.9857789,42.397312
END:VEVENT
BEGIN:VEVENT
DTSTART;TZID=America/Chicago:20240903T190000
DTEND;TZID=America/Chicago:20240903T210000
DTSTAMP:20260425T075325
CREATED:20240819T221749Z
LAST-MODIFIED:20240819T221805Z
UID:10001201-1725390000-1725397200@www.grandwoodpark.net
SUMMARY:Lake County Coyotes RFC
DESCRIPTION:Lake County Coyotes RFC practice
URL:https://www.grandwoodpark.net/calendar/lake-county-coyotes-rfc/2024-09-03/
LOCATION:Hutchins Athletic Field\, 36753 N. Hutchins Rd.\, Gurnee\, IL\, United States
CATEGORIES:Rentals/Outside Facility
GEO:42.397312;-87.9857789
X-APPLE-STRUCTURED-LOCATION;VALUE=URI;X-ADDRESS=Hutchins Athletic Field 36753 N. Hutchins Rd. Gurnee IL United States;X-APPLE-RADIUS=500;X-TITLE=36753 N. Hutchins Rd.:geo:-87.9857789,42.397312
END:VEVENT
BEGIN:VEVENT
DTSTART;TZID=America/Chicago:20240903T170000
DTEND;TZID=America/Chicago:20240903T183000
DTSTAMP:20260425T075325
CREATED:20240819T213816Z
LAST-MODIFIED:20240819T213816Z
UID:10001190-1725382800-1725388200@www.grandwoodpark.net
SUMMARY:Youth Coyotes Rugby
DESCRIPTION:Lake County Youth Coyotes practice session
URL:https://www.grandwoodpark.net/calendar/youth-coyotes-rugby/2024-09-03/
LOCATION:Hutchins Athletic Field\, 36753 N. Hutchins Rd.\, Gurnee\, IL\, United States
GEO:42.397312;-87.9857789
X-APPLE-STRUCTURED-LOCATION;VALUE=URI;X-ADDRESS=Hutchins Athletic Field 36753 N. Hutchins Rd. Gurnee IL United States;X-APPLE-RADIUS=500;X-TITLE=36753 N. Hutchins Rd.:geo:-87.9857789,42.397312
END:VEVENT
BEGIN:VEVENT
DTSTART;TZID=America/Chicago:20240829T190000
DTEND;TZID=America/Chicago:20240829T210000
DTSTAMP:20260425T075325
CREATED:20240819T221749Z
LAST-MODIFIED:20240819T221805Z
UID:10001200-1724958000-1724965200@www.grandwoodpark.net
SUMMARY:Lake County Coyotes RFC
DESCRIPTION:Lake County Coyotes RFC practice
URL:https://www.grandwoodpark.net/calendar/lake-county-coyotes-rfc/2024-08-29/
LOCATION:Hutchins Athletic Field\, 36753 N. Hutchins Rd.\, Gurnee\, IL\, United States
CATEGORIES:Rentals/Outside Facility
GEO:42.397312;-87.9857789
X-APPLE-STRUCTURED-LOCATION;VALUE=URI;X-ADDRESS=Hutchins Athletic Field 36753 N. Hutchins Rd. Gurnee IL United States;X-APPLE-RADIUS=500;X-TITLE=36753 N. Hutchins Rd.:geo:-87.9857789,42.397312
END:VEVENT
END:VCALENDAR