BEGIN:VCALENDAR
VERSION:2.0
PRODID:-//Grandwood Park Park District - ECPv6.15.19//NONSGML v1.0//EN
CALSCALE:GREGORIAN
METHOD:PUBLISH
X-ORIGINAL-URL:https://www.grandwoodpark.net
X-WR-CALDESC:Events for Grandwood Park Park District
REFRESH-INTERVAL;VALUE=DURATION:PT1H
X-Robots-Tag:noindex
X-PUBLISHED-TTL:PT1H
BEGIN:VTIMEZONE
TZID:America/Chicago
BEGIN:DAYLIGHT
TZOFFSETFROM:-0600
TZOFFSETTO:-0500
TZNAME:CDT
DTSTART:20240310T080000
END:DAYLIGHT
BEGIN:STANDARD
TZOFFSETFROM:-0500
TZOFFSETTO:-0600
TZNAME:CST
DTSTART:20241103T070000
END:STANDARD
BEGIN:DAYLIGHT
TZOFFSETFROM:-0600
TZOFFSETTO:-0500
TZNAME:CDT
DTSTART:20250309T080000
END:DAYLIGHT
BEGIN:STANDARD
TZOFFSETFROM:-0500
TZOFFSETTO:-0600
TZNAME:CST
DTSTART:20251102T070000
END:STANDARD
BEGIN:DAYLIGHT
TZOFFSETFROM:-0600
TZOFFSETTO:-0500
TZNAME:CDT
DTSTART:20260308T080000
END:DAYLIGHT
BEGIN:STANDARD
TZOFFSETFROM:-0500
TZOFFSETTO:-0600
TZNAME:CST
DTSTART:20261101T070000
END:STANDARD
END:VTIMEZONE
BEGIN:VEVENT
DTSTART;TZID=America/Chicago:20250415T170000
DTEND;TZID=America/Chicago:20250415T183000
DTSTAMP:20260425T104759
CREATED:20250129T214456Z
LAST-MODIFIED:20250129T214456Z
UID:10001379-1744736400-1744741800@www.grandwoodpark.net
SUMMARY:Lake County Youth Coyotes
DESCRIPTION:Lake County Youth Coyotes
URL:https://www.grandwoodpark.net/calendar/lake-county-youth-coyotes/2025-04-15/
LOCATION:Hutchins Athletic Field\, 36753 N. Hutchins Rd.\, Gurnee\, IL\, United States
CATEGORIES:Community Events
GEO:42.397312;-87.9857789
X-APPLE-STRUCTURED-LOCATION;VALUE=URI;X-ADDRESS=Hutchins Athletic Field 36753 N. Hutchins Rd. Gurnee IL United States;X-APPLE-RADIUS=500;X-TITLE=36753 N. Hutchins Rd.:geo:-87.9857789,42.397312
END:VEVENT
BEGIN:VEVENT
DTSTART;TZID=America/Chicago:20250415T190000
DTEND;TZID=America/Chicago:20250415T210000
DTSTAMP:20260425T104759
CREATED:20250129T213858Z
LAST-MODIFIED:20250129T214011Z
UID:10001363-1744743600-1744750800@www.grandwoodpark.net
SUMMARY:Lake County Coyotes RFC
DESCRIPTION:Lake County Coyotes RFC practice \n  \nFor more information about the league and the Lake County Coyotes RFC\, please go to their website
URL:https://www.grandwoodpark.net/calendar/lake-county-coyotes-rfc-4/2025-04-15/
LOCATION:Hutchins Athletic Field\, 36753 N. Hutchins Rd.\, Gurnee\, IL\, United States
CATEGORIES:Community Events
GEO:42.397312;-87.9857789
X-APPLE-STRUCTURED-LOCATION;VALUE=URI;X-ADDRESS=Hutchins Athletic Field 36753 N. Hutchins Rd. Gurnee IL United States;X-APPLE-RADIUS=500;X-TITLE=36753 N. Hutchins Rd.:geo:-87.9857789,42.397312
END:VEVENT
BEGIN:VEVENT
DTSTART;TZID=America/Chicago:20250416T170000
DTEND;TZID=America/Chicago:20250416T200000
DTSTAMP:20260425T104759
CREATED:20250129T231243Z
LAST-MODIFIED:20250129T231243Z
UID:10001402-1744822800-1744833600@www.grandwoodpark.net
SUMMARY:LASC
DESCRIPTION:LASC (Lindenhurst Area Soccer Club) Practice
URL:https://www.grandwoodpark.net/calendar/lasc-2/2025-04-16/
LOCATION:Hutchins Athletic Field\, 36753 N. Hutchins Rd.\, Gurnee\, IL\, United States
CATEGORIES:Rentals/Outside Facility
GEO:42.397312;-87.9857789
X-APPLE-STRUCTURED-LOCATION;VALUE=URI;X-ADDRESS=Hutchins Athletic Field 36753 N. Hutchins Rd. Gurnee IL United States;X-APPLE-RADIUS=500;X-TITLE=36753 N. Hutchins Rd.:geo:-87.9857789,42.397312
END:VEVENT
BEGIN:VEVENT
DTSTART;TZID=America/Chicago:20250417T153000
DTEND;TZID=America/Chicago:20250417T170000
DTSTAMP:20260425T104759
CREATED:20250217T213015Z
LAST-MODIFIED:20250715T193855Z
UID:10001435-1744903800-1744909200@www.grandwoodpark.net
SUMMARY:Kihap Martial Arts
DESCRIPTION:Classes are held on Tuesdays and Thursdays \n3-4 year olds: 3:30-4:00pm\n5-6 year olds: 4:00-4:45pm\n7-14 year olds: 5:00-5:45pm\n15 and up: 6:00-6:45pm \nFee:  $120 per month (additional children $110 each) \nAll registrations/payments are handled by Coach Joff.\nRegister in-person\, or email trainupwithcoachhoff@gmail.com \nNot sure? Come in and try a class at no charge.
URL:https://www.grandwoodpark.net/calendar/kihap-martial-arts/2025-04-17/
LOCATION:Grandwood Park Park District Community Center\, 36630 N. Hutchins Road\, Gurnee\, IL\, 60031\, United States
CATEGORIES:Programs
GEO:42.3951477;-87.9861865
X-APPLE-STRUCTURED-LOCATION;VALUE=URI;X-ADDRESS=Grandwood Park Park District Community Center 36630 N. Hutchins Road Gurnee IL 60031 United States;X-APPLE-RADIUS=500;X-TITLE=36630 N. Hutchins Road:geo:-87.9861865,42.3951477
END:VEVENT
BEGIN:VEVENT
DTSTART;TZID=America/Chicago:20250417T170000
DTEND;TZID=America/Chicago:20250417T183000
DTSTAMP:20260425T104759
CREATED:20250129T214456Z
LAST-MODIFIED:20250129T214456Z
UID:10001380-1744909200-1744914600@www.grandwoodpark.net
SUMMARY:Lake County Youth Coyotes
DESCRIPTION:Lake County Youth Coyotes
URL:https://www.grandwoodpark.net/calendar/lake-county-youth-coyotes/2025-04-17/
LOCATION:Hutchins Athletic Field\, 36753 N. Hutchins Rd.\, Gurnee\, IL\, United States
CATEGORIES:Community Events
GEO:42.397312;-87.9857789
X-APPLE-STRUCTURED-LOCATION;VALUE=URI;X-ADDRESS=Hutchins Athletic Field 36753 N. Hutchins Rd. Gurnee IL United States;X-APPLE-RADIUS=500;X-TITLE=36753 N. Hutchins Rd.:geo:-87.9857789,42.397312
END:VEVENT
BEGIN:VEVENT
DTSTART;TZID=America/Chicago:20250417T190000
DTEND;TZID=America/Chicago:20250417T210000
DTSTAMP:20260425T104759
CREATED:20250129T213858Z
LAST-MODIFIED:20250129T214011Z
UID:10001364-1744916400-1744923600@www.grandwoodpark.net
SUMMARY:Lake County Coyotes RFC
DESCRIPTION:Lake County Coyotes RFC practice \n  \nFor more information about the league and the Lake County Coyotes RFC\, please go to their website
URL:https://www.grandwoodpark.net/calendar/lake-county-coyotes-rfc-4/2025-04-17/
LOCATION:Hutchins Athletic Field\, 36753 N. Hutchins Rd.\, Gurnee\, IL\, United States
CATEGORIES:Community Events
GEO:42.397312;-87.9857789
X-APPLE-STRUCTURED-LOCATION;VALUE=URI;X-ADDRESS=Hutchins Athletic Field 36753 N. Hutchins Rd. Gurnee IL United States;X-APPLE-RADIUS=500;X-TITLE=36753 N. Hutchins Rd.:geo:-87.9857789,42.397312
END:VEVENT
BEGIN:VEVENT
DTSTART;VALUE=DATE:20250419
DTEND;VALUE=DATE:20250420
DTSTAMP:20260425T104759
CREATED:20250129T185234Z
LAST-MODIFIED:20250129T185420Z
UID:10001320-1745020800-1745107199@www.grandwoodpark.net
SUMMARY:RESERVED - Community Center
DESCRIPTION:Community Center is reserved all day for a rental
URL:https://www.grandwoodpark.net/calendar/reserved-community-center-143/
LOCATION:Grandwood Park Park District Community Center\, 36630 N. Hutchins Road\, Gurnee\, IL\, 60031\, United States
CATEGORIES:Rentals/Community Center
GEO:42.3951477;-87.9861865
X-APPLE-STRUCTURED-LOCATION;VALUE=URI;X-ADDRESS=Grandwood Park Park District Community Center 36630 N. Hutchins Road Gurnee IL 60031 United States;X-APPLE-RADIUS=500;X-TITLE=36630 N. Hutchins Road:geo:-87.9861865,42.3951477
END:VEVENT
BEGIN:VEVENT
DTSTART;TZID=America/Chicago:20250419T100000
DTEND;TZID=America/Chicago:20250419T110000
DTSTAMP:20260425T104759
CREATED:20250129T214640Z
LAST-MODIFIED:20250129T214640Z
UID:10001392-1745056800-1745060400@www.grandwoodpark.net
SUMMARY:Lake County Youth Coyotes
DESCRIPTION:Lake County Youth Coyotes match
URL:https://www.grandwoodpark.net/calendar/lake-county-youth-coyotes-2/2025-04-19/
LOCATION:Hutchins Athletic Field\, 36753 N. Hutchins Rd.\, Gurnee\, IL\, United States
CATEGORIES:Community Events
GEO:42.397312;-87.9857789
X-APPLE-STRUCTURED-LOCATION;VALUE=URI;X-ADDRESS=Hutchins Athletic Field 36753 N. Hutchins Rd. Gurnee IL United States;X-APPLE-RADIUS=500;X-TITLE=36753 N. Hutchins Rd.:geo:-87.9857789,42.397312
END:VEVENT
BEGIN:VEVENT
DTSTART;TZID=America/Chicago:20250421T170000
DTEND;TZID=America/Chicago:20250421T200000
DTSTAMP:20260425T104759
CREATED:20250129T231243Z
LAST-MODIFIED:20250129T231243Z
UID:10001403-1745254800-1745265600@www.grandwoodpark.net
SUMMARY:LASC
DESCRIPTION:LASC (Lindenhurst Area Soccer Club) Practice
URL:https://www.grandwoodpark.net/calendar/lasc-2/2025-04-21/
LOCATION:Hutchins Athletic Field\, 36753 N. Hutchins Rd.\, Gurnee\, IL\, United States
CATEGORIES:Rentals/Outside Facility
GEO:42.397312;-87.9857789
X-APPLE-STRUCTURED-LOCATION;VALUE=URI;X-ADDRESS=Hutchins Athletic Field 36753 N. Hutchins Rd. Gurnee IL United States;X-APPLE-RADIUS=500;X-TITLE=36753 N. Hutchins Rd.:geo:-87.9857789,42.397312
END:VEVENT
BEGIN:VEVENT
DTSTART;TZID=America/Chicago:20250421T181500
DTEND;TZID=America/Chicago:20250421T193000
DTSTAMP:20260425T104759
CREATED:20250315T032441Z
LAST-MODIFIED:20250315T032442Z
UID:10001331-1745259300-1745263800@www.grandwoodpark.net
SUMMARY:Peace.Calm.Chaos YOGA
DESCRIPTION:In her class\, instructor Canella Mullins teaches using props to allow for a safer experience for the practitioner. Her teaching style offers variations of poses and places an emphasis on accessibility and alignment. No previous yoga experience is needed. \nMondays – 6:15-7:30pm\nMinimum: 6 participants\nFee: $75 for 6-week session \nDrop into any yoga class for $15 cash \nAll registrations for this class will be taken by the instructor\, Canella Mullins. Canella will accept registrations by telephone/text at 847.687.5962\, or via email at canellamullins@gmail.com. \nCanella accepts payment in advance made via PayPal using her email address\, in Venmo using her full name or @Yoganella\, or by mail. Mailing address provided upon request. \nCheck & Cash Payments can also be accepted on the first day of the class.
URL:https://www.grandwoodpark.net/calendar/peace-calm-chaos-yoga-34/2025-04-21/
LOCATION:Grandwood Park Park District Community Center\, 36630 N. Hutchins Road\, Gurnee\, IL\, 60031\, United States
CATEGORIES:Programs
GEO:42.3951477;-87.9861865
X-APPLE-STRUCTURED-LOCATION;VALUE=URI;X-ADDRESS=Grandwood Park Park District Community Center 36630 N. Hutchins Road Gurnee IL 60031 United States;X-APPLE-RADIUS=500;X-TITLE=36630 N. Hutchins Road:geo:-87.9861865,42.3951477
END:VEVENT
BEGIN:VEVENT
DTSTART;TZID=America/Chicago:20250422T153000
DTEND;TZID=America/Chicago:20250422T170000
DTSTAMP:20260425T104759
CREATED:20250217T213015Z
LAST-MODIFIED:20250715T193855Z
UID:10001436-1745335800-1745341200@www.grandwoodpark.net
SUMMARY:Kihap Martial Arts
DESCRIPTION:Classes are held on Tuesdays and Thursdays \n3-4 year olds: 3:30-4:00pm\n5-6 year olds: 4:00-4:45pm\n7-14 year olds: 5:00-5:45pm\n15 and up: 6:00-6:45pm \nFee:  $120 per month (additional children $110 each) \nAll registrations/payments are handled by Coach Joff.\nRegister in-person\, or email trainupwithcoachhoff@gmail.com \nNot sure? Come in and try a class at no charge.
URL:https://www.grandwoodpark.net/calendar/kihap-martial-arts/2025-04-22/
LOCATION:Grandwood Park Park District Community Center\, 36630 N. Hutchins Road\, Gurnee\, IL\, 60031\, United States
CATEGORIES:Programs
GEO:42.3951477;-87.9861865
X-APPLE-STRUCTURED-LOCATION;VALUE=URI;X-ADDRESS=Grandwood Park Park District Community Center 36630 N. Hutchins Road Gurnee IL 60031 United States;X-APPLE-RADIUS=500;X-TITLE=36630 N. Hutchins Road:geo:-87.9861865,42.3951477
END:VEVENT
BEGIN:VEVENT
DTSTART;TZID=America/Chicago:20250422T170000
DTEND;TZID=America/Chicago:20250422T183000
DTSTAMP:20260425T104759
CREATED:20250129T214456Z
LAST-MODIFIED:20250129T214456Z
UID:10001381-1745341200-1745346600@www.grandwoodpark.net
SUMMARY:Lake County Youth Coyotes
DESCRIPTION:Lake County Youth Coyotes
URL:https://www.grandwoodpark.net/calendar/lake-county-youth-coyotes/2025-04-22/
LOCATION:Hutchins Athletic Field\, 36753 N. Hutchins Rd.\, Gurnee\, IL\, United States
CATEGORIES:Community Events
GEO:42.397312;-87.9857789
X-APPLE-STRUCTURED-LOCATION;VALUE=URI;X-ADDRESS=Hutchins Athletic Field 36753 N. Hutchins Rd. Gurnee IL United States;X-APPLE-RADIUS=500;X-TITLE=36753 N. Hutchins Rd.:geo:-87.9857789,42.397312
END:VEVENT
BEGIN:VEVENT
DTSTART;TZID=America/Chicago:20250422T190000
DTEND;TZID=America/Chicago:20250422T210000
DTSTAMP:20260425T104759
CREATED:20250129T213858Z
LAST-MODIFIED:20250129T214011Z
UID:10001365-1745348400-1745355600@www.grandwoodpark.net
SUMMARY:Lake County Coyotes RFC
DESCRIPTION:Lake County Coyotes RFC practice \n  \nFor more information about the league and the Lake County Coyotes RFC\, please go to their website
URL:https://www.grandwoodpark.net/calendar/lake-county-coyotes-rfc-4/2025-04-22/
LOCATION:Hutchins Athletic Field\, 36753 N. Hutchins Rd.\, Gurnee\, IL\, United States
CATEGORIES:Community Events
GEO:42.397312;-87.9857789
X-APPLE-STRUCTURED-LOCATION;VALUE=URI;X-ADDRESS=Hutchins Athletic Field 36753 N. Hutchins Rd. Gurnee IL United States;X-APPLE-RADIUS=500;X-TITLE=36753 N. Hutchins Rd.:geo:-87.9857789,42.397312
END:VEVENT
BEGIN:VEVENT
DTSTART;TZID=America/Chicago:20250423T170000
DTEND;TZID=America/Chicago:20250423T200000
DTSTAMP:20260425T104759
CREATED:20250129T231243Z
LAST-MODIFIED:20250129T231243Z
UID:10001404-1745427600-1745438400@www.grandwoodpark.net
SUMMARY:LASC
DESCRIPTION:LASC (Lindenhurst Area Soccer Club) Practice
URL:https://www.grandwoodpark.net/calendar/lasc-2/2025-04-23/
LOCATION:Hutchins Athletic Field\, 36753 N. Hutchins Rd.\, Gurnee\, IL\, United States
CATEGORIES:Rentals/Outside Facility
GEO:42.397312;-87.9857789
X-APPLE-STRUCTURED-LOCATION;VALUE=URI;X-ADDRESS=Hutchins Athletic Field 36753 N. Hutchins Rd. Gurnee IL United States;X-APPLE-RADIUS=500;X-TITLE=36753 N. Hutchins Rd.:geo:-87.9857789,42.397312
END:VEVENT
BEGIN:VEVENT
DTSTART;TZID=America/Chicago:20250424T153000
DTEND;TZID=America/Chicago:20250424T170000
DTSTAMP:20260425T104759
CREATED:20250217T213015Z
LAST-MODIFIED:20250715T193855Z
UID:10001437-1745508600-1745514000@www.grandwoodpark.net
SUMMARY:Kihap Martial Arts
DESCRIPTION:Classes are held on Tuesdays and Thursdays \n3-4 year olds: 3:30-4:00pm\n5-6 year olds: 4:00-4:45pm\n7-14 year olds: 5:00-5:45pm\n15 and up: 6:00-6:45pm \nFee:  $120 per month (additional children $110 each) \nAll registrations/payments are handled by Coach Joff.\nRegister in-person\, or email trainupwithcoachhoff@gmail.com \nNot sure? Come in and try a class at no charge.
URL:https://www.grandwoodpark.net/calendar/kihap-martial-arts/2025-04-24/
LOCATION:Grandwood Park Park District Community Center\, 36630 N. Hutchins Road\, Gurnee\, IL\, 60031\, United States
CATEGORIES:Programs
GEO:42.3951477;-87.9861865
X-APPLE-STRUCTURED-LOCATION;VALUE=URI;X-ADDRESS=Grandwood Park Park District Community Center 36630 N. Hutchins Road Gurnee IL 60031 United States;X-APPLE-RADIUS=500;X-TITLE=36630 N. Hutchins Road:geo:-87.9861865,42.3951477
END:VEVENT
BEGIN:VEVENT
DTSTART;TZID=America/Chicago:20250424T170000
DTEND;TZID=America/Chicago:20250424T183000
DTSTAMP:20260425T104759
CREATED:20250129T214456Z
LAST-MODIFIED:20250129T214456Z
UID:10001382-1745514000-1745519400@www.grandwoodpark.net
SUMMARY:Lake County Youth Coyotes
DESCRIPTION:Lake County Youth Coyotes
URL:https://www.grandwoodpark.net/calendar/lake-county-youth-coyotes/2025-04-24/
LOCATION:Hutchins Athletic Field\, 36753 N. Hutchins Rd.\, Gurnee\, IL\, United States
CATEGORIES:Community Events
GEO:42.397312;-87.9857789
X-APPLE-STRUCTURED-LOCATION;VALUE=URI;X-ADDRESS=Hutchins Athletic Field 36753 N. Hutchins Rd. Gurnee IL United States;X-APPLE-RADIUS=500;X-TITLE=36753 N. Hutchins Rd.:geo:-87.9857789,42.397312
END:VEVENT
BEGIN:VEVENT
DTSTART;TZID=America/Chicago:20250424T190000
DTEND;TZID=America/Chicago:20250424T210000
DTSTAMP:20260425T104759
CREATED:20250129T213858Z
LAST-MODIFIED:20250129T214011Z
UID:10001366-1745521200-1745528400@www.grandwoodpark.net
SUMMARY:Lake County Coyotes RFC
DESCRIPTION:Lake County Coyotes RFC practice \n  \nFor more information about the league and the Lake County Coyotes RFC\, please go to their website
URL:https://www.grandwoodpark.net/calendar/lake-county-coyotes-rfc-4/2025-04-24/
LOCATION:Hutchins Athletic Field\, 36753 N. Hutchins Rd.\, Gurnee\, IL\, United States
CATEGORIES:Community Events
GEO:42.397312;-87.9857789
X-APPLE-STRUCTURED-LOCATION;VALUE=URI;X-ADDRESS=Hutchins Athletic Field 36753 N. Hutchins Rd. Gurnee IL United States;X-APPLE-RADIUS=500;X-TITLE=36753 N. Hutchins Rd.:geo:-87.9857789,42.397312
END:VEVENT
BEGIN:VEVENT
DTSTART;VALUE=DATE:20250426
DTEND;VALUE=DATE:20250427
DTSTAMP:20260425T104759
CREATED:20250313T195010Z
LAST-MODIFIED:20250313T195010Z
UID:10001943-1745625600-1745711999@www.grandwoodpark.net
SUMMARY:RESERVED - Community Center
DESCRIPTION:Community Center is reserved all day for a rental
URL:https://www.grandwoodpark.net/calendar/reserved-community-center-147/
LOCATION:Grandwood Park Park District Community Center\, 36630 N. Hutchins Road\, Gurnee\, IL\, 60031\, United States
CATEGORIES:Rentals/Community Center
GEO:42.3951477;-87.9861865
X-APPLE-STRUCTURED-LOCATION;VALUE=URI;X-ADDRESS=Grandwood Park Park District Community Center 36630 N. Hutchins Road Gurnee IL 60031 United States;X-APPLE-RADIUS=500;X-TITLE=36630 N. Hutchins Road:geo:-87.9861865,42.3951477
END:VEVENT
BEGIN:VEVENT
DTSTART;TZID=America/Chicago:20250426T100000
DTEND;TZID=America/Chicago:20250426T110000
DTSTAMP:20260425T104759
CREATED:20250129T214640Z
LAST-MODIFIED:20250129T214640Z
UID:10001393-1745661600-1745665200@www.grandwoodpark.net
SUMMARY:Lake County Youth Coyotes
DESCRIPTION:Lake County Youth Coyotes match
URL:https://www.grandwoodpark.net/calendar/lake-county-youth-coyotes-2/2025-04-26/
LOCATION:Hutchins Athletic Field\, 36753 N. Hutchins Rd.\, Gurnee\, IL\, United States
CATEGORIES:Community Events
GEO:42.397312;-87.9857789
X-APPLE-STRUCTURED-LOCATION;VALUE=URI;X-ADDRESS=Hutchins Athletic Field 36753 N. Hutchins Rd. Gurnee IL United States;X-APPLE-RADIUS=500;X-TITLE=36753 N. Hutchins Rd.:geo:-87.9857789,42.397312
END:VEVENT
BEGIN:VEVENT
DTSTART;TZID=America/Chicago:20250426T120000
DTEND;TZID=America/Chicago:20250426T150000
DTSTAMP:20260425T104759
CREATED:20250129T212810Z
LAST-MODIFIED:20250129T213346Z
UID:10001352-1745668800-1745679600@www.grandwoodpark.net
SUMMARY:Lake County Coyotes RFC
DESCRIPTION:Lake County Coyotes RFC Match
URL:https://www.grandwoodpark.net/calendar/lake-county-coyotes-rfc-3/2025-04-26/
LOCATION:Hutchins Athletic Field\, 36753 N. Hutchins Rd.\, Gurnee\, IL\, United States
CATEGORIES:Community Events
GEO:42.397312;-87.9857789
X-APPLE-STRUCTURED-LOCATION;VALUE=URI;X-ADDRESS=Hutchins Athletic Field 36753 N. Hutchins Rd. Gurnee IL United States;X-APPLE-RADIUS=500;X-TITLE=36753 N. Hutchins Rd.:geo:-87.9857789,42.397312
END:VEVENT
BEGIN:VEVENT
DTSTART;VALUE=DATE:20250427
DTEND;VALUE=DATE:20250428
DTSTAMP:20260425T104759
CREATED:20250326T172441Z
LAST-MODIFIED:20250326T172441Z
UID:10001960-1745712000-1745798399@www.grandwoodpark.net
SUMMARY:RESERVED - Community Center
DESCRIPTION:Community Center is reserved all day for a rental
URL:https://www.grandwoodpark.net/calendar/reserved-community-center-150/
LOCATION:Grandwood Park Park District Community Center\, 36630 N. Hutchins Road\, Gurnee\, IL\, 60031\, United States
GEO:42.3951477;-87.9861865
X-APPLE-STRUCTURED-LOCATION;VALUE=URI;X-ADDRESS=Grandwood Park Park District Community Center 36630 N. Hutchins Road Gurnee IL 60031 United States;X-APPLE-RADIUS=500;X-TITLE=36630 N. Hutchins Road:geo:-87.9861865,42.3951477
END:VEVENT
BEGIN:VEVENT
DTSTART;TZID=America/Chicago:20250428T170000
DTEND;TZID=America/Chicago:20250428T200000
DTSTAMP:20260425T104759
CREATED:20250129T231243Z
LAST-MODIFIED:20250129T231243Z
UID:10001405-1745859600-1745870400@www.grandwoodpark.net
SUMMARY:LASC
DESCRIPTION:LASC (Lindenhurst Area Soccer Club) Practice
URL:https://www.grandwoodpark.net/calendar/lasc-2/2025-04-28/
LOCATION:Hutchins Athletic Field\, 36753 N. Hutchins Rd.\, Gurnee\, IL\, United States
CATEGORIES:Rentals/Outside Facility
GEO:42.397312;-87.9857789
X-APPLE-STRUCTURED-LOCATION;VALUE=URI;X-ADDRESS=Hutchins Athletic Field 36753 N. Hutchins Rd. Gurnee IL United States;X-APPLE-RADIUS=500;X-TITLE=36753 N. Hutchins Rd.:geo:-87.9857789,42.397312
END:VEVENT
BEGIN:VEVENT
DTSTART;TZID=America/Chicago:20250428T181500
DTEND;TZID=America/Chicago:20250428T193000
DTSTAMP:20260425T104759
CREATED:20250315T032441Z
LAST-MODIFIED:20250315T032442Z
UID:10001332-1745864100-1745868600@www.grandwoodpark.net
SUMMARY:Peace.Calm.Chaos YOGA
DESCRIPTION:In her class\, instructor Canella Mullins teaches using props to allow for a safer experience for the practitioner. Her teaching style offers variations of poses and places an emphasis on accessibility and alignment. No previous yoga experience is needed. \nMondays – 6:15-7:30pm\nMinimum: 6 participants\nFee: $75 for 6-week session \nDrop into any yoga class for $15 cash \nAll registrations for this class will be taken by the instructor\, Canella Mullins. Canella will accept registrations by telephone/text at 847.687.5962\, or via email at canellamullins@gmail.com. \nCanella accepts payment in advance made via PayPal using her email address\, in Venmo using her full name or @Yoganella\, or by mail. Mailing address provided upon request. \nCheck & Cash Payments can also be accepted on the first day of the class.
URL:https://www.grandwoodpark.net/calendar/peace-calm-chaos-yoga-34/2025-04-28/
LOCATION:Grandwood Park Park District Community Center\, 36630 N. Hutchins Road\, Gurnee\, IL\, 60031\, United States
CATEGORIES:Programs
GEO:42.3951477;-87.9861865
X-APPLE-STRUCTURED-LOCATION;VALUE=URI;X-ADDRESS=Grandwood Park Park District Community Center 36630 N. Hutchins Road Gurnee IL 60031 United States;X-APPLE-RADIUS=500;X-TITLE=36630 N. Hutchins Road:geo:-87.9861865,42.3951477
END:VEVENT
BEGIN:VEVENT
DTSTART;TZID=America/Chicago:20250429T153000
DTEND;TZID=America/Chicago:20250429T170000
DTSTAMP:20260425T104759
CREATED:20250217T213015Z
LAST-MODIFIED:20250715T193855Z
UID:10001438-1745940600-1745946000@www.grandwoodpark.net
SUMMARY:Kihap Martial Arts
DESCRIPTION:Classes are held on Tuesdays and Thursdays \n3-4 year olds: 3:30-4:00pm\n5-6 year olds: 4:00-4:45pm\n7-14 year olds: 5:00-5:45pm\n15 and up: 6:00-6:45pm \nFee:  $120 per month (additional children $110 each) \nAll registrations/payments are handled by Coach Joff.\nRegister in-person\, or email trainupwithcoachhoff@gmail.com \nNot sure? Come in and try a class at no charge.
URL:https://www.grandwoodpark.net/calendar/kihap-martial-arts/2025-04-29/
LOCATION:Grandwood Park Park District Community Center\, 36630 N. Hutchins Road\, Gurnee\, IL\, 60031\, United States
CATEGORIES:Programs
GEO:42.3951477;-87.9861865
X-APPLE-STRUCTURED-LOCATION;VALUE=URI;X-ADDRESS=Grandwood Park Park District Community Center 36630 N. Hutchins Road Gurnee IL 60031 United States;X-APPLE-RADIUS=500;X-TITLE=36630 N. Hutchins Road:geo:-87.9861865,42.3951477
END:VEVENT
BEGIN:VEVENT
DTSTART;TZID=America/Chicago:20250429T170000
DTEND;TZID=America/Chicago:20250429T183000
DTSTAMP:20260425T104759
CREATED:20250129T214456Z
LAST-MODIFIED:20250129T214456Z
UID:10001383-1745946000-1745951400@www.grandwoodpark.net
SUMMARY:Lake County Youth Coyotes
DESCRIPTION:Lake County Youth Coyotes
URL:https://www.grandwoodpark.net/calendar/lake-county-youth-coyotes/2025-04-29/
LOCATION:Hutchins Athletic Field\, 36753 N. Hutchins Rd.\, Gurnee\, IL\, United States
CATEGORIES:Community Events
GEO:42.397312;-87.9857789
X-APPLE-STRUCTURED-LOCATION;VALUE=URI;X-ADDRESS=Hutchins Athletic Field 36753 N. Hutchins Rd. Gurnee IL United States;X-APPLE-RADIUS=500;X-TITLE=36753 N. Hutchins Rd.:geo:-87.9857789,42.397312
END:VEVENT
BEGIN:VEVENT
DTSTART;TZID=America/Chicago:20250429T190000
DTEND;TZID=America/Chicago:20250429T210000
DTSTAMP:20260425T104759
CREATED:20250129T213858Z
LAST-MODIFIED:20250129T214011Z
UID:10001367-1745953200-1745960400@www.grandwoodpark.net
SUMMARY:Lake County Coyotes RFC
DESCRIPTION:Lake County Coyotes RFC practice \n  \nFor more information about the league and the Lake County Coyotes RFC\, please go to their website
URL:https://www.grandwoodpark.net/calendar/lake-county-coyotes-rfc-4/2025-04-29/
LOCATION:Hutchins Athletic Field\, 36753 N. Hutchins Rd.\, Gurnee\, IL\, United States
CATEGORIES:Community Events
GEO:42.397312;-87.9857789
X-APPLE-STRUCTURED-LOCATION;VALUE=URI;X-ADDRESS=Hutchins Athletic Field 36753 N. Hutchins Rd. Gurnee IL United States;X-APPLE-RADIUS=500;X-TITLE=36753 N. Hutchins Rd.:geo:-87.9857789,42.397312
END:VEVENT
BEGIN:VEVENT
DTSTART;TZID=America/Chicago:20250430T150000
DTEND;TZID=America/Chicago:20250430T190000
DTSTAMP:20260425T104759
CREATED:20241120T233032Z
LAST-MODIFIED:20250922T193541Z
UID:10001288-1746025200-1746039600@www.grandwoodpark.net
SUMMARY:Blood Drive (Community Center)
DESCRIPTION:Grandwood Park Park District\nCommunity Center\n36630 N. Hutchins Rd\, Gurnee \nWalk-ins welcomed\, appointments are preferred. PHOTO ID IS REQUIRED. \nTo make your appointment\, click HERE. \nNeed help or have questions? Please email Michelle at accounting@grandwoodpark.net or call Leslie in the office at 847-356-0008.
URL:https://www.grandwoodpark.net/calendar/blood-drive-community-center/
LOCATION:IL
CATEGORIES:Community Events
END:VEVENT
BEGIN:VEVENT
DTSTART;TZID=America/Chicago:20250430T170000
DTEND;TZID=America/Chicago:20250430T200000
DTSTAMP:20260425T104759
CREATED:20250129T231243Z
LAST-MODIFIED:20250129T231243Z
UID:10001406-1746032400-1746043200@www.grandwoodpark.net
SUMMARY:LASC
DESCRIPTION:LASC (Lindenhurst Area Soccer Club) Practice
URL:https://www.grandwoodpark.net/calendar/lasc-2/2025-04-30/
LOCATION:Hutchins Athletic Field\, 36753 N. Hutchins Rd.\, Gurnee\, IL\, United States
CATEGORIES:Rentals/Outside Facility
GEO:42.397312;-87.9857789
X-APPLE-STRUCTURED-LOCATION;VALUE=URI;X-ADDRESS=Hutchins Athletic Field 36753 N. Hutchins Rd. Gurnee IL United States;X-APPLE-RADIUS=500;X-TITLE=36753 N. Hutchins Rd.:geo:-87.9857789,42.397312
END:VEVENT
BEGIN:VEVENT
DTSTART;TZID=America/Chicago:20250501T153000
DTEND;TZID=America/Chicago:20250501T170000
DTSTAMP:20260425T104759
CREATED:20250217T213015Z
LAST-MODIFIED:20250715T193855Z
UID:10001439-1746113400-1746118800@www.grandwoodpark.net
SUMMARY:Kihap Martial Arts
DESCRIPTION:Classes are held on Tuesdays and Thursdays \n3-4 year olds: 3:30-4:00pm\n5-6 year olds: 4:00-4:45pm\n7-14 year olds: 5:00-5:45pm\n15 and up: 6:00-6:45pm \nFee:  $120 per month (additional children $110 each) \nAll registrations/payments are handled by Coach Joff.\nRegister in-person\, or email trainupwithcoachhoff@gmail.com \nNot sure? Come in and try a class at no charge.
URL:https://www.grandwoodpark.net/calendar/kihap-martial-arts/2025-05-01/
LOCATION:Grandwood Park Park District Community Center\, 36630 N. Hutchins Road\, Gurnee\, IL\, 60031\, United States
CATEGORIES:Programs
GEO:42.3951477;-87.9861865
X-APPLE-STRUCTURED-LOCATION;VALUE=URI;X-ADDRESS=Grandwood Park Park District Community Center 36630 N. Hutchins Road Gurnee IL 60031 United States;X-APPLE-RADIUS=500;X-TITLE=36630 N. Hutchins Road:geo:-87.9861865,42.3951477
END:VEVENT
BEGIN:VEVENT
DTSTART;TZID=America/Chicago:20250501T170000
DTEND;TZID=America/Chicago:20250501T183000
DTSTAMP:20260425T104759
CREATED:20250129T214456Z
LAST-MODIFIED:20250129T214456Z
UID:10001384-1746118800-1746124200@www.grandwoodpark.net
SUMMARY:Lake County Youth Coyotes
DESCRIPTION:Lake County Youth Coyotes
URL:https://www.grandwoodpark.net/calendar/lake-county-youth-coyotes/2025-05-01/
LOCATION:Hutchins Athletic Field\, 36753 N. Hutchins Rd.\, Gurnee\, IL\, United States
CATEGORIES:Community Events
GEO:42.397312;-87.9857789
X-APPLE-STRUCTURED-LOCATION;VALUE=URI;X-ADDRESS=Hutchins Athletic Field 36753 N. Hutchins Rd. Gurnee IL United States;X-APPLE-RADIUS=500;X-TITLE=36753 N. Hutchins Rd.:geo:-87.9857789,42.397312
END:VEVENT
END:VCALENDAR