BEGIN:VCALENDAR
VERSION:2.0
PRODID:-//Grandwood Park Park District - ECPv6.15.19//NONSGML v1.0//EN
CALSCALE:GREGORIAN
METHOD:PUBLISH
X-WR-CALNAME:Grandwood Park Park District
X-ORIGINAL-URL:https://www.grandwoodpark.net
X-WR-CALDESC:Events for Grandwood Park Park District
REFRESH-INTERVAL;VALUE=DURATION:PT1H
X-Robots-Tag:noindex
X-PUBLISHED-TTL:PT1H
BEGIN:VTIMEZONE
TZID:America/Chicago
BEGIN:DAYLIGHT
TZOFFSETFROM:-0600
TZOFFSETTO:-0500
TZNAME:CDT
DTSTART:20230312T080000
END:DAYLIGHT
BEGIN:STANDARD
TZOFFSETFROM:-0500
TZOFFSETTO:-0600
TZNAME:CST
DTSTART:20231105T070000
END:STANDARD
BEGIN:DAYLIGHT
TZOFFSETFROM:-0600
TZOFFSETTO:-0500
TZNAME:CDT
DTSTART:20240310T080000
END:DAYLIGHT
BEGIN:STANDARD
TZOFFSETFROM:-0500
TZOFFSETTO:-0600
TZNAME:CST
DTSTART:20241103T070000
END:STANDARD
BEGIN:DAYLIGHT
TZOFFSETFROM:-0600
TZOFFSETTO:-0500
TZNAME:CDT
DTSTART:20250309T080000
END:DAYLIGHT
BEGIN:STANDARD
TZOFFSETFROM:-0500
TZOFFSETTO:-0600
TZNAME:CST
DTSTART:20251102T070000
END:STANDARD
BEGIN:DAYLIGHT
TZOFFSETFROM:-0600
TZOFFSETTO:-0500
TZNAME:CDT
DTSTART:20260308T080000
END:DAYLIGHT
BEGIN:STANDARD
TZOFFSETFROM:-0500
TZOFFSETTO:-0600
TZNAME:CST
DTSTART:20261101T070000
END:STANDARD
BEGIN:DAYLIGHT
TZOFFSETFROM:-0600
TZOFFSETTO:-0500
TZNAME:CDT
DTSTART:20270314T080000
END:DAYLIGHT
BEGIN:STANDARD
TZOFFSETFROM:-0500
TZOFFSETTO:-0600
TZNAME:CST
DTSTART:20271107T070000
END:STANDARD
END:VTIMEZONE
BEGIN:VEVENT
DTSTART;TZID=America/Chicago:20260421T170000
DTEND;TZID=America/Chicago:20260421T180000
DTSTAMP:20260423T100159
CREATED:20260127T202918Z
LAST-MODIFIED:20260127T202918Z
UID:10002600-1776790800-1776794400@www.grandwoodpark.net
SUMMARY:Lake County Youth Coyotes Rugby - Hutchins Athletic Field
DESCRIPTION:Lake County Youth Coyotes Rugby
URL:https://www.grandwoodpark.net/calendar/lake-county-youth-coyotes-rugby-hutchins-athletic-field/2026-04-21/
LOCATION:Hutchins Athletic Field\, 36753 N. Hutchins Rd.\, Gurnee\, IL\, United States
CATEGORIES:Rentals/Community Center
GEO:42.397312;-87.9857789
X-APPLE-STRUCTURED-LOCATION;VALUE=URI;X-ADDRESS=Hutchins Athletic Field 36753 N. Hutchins Rd. Gurnee IL United States;X-APPLE-RADIUS=500;X-TITLE=36753 N. Hutchins Rd.:geo:-87.9857789,42.397312
END:VEVENT
BEGIN:VEVENT
DTSTART;TZID=America/Chicago:20260418T100000
DTEND;TZID=America/Chicago:20260418T110000
DTSTAMP:20260423T100159
CREATED:20260127T203132Z
LAST-MODIFIED:20260127T203132Z
UID:10002610-1776506400-1776510000@www.grandwoodpark.net
SUMMARY:Lake County Youth Coyotes Rugby - Hutchins Athletic Field
DESCRIPTION:Lake County Youth Coyotes Rugby
URL:https://www.grandwoodpark.net/calendar/lake-county-youth-coyotes-rugby-hutchins-athletic-field-2/2026-04-18/
LOCATION:Hutchins Athletic Field\, 36753 N. Hutchins Rd.\, Gurnee\, IL\, United States
CATEGORIES:Rentals/Outside Facility
GEO:42.397312;-87.9857789
X-APPLE-STRUCTURED-LOCATION;VALUE=URI;X-ADDRESS=Hutchins Athletic Field 36753 N. Hutchins Rd. Gurnee IL United States;X-APPLE-RADIUS=500;X-TITLE=36753 N. Hutchins Rd.:geo:-87.9857789,42.397312
END:VEVENT
BEGIN:VEVENT
DTSTART;TZID=America/Chicago:20260416T170000
DTEND;TZID=America/Chicago:20260416T180000
DTSTAMP:20260423T100159
CREATED:20260127T202918Z
LAST-MODIFIED:20260127T202918Z
UID:10002599-1776358800-1776362400@www.grandwoodpark.net
SUMMARY:Lake County Youth Coyotes Rugby - Hutchins Athletic Field
DESCRIPTION:Lake County Youth Coyotes Rugby
URL:https://www.grandwoodpark.net/calendar/lake-county-youth-coyotes-rugby-hutchins-athletic-field/2026-04-16/
LOCATION:Hutchins Athletic Field\, 36753 N. Hutchins Rd.\, Gurnee\, IL\, United States
CATEGORIES:Rentals/Community Center
GEO:42.397312;-87.9857789
X-APPLE-STRUCTURED-LOCATION;VALUE=URI;X-ADDRESS=Hutchins Athletic Field 36753 N. Hutchins Rd. Gurnee IL United States;X-APPLE-RADIUS=500;X-TITLE=36753 N. Hutchins Rd.:geo:-87.9857789,42.397312
END:VEVENT
BEGIN:VEVENT
DTSTART;TZID=America/Chicago:20260414T170000
DTEND;TZID=America/Chicago:20260414T180000
DTSTAMP:20260423T100159
CREATED:20260127T202918Z
LAST-MODIFIED:20260127T202918Z
UID:10002598-1776186000-1776189600@www.grandwoodpark.net
SUMMARY:Lake County Youth Coyotes Rugby - Hutchins Athletic Field
DESCRIPTION:Lake County Youth Coyotes Rugby
URL:https://www.grandwoodpark.net/calendar/lake-county-youth-coyotes-rugby-hutchins-athletic-field/2026-04-14/
LOCATION:Hutchins Athletic Field\, 36753 N. Hutchins Rd.\, Gurnee\, IL\, United States
CATEGORIES:Rentals/Community Center
GEO:42.397312;-87.9857789
X-APPLE-STRUCTURED-LOCATION;VALUE=URI;X-ADDRESS=Hutchins Athletic Field 36753 N. Hutchins Rd. Gurnee IL United States;X-APPLE-RADIUS=500;X-TITLE=36753 N. Hutchins Rd.:geo:-87.9857789,42.397312
END:VEVENT
BEGIN:VEVENT
DTSTART;TZID=America/Chicago:20260411T100000
DTEND;TZID=America/Chicago:20260411T110000
DTSTAMP:20260423T100159
CREATED:20260127T203132Z
LAST-MODIFIED:20260127T203132Z
UID:10002609-1775901600-1775905200@www.grandwoodpark.net
SUMMARY:Lake County Youth Coyotes Rugby - Hutchins Athletic Field
DESCRIPTION:Lake County Youth Coyotes Rugby
URL:https://www.grandwoodpark.net/calendar/lake-county-youth-coyotes-rugby-hutchins-athletic-field-2/2026-04-11/
LOCATION:Hutchins Athletic Field\, 36753 N. Hutchins Rd.\, Gurnee\, IL\, United States
CATEGORIES:Rentals/Outside Facility
GEO:42.397312;-87.9857789
X-APPLE-STRUCTURED-LOCATION;VALUE=URI;X-ADDRESS=Hutchins Athletic Field 36753 N. Hutchins Rd. Gurnee IL United States;X-APPLE-RADIUS=500;X-TITLE=36753 N. Hutchins Rd.:geo:-87.9857789,42.397312
END:VEVENT
BEGIN:VEVENT
DTSTART;TZID=America/Chicago:20260409T170000
DTEND;TZID=America/Chicago:20260409T180000
DTSTAMP:20260423T100159
CREATED:20260127T202918Z
LAST-MODIFIED:20260127T202918Z
UID:10002597-1775754000-1775757600@www.grandwoodpark.net
SUMMARY:Lake County Youth Coyotes Rugby - Hutchins Athletic Field
DESCRIPTION:Lake County Youth Coyotes Rugby
URL:https://www.grandwoodpark.net/calendar/lake-county-youth-coyotes-rugby-hutchins-athletic-field/2026-04-09/
LOCATION:Hutchins Athletic Field\, 36753 N. Hutchins Rd.\, Gurnee\, IL\, United States
CATEGORIES:Rentals/Community Center
GEO:42.397312;-87.9857789
X-APPLE-STRUCTURED-LOCATION;VALUE=URI;X-ADDRESS=Hutchins Athletic Field 36753 N. Hutchins Rd. Gurnee IL United States;X-APPLE-RADIUS=500;X-TITLE=36753 N. Hutchins Rd.:geo:-87.9857789,42.397312
END:VEVENT
BEGIN:VEVENT
DTSTART;TZID=America/Chicago:20260407T170000
DTEND;TZID=America/Chicago:20260407T180000
DTSTAMP:20260423T100159
CREATED:20260127T202918Z
LAST-MODIFIED:20260127T202918Z
UID:10002596-1775581200-1775584800@www.grandwoodpark.net
SUMMARY:Lake County Youth Coyotes Rugby - Hutchins Athletic Field
DESCRIPTION:Lake County Youth Coyotes Rugby
URL:https://www.grandwoodpark.net/calendar/lake-county-youth-coyotes-rugby-hutchins-athletic-field/2026-04-07/
LOCATION:Hutchins Athletic Field\, 36753 N. Hutchins Rd.\, Gurnee\, IL\, United States
CATEGORIES:Rentals/Community Center
GEO:42.397312;-87.9857789
X-APPLE-STRUCTURED-LOCATION;VALUE=URI;X-ADDRESS=Hutchins Athletic Field 36753 N. Hutchins Rd. Gurnee IL United States;X-APPLE-RADIUS=500;X-TITLE=36753 N. Hutchins Rd.:geo:-87.9857789,42.397312
END:VEVENT
BEGIN:VEVENT
DTSTART;TZID=America/Chicago:20260404T100000
DTEND;TZID=America/Chicago:20260404T110000
DTSTAMP:20260423T100159
CREATED:20260127T203132Z
LAST-MODIFIED:20260127T203132Z
UID:10002608-1775296800-1775300400@www.grandwoodpark.net
SUMMARY:Lake County Youth Coyotes Rugby - Hutchins Athletic Field
DESCRIPTION:Lake County Youth Coyotes Rugby
URL:https://www.grandwoodpark.net/calendar/lake-county-youth-coyotes-rugby-hutchins-athletic-field-2/2026-04-04/
LOCATION:Hutchins Athletic Field\, 36753 N. Hutchins Rd.\, Gurnee\, IL\, United States
CATEGORIES:Rentals/Outside Facility
GEO:42.397312;-87.9857789
X-APPLE-STRUCTURED-LOCATION;VALUE=URI;X-ADDRESS=Hutchins Athletic Field 36753 N. Hutchins Rd. Gurnee IL United States;X-APPLE-RADIUS=500;X-TITLE=36753 N. Hutchins Rd.:geo:-87.9857789,42.397312
END:VEVENT
BEGIN:VEVENT
DTSTART;TZID=America/Chicago:20260402T170000
DTEND;TZID=America/Chicago:20260402T180000
DTSTAMP:20260423T100159
CREATED:20260127T202918Z
LAST-MODIFIED:20260127T202918Z
UID:10002595-1775149200-1775152800@www.grandwoodpark.net
SUMMARY:Lake County Youth Coyotes Rugby - Hutchins Athletic Field
DESCRIPTION:Lake County Youth Coyotes Rugby
URL:https://www.grandwoodpark.net/calendar/lake-county-youth-coyotes-rugby-hutchins-athletic-field/2026-04-02/
LOCATION:Hutchins Athletic Field\, 36753 N. Hutchins Rd.\, Gurnee\, IL\, United States
CATEGORIES:Rentals/Community Center
GEO:42.397312;-87.9857789
X-APPLE-STRUCTURED-LOCATION;VALUE=URI;X-ADDRESS=Hutchins Athletic Field 36753 N. Hutchins Rd. Gurnee IL United States;X-APPLE-RADIUS=500;X-TITLE=36753 N. Hutchins Rd.:geo:-87.9857789,42.397312
END:VEVENT
BEGIN:VEVENT
DTSTART;TZID=America/Chicago:20260331T170000
DTEND;TZID=America/Chicago:20260331T180000
DTSTAMP:20260423T100159
CREATED:20260127T202918Z
LAST-MODIFIED:20260127T202918Z
UID:10002594-1774976400-1774980000@www.grandwoodpark.net
SUMMARY:Lake County Youth Coyotes Rugby - Hutchins Athletic Field
DESCRIPTION:Lake County Youth Coyotes Rugby
URL:https://www.grandwoodpark.net/calendar/lake-county-youth-coyotes-rugby-hutchins-athletic-field/2026-03-31/
LOCATION:Hutchins Athletic Field\, 36753 N. Hutchins Rd.\, Gurnee\, IL\, United States
CATEGORIES:Rentals/Community Center
GEO:42.397312;-87.9857789
X-APPLE-STRUCTURED-LOCATION;VALUE=URI;X-ADDRESS=Hutchins Athletic Field 36753 N. Hutchins Rd. Gurnee IL United States;X-APPLE-RADIUS=500;X-TITLE=36753 N. Hutchins Rd.:geo:-87.9857789,42.397312
END:VEVENT
BEGIN:VEVENT
DTSTART;TZID=America/Chicago:20260326T170000
DTEND;TZID=America/Chicago:20260326T180000
DTSTAMP:20260423T100159
CREATED:20260127T202918Z
LAST-MODIFIED:20260127T202918Z
UID:10002593-1774544400-1774548000@www.grandwoodpark.net
SUMMARY:Lake County Youth Coyotes Rugby - Hutchins Athletic Field
DESCRIPTION:Lake County Youth Coyotes Rugby
URL:https://www.grandwoodpark.net/calendar/lake-county-youth-coyotes-rugby-hutchins-athletic-field/2026-03-26/
LOCATION:Hutchins Athletic Field\, 36753 N. Hutchins Rd.\, Gurnee\, IL\, United States
CATEGORIES:Rentals/Community Center
GEO:42.397312;-87.9857789
X-APPLE-STRUCTURED-LOCATION;VALUE=URI;X-ADDRESS=Hutchins Athletic Field 36753 N. Hutchins Rd. Gurnee IL United States;X-APPLE-RADIUS=500;X-TITLE=36753 N. Hutchins Rd.:geo:-87.9857789,42.397312
END:VEVENT
BEGIN:VEVENT
DTSTART;TZID=America/Chicago:20260324T170000
DTEND;TZID=America/Chicago:20260324T180000
DTSTAMP:20260423T100159
CREATED:20260127T202918Z
LAST-MODIFIED:20260127T202918Z
UID:10002592-1774371600-1774375200@www.grandwoodpark.net
SUMMARY:Lake County Youth Coyotes Rugby - Hutchins Athletic Field
DESCRIPTION:Lake County Youth Coyotes Rugby
URL:https://www.grandwoodpark.net/calendar/lake-county-youth-coyotes-rugby-hutchins-athletic-field/2026-03-24/
LOCATION:Hutchins Athletic Field\, 36753 N. Hutchins Rd.\, Gurnee\, IL\, United States
CATEGORIES:Rentals/Community Center
GEO:42.397312;-87.9857789
X-APPLE-STRUCTURED-LOCATION;VALUE=URI;X-ADDRESS=Hutchins Athletic Field 36753 N. Hutchins Rd. Gurnee IL United States;X-APPLE-RADIUS=500;X-TITLE=36753 N. Hutchins Rd.:geo:-87.9857789,42.397312
END:VEVENT
BEGIN:VEVENT
DTSTART;VALUE=DATE:20260227
DTEND;VALUE=DATE:20260228
DTSTAMP:20260423T100159
CREATED:20260217T211447Z
LAST-MODIFIED:20260217T211447Z
UID:10002661-1772150400-1772236799@www.grandwoodpark.net
SUMMARY:RESERVED - Community Center
DESCRIPTION:Community center is reserved for a rental and is not available
URL:https://www.grandwoodpark.net/calendar/reserved-community-center-20/
LOCATION:Grandwood Park Park District Community Center\, 36630 N. Hutchins Road\, Gurnee\, IL\, 60031\, United States
CATEGORIES:Rentals/Community Center
GEO:42.3951477;-87.9861865
X-APPLE-STRUCTURED-LOCATION;VALUE=URI;X-ADDRESS=Grandwood Park Park District Community Center 36630 N. Hutchins Road Gurnee IL 60031 United States;X-APPLE-RADIUS=500;X-TITLE=36630 N. Hutchins Road:geo:-87.9861865,42.3951477
END:VEVENT
BEGIN:VEVENT
DTSTART;TZID=America/Chicago:20240723T183000
DTEND;TZID=America/Chicago:20240723T193000
DTSTAMP:20260423T100159
CREATED:20240715T234236Z
LAST-MODIFIED:20240715T234236Z
UID:10001179-1721759400-1721763000@www.grandwoodpark.net
SUMMARY:Field Rented
DESCRIPTION:T Reyes Rented Field
URL:https://www.grandwoodpark.net/calendar/field-rented-4/
LOCATION:Hutchins Athletic Field parking lot\, 36753 N. Hutchins Rd.\, Gurnee\, IL\, 60031\, United States
CATEGORIES:Rentals/Outside Facility
GEO:42.397312;-87.9857789
X-APPLE-STRUCTURED-LOCATION;VALUE=URI;X-ADDRESS=Hutchins Athletic Field parking lot 36753 N. Hutchins Rd. Gurnee IL 60031 United States;X-APPLE-RADIUS=500;X-TITLE=36753 N. Hutchins Rd.:geo:-87.9857789,42.397312
END:VEVENT
BEGIN:VEVENT
DTSTART;TZID=America/Chicago:20240716T183000
DTEND;TZID=America/Chicago:20240716T193000
DTSTAMP:20260423T100159
CREATED:20240715T234223Z
LAST-MODIFIED:20240715T234223Z
UID:10001178-1721154600-1721158200@www.grandwoodpark.net
SUMMARY:Field Rented
DESCRIPTION:T Reyes Rented Field
URL:https://www.grandwoodpark.net/calendar/field-rented-3/
LOCATION:Hutchins Athletic Field parking lot\, 36753 N. Hutchins Rd.\, Gurnee\, IL\, 60031\, United States
CATEGORIES:Rentals/Outside Facility
GEO:42.397312;-87.9857789
X-APPLE-STRUCTURED-LOCATION;VALUE=URI;X-ADDRESS=Hutchins Athletic Field parking lot 36753 N. Hutchins Rd. Gurnee IL 60031 United States;X-APPLE-RADIUS=500;X-TITLE=36753 N. Hutchins Rd.:geo:-87.9857789,42.397312
END:VEVENT
BEGIN:VEVENT
DTSTART;TZID=America/Chicago:20240709T183000
DTEND;TZID=America/Chicago:20240709T193000
DTSTAMP:20260423T100159
CREATED:20240715T234207Z
LAST-MODIFIED:20240715T234207Z
UID:10001177-1720549800-1720553400@www.grandwoodpark.net
SUMMARY:Field Rented
DESCRIPTION:T Reyes Rented Field
URL:https://www.grandwoodpark.net/calendar/field-rented-2/
LOCATION:Hutchins Athletic Field parking lot\, 36753 N. Hutchins Rd.\, Gurnee\, IL\, 60031\, United States
CATEGORIES:Rentals/Outside Facility
GEO:42.397312;-87.9857789
X-APPLE-STRUCTURED-LOCATION;VALUE=URI;X-ADDRESS=Hutchins Athletic Field parking lot 36753 N. Hutchins Rd. Gurnee IL 60031 United States;X-APPLE-RADIUS=500;X-TITLE=36753 N. Hutchins Rd.:geo:-87.9857789,42.397312
END:VEVENT
BEGIN:VEVENT
DTSTART;TZID=America/Chicago:20240702T183000
DTEND;TZID=America/Chicago:20240702T193000
DTSTAMP:20260423T100159
CREATED:20240715T234148Z
LAST-MODIFIED:20240715T234148Z
UID:10001176-1719945000-1719948600@www.grandwoodpark.net
SUMMARY:Field Rented
DESCRIPTION:T Reyes Rented Field
URL:https://www.grandwoodpark.net/calendar/field-rented/
LOCATION:Hutchins Athletic Field parking lot\, 36753 N. Hutchins Rd.\, Gurnee\, IL\, 60031\, United States
CATEGORIES:Rentals/Outside Facility
GEO:42.397312;-87.9857789
X-APPLE-STRUCTURED-LOCATION;VALUE=URI;X-ADDRESS=Hutchins Athletic Field parking lot 36753 N. Hutchins Rd. Gurnee IL 60031 United States;X-APPLE-RADIUS=500;X-TITLE=36753 N. Hutchins Rd.:geo:-87.9857789,42.397312
END:VEVENT
END:VCALENDAR