BEGIN:VCALENDAR
VERSION:2.0
PRODID:-//Grandwood Park Park District - ECPv6.15.19//NONSGML v1.0//EN
CALSCALE:GREGORIAN
METHOD:PUBLISH
X-ORIGINAL-URL:https://www.grandwoodpark.net
X-WR-CALDESC:Events for Grandwood Park Park District
REFRESH-INTERVAL;VALUE=DURATION:PT1H
X-Robots-Tag:noindex
X-PUBLISHED-TTL:PT1H
BEGIN:VTIMEZONE
TZID:America/Chicago
BEGIN:DAYLIGHT
TZOFFSETFROM:-0600
TZOFFSETTO:-0500
TZNAME:CDT
DTSTART:20230312T080000
END:DAYLIGHT
BEGIN:STANDARD
TZOFFSETFROM:-0500
TZOFFSETTO:-0600
TZNAME:CST
DTSTART:20231105T070000
END:STANDARD
BEGIN:DAYLIGHT
TZOFFSETFROM:-0600
TZOFFSETTO:-0500
TZNAME:CDT
DTSTART:20240310T080000
END:DAYLIGHT
BEGIN:STANDARD
TZOFFSETFROM:-0500
TZOFFSETTO:-0600
TZNAME:CST
DTSTART:20241103T070000
END:STANDARD
BEGIN:DAYLIGHT
TZOFFSETFROM:-0600
TZOFFSETTO:-0500
TZNAME:CDT
DTSTART:20250309T080000
END:DAYLIGHT
BEGIN:STANDARD
TZOFFSETFROM:-0500
TZOFFSETTO:-0600
TZNAME:CST
DTSTART:20251102T070000
END:STANDARD
END:VTIMEZONE
BEGIN:VEVENT
DTSTART;TZID=America/Chicago:20241211T183000
DTEND;TZID=America/Chicago:20241211T200000
DTSTAMP:20260424T131550
CREATED:20240529T230853Z
LAST-MODIFIED:20240529T230853Z
UID:10001165-1733941800-1733947200@www.grandwoodpark.net
SUMMARY:GPPD Park Board Mtg.
DESCRIPTION:Grandwood Park Park District\, Board of Commissioners regularly scheduled meeting. Meetings are held in the Community Center located at 36630 N. Hutchins Road and are open to the public.
URL:https://www.grandwoodpark.net/calendar/gppd-park-board-mtg-4/2024-12-11/
LOCATION:Grandwood Park Park District Community Center Conference Room\, 36630 N. Hutchins Rd.\, Gurnee\, 60031\, United States
CATEGORIES:Meeting Schedules
GEO:42.3951477;-87.9861865
X-APPLE-STRUCTURED-LOCATION;VALUE=URI;X-ADDRESS=Grandwood Park Park District Community Center Conference Room 36630 N. Hutchins Rd. Gurnee 60031 United States;X-APPLE-RADIUS=500;X-TITLE=36630 N. Hutchins Rd.:geo:-87.9861865,42.3951477
END:VEVENT
BEGIN:VEVENT
DTSTART;TZID=America/Chicago:20241113T183000
DTEND;TZID=America/Chicago:20241113T200000
DTSTAMP:20260424T131550
CREATED:20240529T230853Z
LAST-MODIFIED:20240529T230853Z
UID:10001164-1731522600-1731528000@www.grandwoodpark.net
SUMMARY:GPPD Park Board Mtg.
DESCRIPTION:Grandwood Park Park District\, Board of Commissioners regularly scheduled meeting. Meetings are held in the Community Center located at 36630 N. Hutchins Road and are open to the public.
URL:https://www.grandwoodpark.net/calendar/gppd-park-board-mtg-4/2024-11-13/
LOCATION:Grandwood Park Park District Community Center Conference Room\, 36630 N. Hutchins Rd.\, Gurnee\, 60031\, United States
CATEGORIES:Meeting Schedules
GEO:42.3951477;-87.9861865
X-APPLE-STRUCTURED-LOCATION;VALUE=URI;X-ADDRESS=Grandwood Park Park District Community Center Conference Room 36630 N. Hutchins Rd. Gurnee 60031 United States;X-APPLE-RADIUS=500;X-TITLE=36630 N. Hutchins Rd.:geo:-87.9861865,42.3951477
END:VEVENT
BEGIN:VEVENT
DTSTART;TZID=America/Chicago:20241009T183000
DTEND;TZID=America/Chicago:20241009T200000
DTSTAMP:20260424T131550
CREATED:20240529T230853Z
LAST-MODIFIED:20240529T230853Z
UID:10001163-1728498600-1728504000@www.grandwoodpark.net
SUMMARY:GPPD Park Board Mtg.
DESCRIPTION:Grandwood Park Park District\, Board of Commissioners regularly scheduled meeting. Meetings are held in the Community Center located at 36630 N. Hutchins Road and are open to the public.
URL:https://www.grandwoodpark.net/calendar/gppd-park-board-mtg-4/2024-10-09/
LOCATION:Grandwood Park Park District Community Center Conference Room\, 36630 N. Hutchins Rd.\, Gurnee\, 60031\, United States
CATEGORIES:Meeting Schedules
GEO:42.3951477;-87.9861865
X-APPLE-STRUCTURED-LOCATION;VALUE=URI;X-ADDRESS=Grandwood Park Park District Community Center Conference Room 36630 N. Hutchins Rd. Gurnee 60031 United States;X-APPLE-RADIUS=500;X-TITLE=36630 N. Hutchins Rd.:geo:-87.9861865,42.3951477
END:VEVENT
BEGIN:VEVENT
DTSTART;TZID=America/Chicago:20240911T183000
DTEND;TZID=America/Chicago:20240911T200000
DTSTAMP:20260424T131550
CREATED:20240529T230853Z
LAST-MODIFIED:20240529T230853Z
UID:10001162-1726079400-1726084800@www.grandwoodpark.net
SUMMARY:GPPD Park Board Mtg.
DESCRIPTION:Grandwood Park Park District\, Board of Commissioners regularly scheduled meeting. Meetings are held in the Community Center located at 36630 N. Hutchins Road and are open to the public.
URL:https://www.grandwoodpark.net/calendar/gppd-park-board-mtg-4/2024-09-11/
LOCATION:Grandwood Park Park District Community Center Conference Room\, 36630 N. Hutchins Rd.\, Gurnee\, 60031\, United States
CATEGORIES:Meeting Schedules
GEO:42.3951477;-87.9861865
X-APPLE-STRUCTURED-LOCATION;VALUE=URI;X-ADDRESS=Grandwood Park Park District Community Center Conference Room 36630 N. Hutchins Rd. Gurnee 60031 United States;X-APPLE-RADIUS=500;X-TITLE=36630 N. Hutchins Rd.:geo:-87.9861865,42.3951477
END:VEVENT
BEGIN:VEVENT
DTSTART;TZID=America/Chicago:20240814T183000
DTEND;TZID=America/Chicago:20240814T200000
DTSTAMP:20260424T131550
CREATED:20240529T230853Z
LAST-MODIFIED:20240529T230853Z
UID:10001161-1723660200-1723665600@www.grandwoodpark.net
SUMMARY:GPPD Park Board Mtg.
DESCRIPTION:Grandwood Park Park District\, Board of Commissioners regularly scheduled meeting. Meetings are held in the Community Center located at 36630 N. Hutchins Road and are open to the public.
URL:https://www.grandwoodpark.net/calendar/gppd-park-board-mtg-4/2024-08-14/
LOCATION:Grandwood Park Park District Community Center Conference Room\, 36630 N. Hutchins Rd.\, Gurnee\, 60031\, United States
CATEGORIES:Meeting Schedules
GEO:42.3951477;-87.9861865
X-APPLE-STRUCTURED-LOCATION;VALUE=URI;X-ADDRESS=Grandwood Park Park District Community Center Conference Room 36630 N. Hutchins Rd. Gurnee 60031 United States;X-APPLE-RADIUS=500;X-TITLE=36630 N. Hutchins Rd.:geo:-87.9861865,42.3951477
END:VEVENT
BEGIN:VEVENT
DTSTART;TZID=America/Chicago:20240710T183000
DTEND;TZID=America/Chicago:20240710T200000
DTSTAMP:20260424T131550
CREATED:20240529T230853Z
LAST-MODIFIED:20240529T230853Z
UID:10001160-1720636200-1720641600@www.grandwoodpark.net
SUMMARY:GPPD Park Board Mtg.
DESCRIPTION:Grandwood Park Park District\, Board of Commissioners regularly scheduled meeting. Meetings are held in the Community Center located at 36630 N. Hutchins Road and are open to the public.
URL:https://www.grandwoodpark.net/calendar/gppd-park-board-mtg-4/2024-07-10/
LOCATION:Grandwood Park Park District Community Center Conference Room\, 36630 N. Hutchins Rd.\, Gurnee\, 60031\, United States
CATEGORIES:Meeting Schedules
GEO:42.3951477;-87.9861865
X-APPLE-STRUCTURED-LOCATION;VALUE=URI;X-ADDRESS=Grandwood Park Park District Community Center Conference Room 36630 N. Hutchins Rd. Gurnee 60031 United States;X-APPLE-RADIUS=500;X-TITLE=36630 N. Hutchins Rd.:geo:-87.9861865,42.3951477
END:VEVENT
BEGIN:VEVENT
DTSTART;TZID=America/Chicago:20240612T183000
DTEND;TZID=America/Chicago:20240612T200000
DTSTAMP:20260424T131550
CREATED:20240529T230853Z
LAST-MODIFIED:20240529T230853Z
UID:10001159-1718217000-1718222400@www.grandwoodpark.net
SUMMARY:GPPD Park Board Mtg.
DESCRIPTION:Grandwood Park Park District\, Board of Commissioners regularly scheduled meeting. Meetings are held in the Community Center located at 36630 N. Hutchins Road and are open to the public.
URL:https://www.grandwoodpark.net/calendar/gppd-park-board-mtg-4/2024-06-12/
LOCATION:Grandwood Park Park District Community Center Conference Room\, 36630 N. Hutchins Rd.\, Gurnee\, 60031\, United States
CATEGORIES:Meeting Schedules
GEO:42.3951477;-87.9861865
X-APPLE-STRUCTURED-LOCATION;VALUE=URI;X-ADDRESS=Grandwood Park Park District Community Center Conference Room 36630 N. Hutchins Rd. Gurnee 60031 United States;X-APPLE-RADIUS=500;X-TITLE=36630 N. Hutchins Rd.:geo:-87.9861865,42.3951477
END:VEVENT
BEGIN:VEVENT
DTSTART;TZID=America/Chicago:20240416T183000
DTEND;TZID=America/Chicago:20240416T200000
DTSTAMP:20260424T131550
CREATED:20240221T002224Z
LAST-MODIFIED:20240221T002224Z
UID:10001068-1713292200-1713297600@www.grandwoodpark.net
SUMMARY:GPPD Park Board Mtg.
DESCRIPTION:Grandwood Park Park District\, Board of Commissioners monthly meeting. Meetings are held in the conference room Community Center located at 36630 N. Hutchins Road and are open to the public.
URL:https://www.grandwoodpark.net/calendar/gppd-park-board-mtg-3/
LOCATION:Grandwood Park Park District Community Center Conference Room\, 36630 N. Hutchins Rd.\, Gurnee\, 60031\, United States
GEO:42.3951477;-87.9861865
X-APPLE-STRUCTURED-LOCATION;VALUE=URI;X-ADDRESS=Grandwood Park Park District Community Center Conference Room 36630 N. Hutchins Rd. Gurnee 60031 United States;X-APPLE-RADIUS=500;X-TITLE=36630 N. Hutchins Rd.:geo:-87.9861865,42.3951477
END:VEVENT
BEGIN:VEVENT
DTSTART;TZID=America/Chicago:20240410T183000
DTEND;TZID=America/Chicago:20240410T203000
DTSTAMP:20260424T131550
CREATED:20240221T001702Z
LAST-MODIFIED:20240308T232302Z
UID:10000726-1712773800-1712781000@www.grandwoodpark.net
SUMMARY:GPPD Park Board Mtg RESCHEDULED
DESCRIPTION:Grandwood Park Park District\, Board of Commissioners regularly scheduled meeting HAS BEEN RESCHEDULED TO TUESDAY\, APRIL 16TH AT 6:30PM. \nMeetings are held in the conference room of the Community Center located at 36630 N. Hutchins Road and are open to the public.
URL:https://www.grandwoodpark.net/calendar/gppd-park-board-mtg-2/
LOCATION:Grandwood Park Park District Community Center Conference Room\, 36630 N. Hutchins Rd.\, Gurnee\, 60031\, United States
CATEGORIES:Meeting Schedules
GEO:42.3951477;-87.9861865
X-APPLE-STRUCTURED-LOCATION;VALUE=URI;X-ADDRESS=Grandwood Park Park District Community Center Conference Room 36630 N. Hutchins Rd. Gurnee 60031 United States;X-APPLE-RADIUS=500;X-TITLE=36630 N. Hutchins Rd.:geo:-87.9861865,42.3951477
END:VEVENT
END:VCALENDAR