BEGIN:VCALENDAR
VERSION:2.0
PRODID:-//Grandwood Park Park District - ECPv6.15.19//NONSGML v1.0//EN
CALSCALE:GREGORIAN
METHOD:PUBLISH
X-WR-CALNAME:Grandwood Park Park District
X-ORIGINAL-URL:https://www.grandwoodpark.net
X-WR-CALDESC:Events for Grandwood Park Park District
REFRESH-INTERVAL;VALUE=DURATION:PT1H
X-Robots-Tag:noindex
X-PUBLISHED-TTL:PT1H
BEGIN:VTIMEZONE
TZID:America/Chicago
BEGIN:DAYLIGHT
TZOFFSETFROM:-0600
TZOFFSETTO:-0500
TZNAME:CDT
DTSTART:20250309T080000
END:DAYLIGHT
BEGIN:STANDARD
TZOFFSETFROM:-0500
TZOFFSETTO:-0600
TZNAME:CST
DTSTART:20251102T070000
END:STANDARD
BEGIN:DAYLIGHT
TZOFFSETFROM:-0600
TZOFFSETTO:-0500
TZNAME:CDT
DTSTART:20260308T080000
END:DAYLIGHT
BEGIN:STANDARD
TZOFFSETFROM:-0500
TZOFFSETTO:-0600
TZNAME:CST
DTSTART:20261101T070000
END:STANDARD
BEGIN:DAYLIGHT
TZOFFSETFROM:-0600
TZOFFSETTO:-0500
TZNAME:CDT
DTSTART:20270314T080000
END:DAYLIGHT
BEGIN:STANDARD
TZOFFSETFROM:-0500
TZOFFSETTO:-0600
TZNAME:CST
DTSTART:20271107T070000
END:STANDARD
END:VTIMEZONE
BEGIN:VEVENT
DTSTART;TZID=America/Chicago:20260422T170000
DTEND;TZID=America/Chicago:20260422T203000
DTSTAMP:20260422T035232
CREATED:20260304T203457Z
LAST-MODIFIED:20260304T203457Z
UID:10002673-1776877200-1776889800@www.grandwoodpark.net
SUMMARY:LASC - Hutchins Athletic Field
DESCRIPTION:Lindenhurst Area Soccer Club
URL:https://www.grandwoodpark.net/calendar/lasc-hutchins-athletic-field-2/2026-04-22/
LOCATION:Hutchins Athletic Field\, 36753 N. Hutchins Rd.\, Gurnee\, IL\, United States
CATEGORIES:Rentals/Outside Facility
GEO:42.397312;-87.9857789
X-APPLE-STRUCTURED-LOCATION;VALUE=URI;X-ADDRESS=Hutchins Athletic Field 36753 N. Hutchins Rd. Gurnee IL United States;X-APPLE-RADIUS=500;X-TITLE=36753 N. Hutchins Rd.:geo:-87.9857789,42.397312
END:VEVENT
BEGIN:VEVENT
DTSTART;TZID=America/Chicago:20260423T170000
DTEND;TZID=America/Chicago:20260423T180000
DTSTAMP:20260422T035232
CREATED:20260127T202918Z
LAST-MODIFIED:20260127T202918Z
UID:10002601-1776963600-1776967200@www.grandwoodpark.net
SUMMARY:Lake County Youth Coyotes Rugby - Hutchins Athletic Field
DESCRIPTION:Lake County Youth Coyotes Rugby
URL:https://www.grandwoodpark.net/calendar/lake-county-youth-coyotes-rugby-hutchins-athletic-field/2026-04-23/
LOCATION:Hutchins Athletic Field\, 36753 N. Hutchins Rd.\, Gurnee\, IL\, United States
CATEGORIES:Rentals/Community Center
GEO:42.397312;-87.9857789
X-APPLE-STRUCTURED-LOCATION;VALUE=URI;X-ADDRESS=Hutchins Athletic Field 36753 N. Hutchins Rd. Gurnee IL United States;X-APPLE-RADIUS=500;X-TITLE=36753 N. Hutchins Rd.:geo:-87.9857789,42.397312
END:VEVENT
BEGIN:VEVENT
DTSTART;TZID=America/Chicago:20260423T180000
DTEND;TZID=America/Chicago:20260423T190000
DTSTAMP:20260422T035232
CREATED:20260127T203453Z
LAST-MODIFIED:20260127T203453Z
UID:10002624-1776967200-1776970800@www.grandwoodpark.net
SUMMARY:Lake County Lady Coyotes Rugby - Hutchins Athletic Field
DESCRIPTION:Lake County Lady Coyotes Rugby practice
URL:https://www.grandwoodpark.net/calendar/lake-county-lady-coyotes-rugby-hutchins-athletic-field/2026-04-23/
LOCATION:Hutchins Athletic Field\, 36753 N. Hutchins Rd.\, Gurnee\, IL\, United States
CATEGORIES:Rentals/Outside Facility
GEO:42.397312;-87.9857789
X-APPLE-STRUCTURED-LOCATION;VALUE=URI;X-ADDRESS=Hutchins Athletic Field 36753 N. Hutchins Rd. Gurnee IL United States;X-APPLE-RADIUS=500;X-TITLE=36753 N. Hutchins Rd.:geo:-87.9857789,42.397312
END:VEVENT
BEGIN:VEVENT
DTSTART;TZID=America/Chicago:20260423T190000
DTEND;TZID=America/Chicago:20260423T210000
DTSTAMP:20260422T035232
CREATED:20260127T203635Z
LAST-MODIFIED:20260127T203635Z
UID:10002642-1776970800-1776978000@www.grandwoodpark.net
SUMMARY:Lake County Coyotes Rugby - Hutchins Athletic Field
DESCRIPTION:Lake County Coyotes Rugby practice
URL:https://www.grandwoodpark.net/calendar/lake-county-coyotes-rugby-hutchins-athletic-field/2026-04-23/
LOCATION:Hutchins Athletic Field\, 36753 N. Hutchins Rd.\, Gurnee\, IL\, United States
CATEGORIES:Rentals/Outside Facility
GEO:42.397312;-87.9857789
X-APPLE-STRUCTURED-LOCATION;VALUE=URI;X-ADDRESS=Hutchins Athletic Field 36753 N. Hutchins Rd. Gurnee IL United States;X-APPLE-RADIUS=500;X-TITLE=36753 N. Hutchins Rd.:geo:-87.9857789,42.397312
END:VEVENT
BEGIN:VEVENT
DTSTART;TZID=America/Chicago:20260425T100000
DTEND;TZID=America/Chicago:20260425T110000
DTSTAMP:20260422T035232
CREATED:20260127T203132Z
LAST-MODIFIED:20260127T203132Z
UID:10002611-1777111200-1777114800@www.grandwoodpark.net
SUMMARY:Lake County Youth Coyotes Rugby - Hutchins Athletic Field
DESCRIPTION:Lake County Youth Coyotes Rugby
URL:https://www.grandwoodpark.net/calendar/lake-county-youth-coyotes-rugby-hutchins-athletic-field-2/2026-04-25/
LOCATION:Hutchins Athletic Field\, 36753 N. Hutchins Rd.\, Gurnee\, IL\, United States
CATEGORIES:Rentals/Outside Facility
GEO:42.397312;-87.9857789
X-APPLE-STRUCTURED-LOCATION;VALUE=URI;X-ADDRESS=Hutchins Athletic Field 36753 N. Hutchins Rd. Gurnee IL United States;X-APPLE-RADIUS=500;X-TITLE=36753 N. Hutchins Rd.:geo:-87.9857789,42.397312
END:VEVENT
BEGIN:VEVENT
DTSTART;TZID=America/Chicago:20260425T130000
DTEND;TZID=America/Chicago:20260425T150000
DTSTAMP:20260422T035232
CREATED:20260127T204006Z
LAST-MODIFIED:20260127T204006Z
UID:10002653-1777122000-1777129200@www.grandwoodpark.net
SUMMARY:Lake County Coyotes Rugby - Hutchins Athletic Field
DESCRIPTION:Lake County Coyotes Rugby match
URL:https://www.grandwoodpark.net/calendar/lake-county-coyotes-rugby-hutchins-athletic-field-2/2026-04-25/
LOCATION:Hutchins Athletic Field\, 36753 N. Hutchins Rd.\, Gurnee\, IL\, United States
CATEGORIES:Rentals/Outside Facility
GEO:42.397312;-87.9857789
X-APPLE-STRUCTURED-LOCATION;VALUE=URI;X-ADDRESS=Hutchins Athletic Field 36753 N. Hutchins Rd. Gurnee IL United States;X-APPLE-RADIUS=500;X-TITLE=36753 N. Hutchins Rd.:geo:-87.9857789,42.397312
END:VEVENT
BEGIN:VEVENT
DTSTART;TZID=America/Chicago:20260427T170000
DTEND;TZID=America/Chicago:20260427T203000
DTSTAMP:20260422T035232
CREATED:20260304T203457Z
LAST-MODIFIED:20260304T203457Z
UID:10002674-1777309200-1777321800@www.grandwoodpark.net
SUMMARY:LASC - Hutchins Athletic Field
DESCRIPTION:Lindenhurst Area Soccer Club
URL:https://www.grandwoodpark.net/calendar/lasc-hutchins-athletic-field-2/2026-04-27/
LOCATION:Hutchins Athletic Field\, 36753 N. Hutchins Rd.\, Gurnee\, IL\, United States
CATEGORIES:Rentals/Outside Facility
GEO:42.397312;-87.9857789
X-APPLE-STRUCTURED-LOCATION;VALUE=URI;X-ADDRESS=Hutchins Athletic Field 36753 N. Hutchins Rd. Gurnee IL United States;X-APPLE-RADIUS=500;X-TITLE=36753 N. Hutchins Rd.:geo:-87.9857789,42.397312
END:VEVENT
BEGIN:VEVENT
DTSTART;TZID=America/Chicago:20260428T170000
DTEND;TZID=America/Chicago:20260428T180000
DTSTAMP:20260422T035232
CREATED:20260127T202918Z
LAST-MODIFIED:20260127T202918Z
UID:10002602-1777395600-1777399200@www.grandwoodpark.net
SUMMARY:Lake County Youth Coyotes Rugby - Hutchins Athletic Field
DESCRIPTION:Lake County Youth Coyotes Rugby
URL:https://www.grandwoodpark.net/calendar/lake-county-youth-coyotes-rugby-hutchins-athletic-field/2026-04-28/
LOCATION:Hutchins Athletic Field\, 36753 N. Hutchins Rd.\, Gurnee\, IL\, United States
CATEGORIES:Rentals/Community Center
GEO:42.397312;-87.9857789
X-APPLE-STRUCTURED-LOCATION;VALUE=URI;X-ADDRESS=Hutchins Athletic Field 36753 N. Hutchins Rd. Gurnee IL United States;X-APPLE-RADIUS=500;X-TITLE=36753 N. Hutchins Rd.:geo:-87.9857789,42.397312
END:VEVENT
BEGIN:VEVENT
DTSTART;TZID=America/Chicago:20260428T180000
DTEND;TZID=America/Chicago:20260428T190000
DTSTAMP:20260422T035232
CREATED:20260127T203453Z
LAST-MODIFIED:20260127T203453Z
UID:10002625-1777399200-1777402800@www.grandwoodpark.net
SUMMARY:Lake County Lady Coyotes Rugby - Hutchins Athletic Field
DESCRIPTION:Lake County Lady Coyotes Rugby practice
URL:https://www.grandwoodpark.net/calendar/lake-county-lady-coyotes-rugby-hutchins-athletic-field/2026-04-28/
LOCATION:Hutchins Athletic Field\, 36753 N. Hutchins Rd.\, Gurnee\, IL\, United States
CATEGORIES:Rentals/Outside Facility
GEO:42.397312;-87.9857789
X-APPLE-STRUCTURED-LOCATION;VALUE=URI;X-ADDRESS=Hutchins Athletic Field 36753 N. Hutchins Rd. Gurnee IL United States;X-APPLE-RADIUS=500;X-TITLE=36753 N. Hutchins Rd.:geo:-87.9857789,42.397312
END:VEVENT
BEGIN:VEVENT
DTSTART;TZID=America/Chicago:20260428T190000
DTEND;TZID=America/Chicago:20260428T210000
DTSTAMP:20260422T035232
CREATED:20260127T203635Z
LAST-MODIFIED:20260127T203635Z
UID:10002643-1777402800-1777410000@www.grandwoodpark.net
SUMMARY:Lake County Coyotes Rugby - Hutchins Athletic Field
DESCRIPTION:Lake County Coyotes Rugby practice
URL:https://www.grandwoodpark.net/calendar/lake-county-coyotes-rugby-hutchins-athletic-field/2026-04-28/
LOCATION:Hutchins Athletic Field\, 36753 N. Hutchins Rd.\, Gurnee\, IL\, United States
CATEGORIES:Rentals/Outside Facility
GEO:42.397312;-87.9857789
X-APPLE-STRUCTURED-LOCATION;VALUE=URI;X-ADDRESS=Hutchins Athletic Field 36753 N. Hutchins Rd. Gurnee IL United States;X-APPLE-RADIUS=500;X-TITLE=36753 N. Hutchins Rd.:geo:-87.9857789,42.397312
END:VEVENT
BEGIN:VEVENT
DTSTART;TZID=America/Chicago:20260429T170000
DTEND;TZID=America/Chicago:20260429T203000
DTSTAMP:20260422T035232
CREATED:20260304T203457Z
LAST-MODIFIED:20260304T203457Z
UID:10002675-1777482000-1777494600@www.grandwoodpark.net
SUMMARY:LASC - Hutchins Athletic Field
DESCRIPTION:Lindenhurst Area Soccer Club
URL:https://www.grandwoodpark.net/calendar/lasc-hutchins-athletic-field-2/2026-04-29/
LOCATION:Hutchins Athletic Field\, 36753 N. Hutchins Rd.\, Gurnee\, IL\, United States
CATEGORIES:Rentals/Outside Facility
GEO:42.397312;-87.9857789
X-APPLE-STRUCTURED-LOCATION;VALUE=URI;X-ADDRESS=Hutchins Athletic Field 36753 N. Hutchins Rd. Gurnee IL United States;X-APPLE-RADIUS=500;X-TITLE=36753 N. Hutchins Rd.:geo:-87.9857789,42.397312
END:VEVENT
BEGIN:VEVENT
DTSTART;TZID=America/Chicago:20260430T170000
DTEND;TZID=America/Chicago:20260430T180000
DTSTAMP:20260422T035232
CREATED:20260127T202918Z
LAST-MODIFIED:20260127T202918Z
UID:10002603-1777568400-1777572000@www.grandwoodpark.net
SUMMARY:Lake County Youth Coyotes Rugby - Hutchins Athletic Field
DESCRIPTION:Lake County Youth Coyotes Rugby
URL:https://www.grandwoodpark.net/calendar/lake-county-youth-coyotes-rugby-hutchins-athletic-field/2026-04-30/
LOCATION:Hutchins Athletic Field\, 36753 N. Hutchins Rd.\, Gurnee\, IL\, United States
CATEGORIES:Rentals/Community Center
GEO:42.397312;-87.9857789
X-APPLE-STRUCTURED-LOCATION;VALUE=URI;X-ADDRESS=Hutchins Athletic Field 36753 N. Hutchins Rd. Gurnee IL United States;X-APPLE-RADIUS=500;X-TITLE=36753 N. Hutchins Rd.:geo:-87.9857789,42.397312
END:VEVENT
BEGIN:VEVENT
DTSTART;TZID=America/Chicago:20260430T180000
DTEND;TZID=America/Chicago:20260430T190000
DTSTAMP:20260422T035232
CREATED:20260127T203453Z
LAST-MODIFIED:20260127T203453Z
UID:10002626-1777572000-1777575600@www.grandwoodpark.net
SUMMARY:Lake County Lady Coyotes Rugby - Hutchins Athletic Field
DESCRIPTION:Lake County Lady Coyotes Rugby practice
URL:https://www.grandwoodpark.net/calendar/lake-county-lady-coyotes-rugby-hutchins-athletic-field/2026-04-30/
LOCATION:Hutchins Athletic Field\, 36753 N. Hutchins Rd.\, Gurnee\, IL\, United States
CATEGORIES:Rentals/Outside Facility
GEO:42.397312;-87.9857789
X-APPLE-STRUCTURED-LOCATION;VALUE=URI;X-ADDRESS=Hutchins Athletic Field 36753 N. Hutchins Rd. Gurnee IL United States;X-APPLE-RADIUS=500;X-TITLE=36753 N. Hutchins Rd.:geo:-87.9857789,42.397312
END:VEVENT
BEGIN:VEVENT
DTSTART;TZID=America/Chicago:20260430T190000
DTEND;TZID=America/Chicago:20260430T210000
DTSTAMP:20260422T035232
CREATED:20260127T203635Z
LAST-MODIFIED:20260127T203635Z
UID:10002644-1777575600-1777582800@www.grandwoodpark.net
SUMMARY:Lake County Coyotes Rugby - Hutchins Athletic Field
DESCRIPTION:Lake County Coyotes Rugby practice
URL:https://www.grandwoodpark.net/calendar/lake-county-coyotes-rugby-hutchins-athletic-field/2026-04-30/
LOCATION:Hutchins Athletic Field\, 36753 N. Hutchins Rd.\, Gurnee\, IL\, United States
CATEGORIES:Rentals/Outside Facility
GEO:42.397312;-87.9857789
X-APPLE-STRUCTURED-LOCATION;VALUE=URI;X-ADDRESS=Hutchins Athletic Field 36753 N. Hutchins Rd. Gurnee IL United States;X-APPLE-RADIUS=500;X-TITLE=36753 N. Hutchins Rd.:geo:-87.9857789,42.397312
END:VEVENT
BEGIN:VEVENT
DTSTART;TZID=America/Chicago:20260502T100000
DTEND;TZID=America/Chicago:20260502T110000
DTSTAMP:20260422T035232
CREATED:20260127T203132Z
LAST-MODIFIED:20260127T203132Z
UID:10002612-1777716000-1777719600@www.grandwoodpark.net
SUMMARY:Lake County Youth Coyotes Rugby - Hutchins Athletic Field
DESCRIPTION:Lake County Youth Coyotes Rugby
URL:https://www.grandwoodpark.net/calendar/lake-county-youth-coyotes-rugby-hutchins-athletic-field-2/2026-05-02/
LOCATION:Hutchins Athletic Field\, 36753 N. Hutchins Rd.\, Gurnee\, IL\, United States
CATEGORIES:Rentals/Outside Facility
GEO:42.397312;-87.9857789
X-APPLE-STRUCTURED-LOCATION;VALUE=URI;X-ADDRESS=Hutchins Athletic Field 36753 N. Hutchins Rd. Gurnee IL United States;X-APPLE-RADIUS=500;X-TITLE=36753 N. Hutchins Rd.:geo:-87.9857789,42.397312
END:VEVENT
BEGIN:VEVENT
DTSTART;TZID=America/Chicago:20260502T130000
DTEND;TZID=America/Chicago:20260502T150000
DTSTAMP:20260422T035232
CREATED:20260127T204006Z
LAST-MODIFIED:20260127T204006Z
UID:10002654-1777726800-1777734000@www.grandwoodpark.net
SUMMARY:Lake County Coyotes Rugby - Hutchins Athletic Field
DESCRIPTION:Lake County Coyotes Rugby match
URL:https://www.grandwoodpark.net/calendar/lake-county-coyotes-rugby-hutchins-athletic-field-2/2026-05-02/
LOCATION:Hutchins Athletic Field\, 36753 N. Hutchins Rd.\, Gurnee\, IL\, United States
CATEGORIES:Rentals/Outside Facility
GEO:42.397312;-87.9857789
X-APPLE-STRUCTURED-LOCATION;VALUE=URI;X-ADDRESS=Hutchins Athletic Field 36753 N. Hutchins Rd. Gurnee IL United States;X-APPLE-RADIUS=500;X-TITLE=36753 N. Hutchins Rd.:geo:-87.9857789,42.397312
END:VEVENT
BEGIN:VEVENT
DTSTART;TZID=America/Chicago:20260504T170000
DTEND;TZID=America/Chicago:20260504T203000
DTSTAMP:20260422T035232
CREATED:20260304T203457Z
LAST-MODIFIED:20260304T203457Z
UID:10002676-1777914000-1777926600@www.grandwoodpark.net
SUMMARY:LASC - Hutchins Athletic Field
DESCRIPTION:Lindenhurst Area Soccer Club
URL:https://www.grandwoodpark.net/calendar/lasc-hutchins-athletic-field-2/2026-05-04/
LOCATION:Hutchins Athletic Field\, 36753 N. Hutchins Rd.\, Gurnee\, IL\, United States
CATEGORIES:Rentals/Outside Facility
GEO:42.397312;-87.9857789
X-APPLE-STRUCTURED-LOCATION;VALUE=URI;X-ADDRESS=Hutchins Athletic Field 36753 N. Hutchins Rd. Gurnee IL United States;X-APPLE-RADIUS=500;X-TITLE=36753 N. Hutchins Rd.:geo:-87.9857789,42.397312
END:VEVENT
BEGIN:VEVENT
DTSTART;TZID=America/Chicago:20260505T170000
DTEND;TZID=America/Chicago:20260505T180000
DTSTAMP:20260422T035232
CREATED:20260127T202918Z
LAST-MODIFIED:20260127T202918Z
UID:10002604-1778000400-1778004000@www.grandwoodpark.net
SUMMARY:Lake County Youth Coyotes Rugby - Hutchins Athletic Field
DESCRIPTION:Lake County Youth Coyotes Rugby
URL:https://www.grandwoodpark.net/calendar/lake-county-youth-coyotes-rugby-hutchins-athletic-field/2026-05-05/
LOCATION:Hutchins Athletic Field\, 36753 N. Hutchins Rd.\, Gurnee\, IL\, United States
CATEGORIES:Rentals/Community Center
GEO:42.397312;-87.9857789
X-APPLE-STRUCTURED-LOCATION;VALUE=URI;X-ADDRESS=Hutchins Athletic Field 36753 N. Hutchins Rd. Gurnee IL United States;X-APPLE-RADIUS=500;X-TITLE=36753 N. Hutchins Rd.:geo:-87.9857789,42.397312
END:VEVENT
BEGIN:VEVENT
DTSTART;TZID=America/Chicago:20260505T180000
DTEND;TZID=America/Chicago:20260505T190000
DTSTAMP:20260422T035232
CREATED:20260127T203453Z
LAST-MODIFIED:20260127T203453Z
UID:10002627-1778004000-1778007600@www.grandwoodpark.net
SUMMARY:Lake County Lady Coyotes Rugby - Hutchins Athletic Field
DESCRIPTION:Lake County Lady Coyotes Rugby practice
URL:https://www.grandwoodpark.net/calendar/lake-county-lady-coyotes-rugby-hutchins-athletic-field/2026-05-05/
LOCATION:Hutchins Athletic Field\, 36753 N. Hutchins Rd.\, Gurnee\, IL\, United States
CATEGORIES:Rentals/Outside Facility
GEO:42.397312;-87.9857789
X-APPLE-STRUCTURED-LOCATION;VALUE=URI;X-ADDRESS=Hutchins Athletic Field 36753 N. Hutchins Rd. Gurnee IL United States;X-APPLE-RADIUS=500;X-TITLE=36753 N. Hutchins Rd.:geo:-87.9857789,42.397312
END:VEVENT
BEGIN:VEVENT
DTSTART;TZID=America/Chicago:20260505T190000
DTEND;TZID=America/Chicago:20260505T210000
DTSTAMP:20260422T035232
CREATED:20260127T203635Z
LAST-MODIFIED:20260127T203635Z
UID:10002645-1778007600-1778014800@www.grandwoodpark.net
SUMMARY:Lake County Coyotes Rugby - Hutchins Athletic Field
DESCRIPTION:Lake County Coyotes Rugby practice
URL:https://www.grandwoodpark.net/calendar/lake-county-coyotes-rugby-hutchins-athletic-field/2026-05-05/
LOCATION:Hutchins Athletic Field\, 36753 N. Hutchins Rd.\, Gurnee\, IL\, United States
CATEGORIES:Rentals/Outside Facility
GEO:42.397312;-87.9857789
X-APPLE-STRUCTURED-LOCATION;VALUE=URI;X-ADDRESS=Hutchins Athletic Field 36753 N. Hutchins Rd. Gurnee IL United States;X-APPLE-RADIUS=500;X-TITLE=36753 N. Hutchins Rd.:geo:-87.9857789,42.397312
END:VEVENT
BEGIN:VEVENT
DTSTART;TZID=America/Chicago:20260506T170000
DTEND;TZID=America/Chicago:20260506T203000
DTSTAMP:20260422T035232
CREATED:20260304T203457Z
LAST-MODIFIED:20260304T203457Z
UID:10002677-1778086800-1778099400@www.grandwoodpark.net
SUMMARY:LASC - Hutchins Athletic Field
DESCRIPTION:Lindenhurst Area Soccer Club
URL:https://www.grandwoodpark.net/calendar/lasc-hutchins-athletic-field-2/2026-05-06/
LOCATION:Hutchins Athletic Field\, 36753 N. Hutchins Rd.\, Gurnee\, IL\, United States
CATEGORIES:Rentals/Outside Facility
GEO:42.397312;-87.9857789
X-APPLE-STRUCTURED-LOCATION;VALUE=URI;X-ADDRESS=Hutchins Athletic Field 36753 N. Hutchins Rd. Gurnee IL United States;X-APPLE-RADIUS=500;X-TITLE=36753 N. Hutchins Rd.:geo:-87.9857789,42.397312
END:VEVENT
BEGIN:VEVENT
DTSTART;TZID=America/Chicago:20260507T170000
DTEND;TZID=America/Chicago:20260507T180000
DTSTAMP:20260422T035232
CREATED:20260127T202918Z
LAST-MODIFIED:20260127T202918Z
UID:10002605-1778173200-1778176800@www.grandwoodpark.net
SUMMARY:Lake County Youth Coyotes Rugby - Hutchins Athletic Field
DESCRIPTION:Lake County Youth Coyotes Rugby
URL:https://www.grandwoodpark.net/calendar/lake-county-youth-coyotes-rugby-hutchins-athletic-field/2026-05-07/
LOCATION:Hutchins Athletic Field\, 36753 N. Hutchins Rd.\, Gurnee\, IL\, United States
CATEGORIES:Rentals/Community Center
GEO:42.397312;-87.9857789
X-APPLE-STRUCTURED-LOCATION;VALUE=URI;X-ADDRESS=Hutchins Athletic Field 36753 N. Hutchins Rd. Gurnee IL United States;X-APPLE-RADIUS=500;X-TITLE=36753 N. Hutchins Rd.:geo:-87.9857789,42.397312
END:VEVENT
BEGIN:VEVENT
DTSTART;TZID=America/Chicago:20260507T180000
DTEND;TZID=America/Chicago:20260507T190000
DTSTAMP:20260422T035232
CREATED:20260127T203453Z
LAST-MODIFIED:20260127T203453Z
UID:10002628-1778176800-1778180400@www.grandwoodpark.net
SUMMARY:Lake County Lady Coyotes Rugby - Hutchins Athletic Field
DESCRIPTION:Lake County Lady Coyotes Rugby practice
URL:https://www.grandwoodpark.net/calendar/lake-county-lady-coyotes-rugby-hutchins-athletic-field/2026-05-07/
LOCATION:Hutchins Athletic Field\, 36753 N. Hutchins Rd.\, Gurnee\, IL\, United States
CATEGORIES:Rentals/Outside Facility
GEO:42.397312;-87.9857789
X-APPLE-STRUCTURED-LOCATION;VALUE=URI;X-ADDRESS=Hutchins Athletic Field 36753 N. Hutchins Rd. Gurnee IL United States;X-APPLE-RADIUS=500;X-TITLE=36753 N. Hutchins Rd.:geo:-87.9857789,42.397312
END:VEVENT
BEGIN:VEVENT
DTSTART;TZID=America/Chicago:20260507T190000
DTEND;TZID=America/Chicago:20260507T210000
DTSTAMP:20260422T035232
CREATED:20260127T203635Z
LAST-MODIFIED:20260127T203635Z
UID:10002646-1778180400-1778187600@www.grandwoodpark.net
SUMMARY:Lake County Coyotes Rugby - Hutchins Athletic Field
DESCRIPTION:Lake County Coyotes Rugby practice
URL:https://www.grandwoodpark.net/calendar/lake-county-coyotes-rugby-hutchins-athletic-field/2026-05-07/
LOCATION:Hutchins Athletic Field\, 36753 N. Hutchins Rd.\, Gurnee\, IL\, United States
CATEGORIES:Rentals/Outside Facility
GEO:42.397312;-87.9857789
X-APPLE-STRUCTURED-LOCATION;VALUE=URI;X-ADDRESS=Hutchins Athletic Field 36753 N. Hutchins Rd. Gurnee IL United States;X-APPLE-RADIUS=500;X-TITLE=36753 N. Hutchins Rd.:geo:-87.9857789,42.397312
END:VEVENT
BEGIN:VEVENT
DTSTART;TZID=America/Chicago:20260509T100000
DTEND;TZID=America/Chicago:20260509T110000
DTSTAMP:20260422T035232
CREATED:20260127T203132Z
LAST-MODIFIED:20260127T203132Z
UID:10002613-1778320800-1778324400@www.grandwoodpark.net
SUMMARY:Lake County Youth Coyotes Rugby - Hutchins Athletic Field
DESCRIPTION:Lake County Youth Coyotes Rugby
URL:https://www.grandwoodpark.net/calendar/lake-county-youth-coyotes-rugby-hutchins-athletic-field-2/2026-05-09/
LOCATION:Hutchins Athletic Field\, 36753 N. Hutchins Rd.\, Gurnee\, IL\, United States
CATEGORIES:Rentals/Outside Facility
GEO:42.397312;-87.9857789
X-APPLE-STRUCTURED-LOCATION;VALUE=URI;X-ADDRESS=Hutchins Athletic Field 36753 N. Hutchins Rd. Gurnee IL United States;X-APPLE-RADIUS=500;X-TITLE=36753 N. Hutchins Rd.:geo:-87.9857789,42.397312
END:VEVENT
BEGIN:VEVENT
DTSTART;TZID=America/Chicago:20260509T130000
DTEND;TZID=America/Chicago:20260509T150000
DTSTAMP:20260422T035232
CREATED:20260127T204006Z
LAST-MODIFIED:20260127T204006Z
UID:10002655-1778331600-1778338800@www.grandwoodpark.net
SUMMARY:Lake County Coyotes Rugby - Hutchins Athletic Field
DESCRIPTION:Lake County Coyotes Rugby match
URL:https://www.grandwoodpark.net/calendar/lake-county-coyotes-rugby-hutchins-athletic-field-2/2026-05-09/
LOCATION:Hutchins Athletic Field\, 36753 N. Hutchins Rd.\, Gurnee\, IL\, United States
CATEGORIES:Rentals/Outside Facility
GEO:42.397312;-87.9857789
X-APPLE-STRUCTURED-LOCATION;VALUE=URI;X-ADDRESS=Hutchins Athletic Field 36753 N. Hutchins Rd. Gurnee IL United States;X-APPLE-RADIUS=500;X-TITLE=36753 N. Hutchins Rd.:geo:-87.9857789,42.397312
END:VEVENT
BEGIN:VEVENT
DTSTART;TZID=America/Chicago:20260511T170000
DTEND;TZID=America/Chicago:20260511T203000
DTSTAMP:20260422T035232
CREATED:20260304T203457Z
LAST-MODIFIED:20260304T203457Z
UID:10002678-1778518800-1778531400@www.grandwoodpark.net
SUMMARY:LASC - Hutchins Athletic Field
DESCRIPTION:Lindenhurst Area Soccer Club
URL:https://www.grandwoodpark.net/calendar/lasc-hutchins-athletic-field-2/2026-05-11/
LOCATION:Hutchins Athletic Field\, 36753 N. Hutchins Rd.\, Gurnee\, IL\, United States
CATEGORIES:Rentals/Outside Facility
GEO:42.397312;-87.9857789
X-APPLE-STRUCTURED-LOCATION;VALUE=URI;X-ADDRESS=Hutchins Athletic Field 36753 N. Hutchins Rd. Gurnee IL United States;X-APPLE-RADIUS=500;X-TITLE=36753 N. Hutchins Rd.:geo:-87.9857789,42.397312
END:VEVENT
BEGIN:VEVENT
DTSTART;TZID=America/Chicago:20260512T170000
DTEND;TZID=America/Chicago:20260512T180000
DTSTAMP:20260422T035232
CREATED:20260127T202918Z
LAST-MODIFIED:20260127T202918Z
UID:10002606-1778605200-1778608800@www.grandwoodpark.net
SUMMARY:Lake County Youth Coyotes Rugby - Hutchins Athletic Field
DESCRIPTION:Lake County Youth Coyotes Rugby
URL:https://www.grandwoodpark.net/calendar/lake-county-youth-coyotes-rugby-hutchins-athletic-field/2026-05-12/
LOCATION:Hutchins Athletic Field\, 36753 N. Hutchins Rd.\, Gurnee\, IL\, United States
CATEGORIES:Rentals/Community Center
GEO:42.397312;-87.9857789
X-APPLE-STRUCTURED-LOCATION;VALUE=URI;X-ADDRESS=Hutchins Athletic Field 36753 N. Hutchins Rd. Gurnee IL United States;X-APPLE-RADIUS=500;X-TITLE=36753 N. Hutchins Rd.:geo:-87.9857789,42.397312
END:VEVENT
BEGIN:VEVENT
DTSTART;TZID=America/Chicago:20260512T180000
DTEND;TZID=America/Chicago:20260512T190000
DTSTAMP:20260422T035232
CREATED:20260127T203453Z
LAST-MODIFIED:20260127T203453Z
UID:10002629-1778608800-1778612400@www.grandwoodpark.net
SUMMARY:Lake County Lady Coyotes Rugby - Hutchins Athletic Field
DESCRIPTION:Lake County Lady Coyotes Rugby practice
URL:https://www.grandwoodpark.net/calendar/lake-county-lady-coyotes-rugby-hutchins-athletic-field/2026-05-12/
LOCATION:Hutchins Athletic Field\, 36753 N. Hutchins Rd.\, Gurnee\, IL\, United States
CATEGORIES:Rentals/Outside Facility
GEO:42.397312;-87.9857789
X-APPLE-STRUCTURED-LOCATION;VALUE=URI;X-ADDRESS=Hutchins Athletic Field 36753 N. Hutchins Rd. Gurnee IL United States;X-APPLE-RADIUS=500;X-TITLE=36753 N. Hutchins Rd.:geo:-87.9857789,42.397312
END:VEVENT
BEGIN:VEVENT
DTSTART;TZID=America/Chicago:20260512T190000
DTEND;TZID=America/Chicago:20260512T210000
DTSTAMP:20260422T035232
CREATED:20260127T203635Z
LAST-MODIFIED:20260127T203635Z
UID:10002647-1778612400-1778619600@www.grandwoodpark.net
SUMMARY:Lake County Coyotes Rugby - Hutchins Athletic Field
DESCRIPTION:Lake County Coyotes Rugby practice
URL:https://www.grandwoodpark.net/calendar/lake-county-coyotes-rugby-hutchins-athletic-field/2026-05-12/
LOCATION:Hutchins Athletic Field\, 36753 N. Hutchins Rd.\, Gurnee\, IL\, United States
CATEGORIES:Rentals/Outside Facility
GEO:42.397312;-87.9857789
X-APPLE-STRUCTURED-LOCATION;VALUE=URI;X-ADDRESS=Hutchins Athletic Field 36753 N. Hutchins Rd. Gurnee IL United States;X-APPLE-RADIUS=500;X-TITLE=36753 N. Hutchins Rd.:geo:-87.9857789,42.397312
END:VEVENT
END:VCALENDAR