BEGIN:VCALENDAR
VERSION:2.0
PRODID:-//Grandwood Park Park District - ECPv6.15.19//NONSGML v1.0//EN
CALSCALE:GREGORIAN
METHOD:PUBLISH
X-WR-CALNAME:Grandwood Park Park District
X-ORIGINAL-URL:https://www.grandwoodpark.net
X-WR-CALDESC:Events for Grandwood Park Park District
REFRESH-INTERVAL;VALUE=DURATION:PT1H
X-Robots-Tag:noindex
X-PUBLISHED-TTL:PT1H
BEGIN:VTIMEZONE
TZID:America/Chicago
BEGIN:DAYLIGHT
TZOFFSETFROM:-0600
TZOFFSETTO:-0500
TZNAME:CDT
DTSTART:20220313T080000
END:DAYLIGHT
BEGIN:STANDARD
TZOFFSETFROM:-0500
TZOFFSETTO:-0600
TZNAME:CST
DTSTART:20221106T070000
END:STANDARD
BEGIN:DAYLIGHT
TZOFFSETFROM:-0600
TZOFFSETTO:-0500
TZNAME:CDT
DTSTART:20230312T080000
END:DAYLIGHT
BEGIN:STANDARD
TZOFFSETFROM:-0500
TZOFFSETTO:-0600
TZNAME:CST
DTSTART:20231105T070000
END:STANDARD
BEGIN:DAYLIGHT
TZOFFSETFROM:-0600
TZOFFSETTO:-0500
TZNAME:CDT
DTSTART:20240310T080000
END:DAYLIGHT
BEGIN:STANDARD
TZOFFSETFROM:-0500
TZOFFSETTO:-0600
TZNAME:CST
DTSTART:20241103T070000
END:STANDARD
BEGIN:DAYLIGHT
TZOFFSETFROM:-0600
TZOFFSETTO:-0500
TZNAME:CDT
DTSTART:20250309T080000
END:DAYLIGHT
BEGIN:STANDARD
TZOFFSETFROM:-0500
TZOFFSETTO:-0600
TZNAME:CST
DTSTART:20251102T070000
END:STANDARD
END:VTIMEZONE
BEGIN:VEVENT
DTSTART;TZID=America/Chicago:20240811T160000
DTEND;TZID=America/Chicago:20240811T180000
DTSTAMP:20260422T053116
CREATED:20231214T222044Z
LAST-MODIFIED:20240322T204333Z
UID:10000981-1723392000-1723399200@www.grandwoodpark.net
SUMMARY:Music By The Lake
DESCRIPTION:Our summer concert series continues in 2024. Concerts are held on Sunday evenings from 4:00-6:00pm in Lake Park. Bring your lawn chair or blanket\, picnic dinner – or buy dinner from one of our food trucks – and enjoy the company of friends and family while listening to some great music!! \nBand: ATK Band \nFood Trucks: La Humita Desserts (sweets)\nZhel’s Kitchen (Filipino) \n  \n(subject to change)
URL:https://www.grandwoodpark.net/calendar/music-by-the-lake-11/
LOCATION:Lake Park\, 36329 N. Grandwood Dr.\, Gurnee\, IL\, 60031\, United States
CATEGORIES:Community Events
END:VEVENT
BEGIN:VEVENT
DTSTART;TZID=America/Chicago:20240728T160000
DTEND;TZID=America/Chicago:20240728T180000
DTSTAMP:20260422T053116
CREATED:20231214T221342Z
LAST-MODIFIED:20240322T203856Z
UID:10000980-1722182400-1722189600@www.grandwoodpark.net
SUMMARY:Music By The Lake
DESCRIPTION:Our summer concert series continues in 2024. Concerts are held on Sunday evenings from 4:00-6:00pm in Lake Park. Bring your lawn chair or blanket\, picnic dinner – or buy dinner from one of our food trucks – and enjoy the company of friends and family while listening to some great music!! \nBand: Acoustic Generation \nFood Trucks: Tropical Chill Shaved Hawaiian Ice & Ice Cream\nBilly Bricks (Pizza) \n  \n(subject to change)
URL:https://www.grandwoodpark.net/calendar/music-by-the-lake-10/
LOCATION:Lake Park\, 36329 N. Grandwood Dr.\, Gurnee\, IL\, 60031\, United States
CATEGORIES:Community Events
END:VEVENT
BEGIN:VEVENT
DTSTART;TZID=America/Chicago:20240714T160000
DTEND;TZID=America/Chicago:20240714T180000
DTSTAMP:20260422T053116
CREATED:20231214T221201Z
LAST-MODIFIED:20240322T203458Z
UID:10000979-1720972800-1720980000@www.grandwoodpark.net
SUMMARY:Music By The Lake
DESCRIPTION:Our summer concert series continues in 2024. Concerts are held on Sunday evenings from 4:00-6:00pm in Lake Park. Bring your lawn chair or blanket\, picnic dinner – or buy dinner from one of our food trucks – and enjoy the company of friends and family while listening to some great music!! \nBand: Black Frog n Diva \nFood Trucks: Ingrid’s Tasty Treats (sweets)\nRots Hot Shot Truck (hot dogs) \n  \n(subject to change)
URL:https://www.grandwoodpark.net/calendar/music-by-the-lake-9/
LOCATION:Lake Park\, 36329 N. Grandwood Dr.\, Gurnee\, IL\, 60031\, United States
END:VEVENT
BEGIN:VEVENT
DTSTART;TZID=America/Chicago:20240623T160000
DTEND;TZID=America/Chicago:20240623T180000
DTSTAMP:20260422T053116
CREATED:20231214T220951Z
LAST-MODIFIED:20240614T203842Z
UID:10000978-1719158400-1719165600@www.grandwoodpark.net
SUMMARY:Music By The Lake
DESCRIPTION:Our summer concert series continues in 2024. Concerts are held on Sunday evenings from 4:00-6:00pm in Lake Park. Bring your lawn chair or blanket\, buy dinner from one of our food trucks – and enjoy the company of friends and family while listening to some great music!! \nBand: Joe Cantafio\, Acoustic Rock ‘n Roll \nFood Trucks: Tropical Chill Hawaiian Shaved Ice & Ice Cream\nTacomotora (Tacos) \n  \n(subject to change)
URL:https://www.grandwoodpark.net/calendar/music-by-the-lake-8/
LOCATION:Lake Park\, 36329 N. Grandwood Dr.\, Gurnee\, IL\, 60031\, United States
CATEGORIES:Community Events
END:VEVENT
BEGIN:VEVENT
DTSTART;TZID=America/Chicago:20240609T160000
DTEND;TZID=America/Chicago:20240609T180000
DTSTAMP:20260422T053116
CREATED:20231214T220854Z
LAST-MODIFIED:20240322T201513Z
UID:10000977-1717948800-1717956000@www.grandwoodpark.net
SUMMARY:Music By The Lake
DESCRIPTION:Our summer concert series continues in 2024. Concerts are held on Sunday evenings from 4:00-6:00pm in Lake Park. Bring your lawn chair or blanket\, picnic dinner – or buy dinner from one of our food trucks – and enjoy the company of friends and family while listening to some great music!! \nBand: Uptown Shake Down \nFood Trucks:  La Humita Desserts\nThe Lumpia Lady (Filipino) \n  \n(subject to change)
URL:https://www.grandwoodpark.net/calendar/music-by-the-lake-7/
LOCATION:Lake Park\, 36329 N. Grandwood Dr.\, Gurnee\, IL\, 60031\, United States
CATEGORIES:Community Events
END:VEVENT
BEGIN:VEVENT
DTSTART;TZID=America/Chicago:20230813T160000
DTEND;TZID=America/Chicago:20230813T180000
DTSTAMP:20260422T053116
CREATED:20221025T220635Z
LAST-MODIFIED:20230718T211106Z
UID:10000698-1691942400-1691949600@www.grandwoodpark.net
SUMMARY:Music by the Lake
DESCRIPTION:Black Frog n Diva \nThe Ultimate Duo: BFnD (Black Frog n Diva) recreates the artistry of great shows simply known as Fred & Ginger\, Louie & Ella\, Marvin & Tammi\, and Celine and Peabo. Darryl and Sonja are committed to a complete entertainment experience that includes sensational singing\, choreography\, wardrobe\, and audience engagement. Darryl and Sonja have been singing together for years with various bands\, and discovered that audiences could not get enough of the duets that they performed. This realization led to the creation of BFnD\, a magical experience for their adoring fans! \nFood Trucks scheduled: Saucy Kat and Tropical Chill Hawaiian Shaved Ice & Ice Cream
URL:https://www.grandwoodpark.net/calendar/music-by-the-lake-3/
LOCATION:Lake Park\, 36329 N. Grandwood Dr.\, Gurnee\, IL\, 60031\, United States
CATEGORIES:Community Events
END:VEVENT
BEGIN:VEVENT
DTSTART;TZID=America/Chicago:20230806T160000
DTEND;TZID=America/Chicago:20230806T180000
DTSTAMP:20260422T053116
CREATED:20221025T220904Z
LAST-MODIFIED:20230525T230806Z
UID:10000701-1691337600-1691344800@www.grandwoodpark.net
SUMMARY:Music by the Lake
DESCRIPTION:Strat and Taylor will perform \n  \nFood Trucks Scheduled:   Saucy Kat and Tropical Chill Hawaiian Shaved Ice & Ice Cream
URL:https://www.grandwoodpark.net/calendar/music-by-the-lake-6/
LOCATION:Lake Park\, 36329 N. Grandwood Dr.\, Gurnee\, IL\, 60031\, United States
CATEGORIES:Community Events
END:VEVENT
BEGIN:VEVENT
DTSTART;TZID=America/Chicago:20230709T160000
DTEND;TZID=America/Chicago:20230709T180000
DTSTAMP:20260422T053116
CREATED:20221025T220724Z
LAST-MODIFIED:20230525T230635Z
UID:10000699-1688918400-1688925600@www.grandwoodpark.net
SUMMARY:Music by the Lake
DESCRIPTION:Mike & Mike Blues Duo will perform – blues songs with instrumental and vocal selections. \nFood trucks scheduled: Up in Smoke Creations and Ingrid’s Tasty Treats
URL:https://www.grandwoodpark.net/calendar/music-by-the-lake-4/
LOCATION:Lake Park\, 36329 N. Grandwood Dr.\, Gurnee\, IL\, 60031\, United States
CATEGORIES:Community Events
END:VEVENT
BEGIN:VEVENT
DTSTART;TZID=America/Chicago:20230611T160000
DTEND;TZID=America/Chicago:20230611T180000
DTSTAMP:20260422T053116
CREATED:20221025T220534Z
LAST-MODIFIED:20230525T230441Z
UID:10000697-1686499200-1686506400@www.grandwoodpark.net
SUMMARY:Music by the Lake
DESCRIPTION:One of Grandwood Park’s favorites\, ACME MUSIC BAND will be performing – Upbeat rock and roll hits from the 60’s and 70’s! \n  \nScheduled food trucks: \nArnold’s Tacos and Tropical Chill Hawaiian Shaved Ice & Ice Cream
URL:https://www.grandwoodpark.net/calendar/music-by-the-lake-2/
LOCATION:Lake Park\, 36329 N. Grandwood Dr.\, Gurnee\, IL\, 60031\, United States
CATEGORIES:Community Events
END:VEVENT
END:VCALENDAR